BEGIN:VCALENDAR
VERSION:2.0
PRODID:-//Art In Ottawa - ECPv6.15.20//NONSGML v1.0//EN
CALSCALE:GREGORIAN
METHOD:PUBLISH
X-ORIGINAL-URL:https://artinottawa.org
X-WR-CALDESC:Events for Art In Ottawa
REFRESH-INTERVAL;VALUE=DURATION:PT1H
X-Robots-Tag:noindex
X-PUBLISHED-TTL:PT1H
BEGIN:VTIMEZONE
TZID:America/Toronto
BEGIN:DAYLIGHT
TZOFFSETFROM:-0500
TZOFFSETTO:-0400
TZNAME:EDT
DTSTART:20240310T070000
END:DAYLIGHT
BEGIN:STANDARD
TZOFFSETFROM:-0400
TZOFFSETTO:-0500
TZNAME:EST
DTSTART:20241103T060000
END:STANDARD
BEGIN:DAYLIGHT
TZOFFSETFROM:-0500
TZOFFSETTO:-0400
TZNAME:EDT
DTSTART:20250309T070000
END:DAYLIGHT
BEGIN:STANDARD
TZOFFSETFROM:-0400
TZOFFSETTO:-0500
TZNAME:EST
DTSTART:20251102T060000
END:STANDARD
BEGIN:DAYLIGHT
TZOFFSETFROM:-0500
TZOFFSETTO:-0400
TZNAME:EDT
DTSTART:20260308T070000
END:DAYLIGHT
BEGIN:STANDARD
TZOFFSETFROM:-0400
TZOFFSETTO:-0500
TZNAME:EST
DTSTART:20261101T060000
END:STANDARD
BEGIN:DAYLIGHT
TZOFFSETFROM:-0500
TZOFFSETTO:-0400
TZNAME:EDT
DTSTART:20270314T070000
END:DAYLIGHT
BEGIN:STANDARD
TZOFFSETFROM:-0400
TZOFFSETTO:-0500
TZNAME:EST
DTSTART:20271107T060000
END:STANDARD
END:VTIMEZONE
BEGIN:VEVENT
DTSTART;VALUE=DATE:20250617
DTEND;VALUE=DATE:20260520
DTSTAMP:20260424T031944
CREATED:20250611T213214Z
LAST-MODIFIED:20250611T213214Z
UID:3791-1750118400-1779235199@artinottawa.org
SUMMARY:Resistant Fibres
DESCRIPTION:Resistant Fibres\, curated by Julie Graff\, presents 18 textile and fibre works of art from the Canada Council Art Bank collection by artists who use this medium as a powerful tool for protest\, resistance\, celebration\, joy and healing.
URL:https://artinottawa.org/event/resistant-fibres/
LOCATION:Âjagemô art space\, 150 Elgin St.\, Ottawa\, ON\, K2P 2P8\, Canada
CATEGORIES:Art Show
ATTACH;FMTTYPE=image/jpeg:https://artinottawa.org/wp-content/uploads/2025/06/Resistant-Fibres.jpg
END:VEVENT
BEGIN:VEVENT
DTSTART;VALUE=DATE:20250618
DTEND;VALUE=DATE:20251014
DTSTAMP:20260424T031944
CREATED:20250619T034701Z
LAST-MODIFIED:20250619T034701Z
UID:3797-1750204800-1760399999@artinottawa.org
SUMMARY:Erica Rutherford: Her Lives and Works
DESCRIPTION:This exhibition surveys the fascinating and multifaceted career of Erica Rutherford (b. Edinburgh\, 1923 – d. Charlottetown\, 2008)\, whose work explores themes of persona and gender\, home and landscape\, and whose life was shaped by the search for identity and community. \nThe show includes over 100 works\, accompanied by memorabilia and photographs that support the stories told by the work itself. Erica Rutherford was the first Prince Edward Island artist to be featured at the prestigious La Biennale di Venezia. The 60th edition of the international art exhibition\, on view from April to November 2024\, showcased five paintings by Rutherford. \nCurated by Pan Wendt. Organized by Confederation Centre Art Gallery in collaboration with the National Gallery of Canada.
URL:https://artinottawa.org/event/erica-rutherford-her-lives-and-works/
LOCATION:National Gallery of Canada\, 380 Sussex Drive\, Ottawa\, ON\, K1N 9N4\, Canada
CATEGORIES:Art Exhibition
ATTACH;FMTTYPE=image/jpeg:https://artinottawa.org/wp-content/uploads/2025/06/Erica-Rutherford-Her-Lives-and-Works.jpg
ORGANIZER;CN="National Gallery of Canada":MAILTO:info@gallery.ca
END:VEVENT
BEGIN:VEVENT
DTSTART;VALUE=DATE:20250618
DTEND;VALUE=DATE:20260602
DTSTAMP:20260424T031944
CREATED:20250619T035933Z
LAST-MODIFIED:20250619T035933Z
UID:3806-1750204800-1780358399@artinottawa.org
SUMMARY:Focus Series
DESCRIPTION:The Focus Series is an ongoing partnership between Library and Archives Canada and the National Gallery of Canada\, building on the rich collections of both institutions. \nFocus on the Métis — A103 Corridor and A103a\nA special collaboration that examines how early images of the Métis are often misidentified or not referenced at all. A careful look at details in historical art and photographs reveals that the Métis are often “hiding in plain sight.” \nPictorialism — A104a\nThe predominant aesthetic in photography throughout the first half of the twentieth century was pictorialism. \nWork is art/Art is work — A109a\nThis installation examines the various ways artists responded to the critical issues of the Depression era. \nPoints of View: Photography in the North — A111a\nDocumentary photographer Pamela Harris recorded community life in Taloyoak\, Nunavut (then Spence Bay\, NWT) for three months in 1972 and 1973 (published as Another Way of Being). Her photographs appear both casual and staged\, the resulting photographic sessions respectfully engaging two cultures and important considerations such as the agency and self-representation of Inuit.
URL:https://artinottawa.org/event/focus-series/
LOCATION:National Gallery of Canada\, 380 Sussex Drive\, Ottawa\, ON\, K1N 9N4\, Canada
CATEGORIES:Art Exhibition
ATTACH;FMTTYPE=image/jpeg:https://artinottawa.org/wp-content/uploads/2025/06/focus.jpg
ORGANIZER;CN="National Gallery of Canada":MAILTO:info@gallery.ca
END:VEVENT
BEGIN:VEVENT
DTSTART;VALUE=DATE:20250731
DTEND;VALUE=DATE:20251003
DTSTAMP:20260424T031944
CREATED:20250804T143146Z
LAST-MODIFIED:20250804T143146Z
UID:3853-1753920000-1759449599@artinottawa.org
SUMMARY:Visual Dreams
DESCRIPTION:A small art show at St. Laurent Complex featuring 4 local artists: Stephanie Moscrip\, Elena Nahum Leroy\, Sue Daugherty\, and Binita Thapa.
URL:https://artinottawa.org/event/visual-dreams/
LOCATION:St-Laurent Complex\, 525 Coté St\, Ottawa\, ON\, K1K 0Z8\, Canada
CATEGORIES:Art Show
ATTACH;FMTTYPE=image/jpeg:https://artinottawa.org/wp-content/uploads/2025/08/Visual-Dreams.jpg
ORGANIZER;CN="Arteast Ottawa":MAILTO:contactus@arteastottawa.com
END:VEVENT
BEGIN:VEVENT
DTSTART;VALUE=DATE:20250731
DTEND;VALUE=DATE:20251008
DTSTAMP:20260424T031944
CREATED:20250804T140708Z
LAST-MODIFIED:20250804T140708Z
UID:3841-1753920000-1759881599@artinottawa.org
SUMMARY:Explorations at Rendezvous Arteast
DESCRIPTION:A new art show by the Arteast association at Shenkman Art Centre.
URL:https://artinottawa.org/event/explorations-at-rendezvous-arteast/
LOCATION:Shenkman Arts Centre\, 245 Centrum Blvd\, Orléans\, ON\, K1E 0A1\, Canada
CATEGORIES:Art Show
ATTACH;FMTTYPE=image/jpeg:https://artinottawa.org/wp-content/uploads/2025/08/Rendezvous.jpg
ORGANIZER;CN="Arteast Ottawa":MAILTO:contactus@arteastottawa.com
END:VEVENT
BEGIN:VEVENT
DTSTART;VALUE=DATE:20250823
DTEND;VALUE=DATE:20251027
DTSTAMP:20260424T031944
CREATED:20250905T221300Z
LAST-MODIFIED:20250905T221300Z
UID:3916-1755907200-1761523199@artinottawa.org
SUMMARY:Dialogue avec la Nature
DESCRIPTION:L’exposition sera présentée à la Galerie Montcalm\, du 23 août au 05 octobre 2025. \nLà où il n’y a rien\, il y a quelque chose.\nQuelque chose qui a une énergie. Et ça peut être beau et harmonieux. \nLà où un projet se développe\, il y a de la place pour du rêve. \nLa nature fournit des formes et des lignes qui peuvent devenir des passages\, des transformations et des\napprentissages…
URL:https://artinottawa.org/event/dialogue-avec-la-nature/
LOCATION:Galerie Montcalm\, 25 Laurier St\, Gatineau\, Quebec\, J8X 3Y9\, Canada
CATEGORIES:Art Show
ATTACH;FMTTYPE=image/jpeg:https://artinottawa.org/wp-content/uploads/2025/09/Dialogue-avec-la-Nature.jpg
END:VEVENT
BEGIN:VEVENT
DTSTART;VALUE=DATE:20250827
DTEND;VALUE=DATE:20251013
DTSTAMP:20260424T031944
CREATED:20250804T141958Z
LAST-MODIFIED:20250804T141958Z
UID:3850-1756252800-1760313599@artinottawa.org
SUMMARY:Les forces de la nature
DESCRIPTION:An annual art show by Arts visuels de Gatineau. A nice group show of local artists.
URL:https://artinottawa.org/event/les-forces-de-la-nature/
LOCATION:Espace Pierre-Debain\, 120 Principale St\, Gatineau\, QC\, J9H 3M3\, Canada
CATEGORIES:Art Show
ATTACH;FMTTYPE=image/jpeg:https://artinottawa.org/wp-content/uploads/2025/08/Les-forces-de-la-nature.jpg
ORGANIZER;CN="Arts visuels de Gatineau":MAILTO:bonjour@artsvisuelsgatineau.com
END:VEVENT
BEGIN:VEVENT
DTSTART;VALUE=DATE:20250908
DTEND;VALUE=DATE:20251026
DTSTAMP:20260424T031944
CREATED:20250905T214734Z
LAST-MODIFIED:20250905T214734Z
UID:3903-1757289600-1761436799@artinottawa.org
SUMMARY:Conversations\, ACP
DESCRIPTION:Art Show Conversations at Art Hub – Carleton PlaceWhere creativity meets community \nJoin us at Art Hub in Carleton Place for an inspiring series of art show conversations—an open space where artists\, makers\, and art lovers come together to share ideas\, stories\, and perspectives. \nMore than just an exhibition\, this event is a celebration of creative dialogue. Wander through the gallery\, explore bold artworks\, and engage in meaningful conversations with the artists behind them. Whether you’re a seasoned collector\, a fellow creative\, or simply curious\, these discussions offer a rare opportunity to connect deeply with the process\, passion\, and purpose behind the art. \nFrom technique and inspiration to the themes that shape our world\, every conversation is a chance to see through another lens—and to be seen in return. \nLet art spark your thoughts. Let conversation give them voice.Discover. Connect. Be inspired.
URL:https://artinottawa.org/event/conversations-acp/
LOCATION:Art Hub (127 Bridge St.)\, 127 Bridge Street\, Carleton Place\, ON\, K7C 2V6\, Canada
CATEGORIES:Art Show
ATTACH;FMTTYPE=image/jpeg:https://artinottawa.org/wp-content/uploads/2025/09/Conversations.jpg
END:VEVENT
BEGIN:VEVENT
DTSTART;VALUE=DATE:20250925
DTEND;VALUE=DATE:20251015
DTSTAMP:20260424T031944
CREATED:20250922T154112Z
LAST-MODIFIED:20250922T154112Z
UID:3975-1758758400-1760486399@artinottawa.org
SUMMARY:Helen Nhan DEFINITIONS
DESCRIPTION:Helen Nhan\nDEFINITIONS \nSeptember 25 – October 14\nVernissage: Saturday\, September 27\, 2:00 – 5:00pm\nNhan Statement\nIn this exhibition\, artist Helen Nhan explores how our perceptions hold space. Redefining\, within each piece\, definitions by opening windows to identities. \nFrom her latest works emerges an intimate\, limited series titled Being Undone. Casting form and colour onto canvas to portray a lived experience\, she creates a new chapter in order to carry the weight of the in-between. \nIt is a series born out of motherhood.\nTo find the truth behind vulnerability.\nTo search for the strength behind resilience.\nThe loss of self\, found. \nThroughout her artist practice\, her process remains conscious in composition\, the choice of colour\, use of geometry\, shape and form- deliberate. \nNhan Biography \nHelen Nhan is a Canadian abstract artist based in Ottawa\, ON. She returned to her artistic practice in 2019 after placing it on hold to build a successful career as an optometrist. \nRecent exhibitions include a solo exhibition at the Shenkman Arts Centre and a group exhibition at the Ottawa Art Gallery. She has also been a featured artist of Saatchi Art. \nhelennhan.com\nRepresented by: Galerie St-Laurent + Hill \nParking is available on the street and in the parking garage right behind the gallery. It is accessible from Murray Street and Clarence Street. Keep in mind parking is only $4 on the weekends!
URL:https://artinottawa.org/event/helen-nhan-definitions/
LOCATION:Galerie St-Laurent + Hill\, 293 Dalhousie St\, Ottawa\, ON\, K1N 7E5\, Canada
CATEGORIES:Art Show
ATTACH;FMTTYPE=image/jpeg:https://artinottawa.org/wp-content/uploads/2025/09/Helen-Nhan-DEFINITIONS.jpg
ORGANIZER;CN="Galerie St-Laurent + Hill":MAILTO:info@galeriestlaurentplushill.com
END:VEVENT
BEGIN:VEVENT
DTSTART;VALUE=DATE:20250925
DTEND;VALUE=DATE:20251018
DTSTAMP:20260424T031944
CREATED:20250924T014833Z
LAST-MODIFIED:20250924T014833Z
UID:3995-1758758400-1760745599@artinottawa.org
SUMMARY:Databells Experience
DESCRIPTION:Databells is an immersive experience featuring a whimsical and eclectic collection of bells\, ringing to the beat of the statistics they’re connected to. \nA bell might be ringing when a star is born in our galaxy\, or chiming every time someone is born. In the distance\, you hear a bell ringing each time a ship passes through the Suez Canal\, or an Amazon package is delivered. Maybe you even arrive at a bell which tolls when someone farts in the room.​ Databells is a visualization of human experience\, through the lens of the statistics that make up our daily lives\, or deepest fears\, and even things that span far beyond our little blue planet. \n​Databells invites you to journey down a winding path of illuminated bells\, all arranged in an unforgettable and experiential statistical symphony. \nSeptember 25 to October 17\, 2025Thursdays to Sundays10am – 3pm
URL:https://artinottawa.org/event/databells-experience/
LOCATION:Salon des Bananes\, 2207 Carling Ave.\, Ottawa\, ON\, K2B 7E9\, Canada
CATEGORIES:Art Show
ATTACH;FMTTYPE=image/jpeg:https://artinottawa.org/wp-content/uploads/2025/09/Datsbell.jpg
END:VEVENT
BEGIN:VEVENT
DTSTART;VALUE=DATE:20250925
DTEND;VALUE=DATE:20251019
DTSTAMP:20260424T031944
CREATED:20250922T151308Z
LAST-MODIFIED:20250922T151308Z
UID:3965-1758758400-1760831999@artinottawa.org
SUMMARY:Éléments by Léa-Sylvie Pilon
DESCRIPTION:After a long personal journey\, Léa-Sylvie Pilon now thrives through painting as a way of life. Inspired by nature and guided by her emotions\, she has moved beyond the strict confines of hyperrealism to explore a vibrant\, impressionistic style. Each canvas emerges from an instinctive impulse\, layering inks and oils that reflect the stages of her life. Her works\, luminous and full of contrast\, convey a renewed sense of freedom and the deep joy of reconnecting with the child artist within her. \nhttps://lespeinturesdelea.wixsite.com/sylvie \nShe will present her stunning pieces in her solo exhibition Éléments\, running from \nSeptember 25 to October 18.
URL:https://artinottawa.org/event/elements-by-lea-sylvie-pilon/
LOCATION:Arbor Gallery\, 103 High St.\, Vankleek Hill\, ON\, K0B 1R0\, Canada
CATEGORIES:Art Show
ATTACH;FMTTYPE=image/jpeg:https://artinottawa.org/wp-content/uploads/2025/09/Elements.jpg
END:VEVENT
END:VCALENDAR