BEGIN:VCALENDAR
VERSION:2.0
PRODID:-//Art In Ottawa - ECPv6.15.20//NONSGML v1.0//EN
CALSCALE:GREGORIAN
METHOD:PUBLISH
X-WR-CALNAME:Art In Ottawa
X-ORIGINAL-URL:https://artinottawa.org
X-WR-CALDESC:Events for Art In Ottawa
REFRESH-INTERVAL;VALUE=DURATION:PT1H
X-Robots-Tag:noindex
X-PUBLISHED-TTL:PT1H
BEGIN:VTIMEZONE
TZID:America/Toronto
BEGIN:DAYLIGHT
TZOFFSETFROM:-0500
TZOFFSETTO:-0400
TZNAME:EDT
DTSTART:20240310T070000
END:DAYLIGHT
BEGIN:STANDARD
TZOFFSETFROM:-0400
TZOFFSETTO:-0500
TZNAME:EST
DTSTART:20241103T060000
END:STANDARD
BEGIN:DAYLIGHT
TZOFFSETFROM:-0500
TZOFFSETTO:-0400
TZNAME:EDT
DTSTART:20250309T070000
END:DAYLIGHT
BEGIN:STANDARD
TZOFFSETFROM:-0400
TZOFFSETTO:-0500
TZNAME:EST
DTSTART:20251102T060000
END:STANDARD
BEGIN:DAYLIGHT
TZOFFSETFROM:-0500
TZOFFSETTO:-0400
TZNAME:EDT
DTSTART:20260308T070000
END:DAYLIGHT
BEGIN:STANDARD
TZOFFSETFROM:-0400
TZOFFSETTO:-0500
TZNAME:EST
DTSTART:20261101T060000
END:STANDARD
BEGIN:DAYLIGHT
TZOFFSETFROM:-0500
TZOFFSETTO:-0400
TZNAME:EDT
DTSTART:20270314T070000
END:DAYLIGHT
BEGIN:STANDARD
TZOFFSETFROM:-0400
TZOFFSETTO:-0500
TZNAME:EST
DTSTART:20271107T060000
END:STANDARD
END:VTIMEZONE
BEGIN:VEVENT
DTSTART;VALUE=DATE:20250617
DTEND;VALUE=DATE:20260520
DTSTAMP:20260424T020733
CREATED:20250611T213214Z
LAST-MODIFIED:20250611T213214Z
UID:3791-1750118400-1779235199@artinottawa.org
SUMMARY:Resistant Fibres
DESCRIPTION:Resistant Fibres\, curated by Julie Graff\, presents 18 textile and fibre works of art from the Canada Council Art Bank collection by artists who use this medium as a powerful tool for protest\, resistance\, celebration\, joy and healing.
URL:https://artinottawa.org/event/resistant-fibres/
LOCATION:Âjagemô art space\, 150 Elgin St.\, Ottawa\, ON\, K2P 2P8\, Canada
CATEGORIES:Art Show
ATTACH;FMTTYPE=image/jpeg:https://artinottawa.org/wp-content/uploads/2025/06/Resistant-Fibres.jpg
END:VEVENT
BEGIN:VEVENT
DTSTART;VALUE=DATE:20250618
DTEND;VALUE=DATE:20260602
DTSTAMP:20260424T020733
CREATED:20250619T035933Z
LAST-MODIFIED:20250619T035933Z
UID:3806-1750204800-1780358399@artinottawa.org
SUMMARY:Focus Series
DESCRIPTION:The Focus Series is an ongoing partnership between Library and Archives Canada and the National Gallery of Canada\, building on the rich collections of both institutions. \nFocus on the Métis — A103 Corridor and A103a\nA special collaboration that examines how early images of the Métis are often misidentified or not referenced at all. A careful look at details in historical art and photographs reveals that the Métis are often “hiding in plain sight.” \nPictorialism — A104a\nThe predominant aesthetic in photography throughout the first half of the twentieth century was pictorialism. \nWork is art/Art is work — A109a\nThis installation examines the various ways artists responded to the critical issues of the Depression era. \nPoints of View: Photography in the North — A111a\nDocumentary photographer Pamela Harris recorded community life in Taloyoak\, Nunavut (then Spence Bay\, NWT) for three months in 1972 and 1973 (published as Another Way of Being). Her photographs appear both casual and staged\, the resulting photographic sessions respectfully engaging two cultures and important considerations such as the agency and self-representation of Inuit.
URL:https://artinottawa.org/event/focus-series/
LOCATION:National Gallery of Canada\, 380 Sussex Drive\, Ottawa\, ON\, K1N 9N4\, Canada
CATEGORIES:Art Exhibition
ATTACH;FMTTYPE=image/jpeg:https://artinottawa.org/wp-content/uploads/2025/06/focus.jpg
ORGANIZER;CN="National Gallery of Canada":MAILTO:info@gallery.ca
END:VEVENT
BEGIN:VEVENT
DTSTART;VALUE=DATE:20251003
DTEND;VALUE=DATE:20260209
DTSTAMP:20260424T020733
CREATED:20250917T141907Z
LAST-MODIFIED:20250917T141907Z
UID:3953-1759449600-1770595199@artinottawa.org
SUMMARY:2025 Sobey Art Award exhibition
DESCRIPTION:In collaboration with the Sobey Art Foundation\, the National Gallery of Canada is proud to present works by six artists from across the country who have been shortlisted for the 2025 Sobey Art Award. \nThrough paintings\, drawings\, textiles\, videos\, sculptures\, multidisciplinary installations and more\, the finalists capture the vitality of artmaking in this country while engaging with subjects pertinent to contemporary identity and experience. Their artworks reflect both global and local perspectives\, considering themes such as memory\, history\, community and belonging. \nA special complimentary publication on the finalists will be available to all on-site visitors. \nOrganized by the National Gallery of Canada and the Sobey Art Foundation
URL:https://artinottawa.org/event/2025-sobey-art-award-exhibition/
LOCATION:National Gallery of Canada\, 380 Sussex Drive\, Ottawa\, ON\, K1N 9N4\, Canada
CATEGORIES:Art Exhibition
ATTACH;FMTTYPE=image/jpeg:https://artinottawa.org/wp-content/uploads/2025/09/2025-Sobey-Art-Award-Exhibition.jpg
ORGANIZER;CN="National Gallery of Canada":MAILTO:info@gallery.ca
END:VEVENT
BEGIN:VEVENT
DTSTART;VALUE=DATE:20251014
DTEND;VALUE=DATE:20251215
DTSTAMP:20260424T020733
CREATED:20251113T043058Z
LAST-MODIFIED:20251113T043058Z
UID:4140-1760400000-1765756799@artinottawa.org
SUMMARY: Carole Ince at Constitution Square
DESCRIPTION:Carole Ince is exhibiting at Constitution Square with HelloArt from October 14th to December 14th
URL:https://artinottawa.org/event/carole-ince-at-constitution-square/
LOCATION:Constitution Square\, 350 Albert St\, Ottawa\, ON\, K1R 1A4\, Canada
CATEGORIES:Art Show
ATTACH;FMTTYPE=image/jpeg:https://artinottawa.org/wp-content/uploads/2025/11/HA.jpg
END:VEVENT
BEGIN:VEVENT
DTSTART;VALUE=DATE:20251022
DTEND;VALUE=DATE:20251215
DTSTAMP:20260424T020733
CREATED:20251017T202613Z
LAST-MODIFIED:20251017T202613Z
UID:4043-1761091200-1765756799@artinottawa.org
SUMMARY:New Arboreal (Arboricole)
DESCRIPTION:Découvrez le tapis forestier et plongez dans le royaume souterrain qui se trouve juste en dessous. \nDans New Arboreal\, l’artiste explore les phénomènes de la coévolution et de la symbiose. L’exposition présente une installation créée à partir de feutre et de fil de fer. Elle évoque des systèmes racinaires et des champignons micellaires. S’y imbriquent des feuilles de papier créées à la main par l’artiste et des sculptures de papier figurant des branches d’arbre\, du lichen et du fongus. \nJenny McMaster travaille les textures\, les suspensions\, les ombres portées et la multiplication des plans pour créer des environnements immersifs.
URL:https://artinottawa.org/event/new-arboreal-arboricole/
LOCATION:Espace Pierre-Debain\, 120 Principale St\, Gatineau\, QC\, J9H 3M3\, Canada
CATEGORIES:Art Show
ATTACH;FMTTYPE=image/jpeg:https://artinottawa.org/wp-content/uploads/2025/10/New-Arboreal-–-Arboricole.jpg
END:VEVENT
BEGIN:VEVENT
DTSTART;VALUE=DATE:20251023
DTEND;VALUE=DATE:20251117
DTSTAMP:20260424T020733
CREATED:20251029T023210Z
LAST-MODIFIED:20251029T023210Z
UID:4059-1761177600-1763337599@artinottawa.org
SUMMARY:The Light We Hold\, The Light We Carry
DESCRIPTION:During a sabbatical year devoted to creative exploration\, Lauren Michelle Levesque immersed herself in the slow\, reflective processes of making. The resulting works\, gathered under the title “the light we hold\, the light we carry”\, illuminate the quiet ways in which art-making brings meaning\, care\, whimsy\, and a touch of magic into everyday life. \nCreated within the intimate spaces of home\, these textile-based pieces give form to stories of connection and transformation. An arts-based researcher and associate professor at Saint Paul University in Ottawa\, Levesque’s work explores how everyday spaces become sites of social\, political\, and personal significance. Through this exhibition\, she invites viewers to reflect on how creativity itself becomes an act of holding light — for ourselves\, and for one another.
URL:https://artinottawa.org/event/the-light-we-hold-the-light-we-carry/
LOCATION:Arbor Gallery\, 103 High St.\, Vankleek Hill\, ON\, K0B 1R0\, Canada
CATEGORIES:Art Show
ATTACH;FMTTYPE=image/jpeg:https://artinottawa.org/wp-content/uploads/2025/10/Lauren-Michelle-Levesque.jpg
END:VEVENT
BEGIN:VEVENT
DTSTART;VALUE=DATE:20251027
DTEND;VALUE=DATE:20251116
DTSTAMP:20260424T020733
CREATED:20251031T022639Z
LAST-MODIFIED:20251031T022639Z
UID:4082-1761523200-1763251199@artinottawa.org
SUMMARY:Ghosts & Goblins
DESCRIPTION:Art Show at Art Hub featuring 39 local artists and artisans.
URL:https://artinottawa.org/event/ghosts-goblins/
LOCATION:Art Hub Gallery\, 50 Bennett St\, Carleton Place\, ON\, K7C 4J9\, Canada
CATEGORIES:Art Show
ATTACH;FMTTYPE=image/jpeg:https://artinottawa.org/wp-content/uploads/2025/10/Ghossts.jpg
END:VEVENT
BEGIN:VEVENT
DTSTART;VALUE=DATE:20251030
DTEND;VALUE=DATE:20260114
DTSTAMP:20260424T020733
CREATED:20251029T022544Z
LAST-MODIFIED:20251029T022610Z
UID:4054-1761782400-1768348799@artinottawa.org
SUMMARY:Mosaic 2025
DESCRIPTION:We’re excited to announce that Mosaic 2025 is opening soon at the Trinity Art Gallery! From October 30 to January 13\, come see one of Ottawa’s largest juried art shows featuring amazing works in a variety of media by Arteast members. \nOpening Reception:\nJoin us on Thursday\, October 30\, from 5:30 to 7:30 pm to celebrate the artists and award winners. Awards will be announced at 6:15pm. \nIt’s a great chance to meet fellow art lovers\, chat with the artists\, and enjoy an inspiring evening surrounded by creativity. Everyone’s welcome!
URL:https://artinottawa.org/event/mosaic-2025/
LOCATION:Shenkman Arts Centre\, 245 Centrum Blvd\, Orléans\, ON\, K1E 0A1\, Canada
CATEGORIES:Art Show
ATTACH;FMTTYPE=image/jpeg:https://artinottawa.org/wp-content/uploads/2025/10/Mosaic-2025.jpg
ORGANIZER;CN="Arteast Ottawa":MAILTO:contactus@arteastottawa.com
END:VEVENT
BEGIN:VEVENT
DTSTART;VALUE=DATE:20251106
DTEND;VALUE=DATE:20251124
DTSTAMP:20260424T020733
CREATED:20251103T001915Z
LAST-MODIFIED:20251103T001915Z
UID:4097-1762387200-1763942399@artinottawa.org
SUMMARY:Sunlit Moments by Marianne Feaver
DESCRIPTION:From November 6 to 23\, 2025 – Wednesday to Saturday from noon to 6 pm and Sunday from noon to 5 pm \nVernissage: Saturday\, November 8\, 2025\, from 1 to 4 pm\nMarianne Feaver celebrates the natural world through colour and light. Fleeting moments of radiance – sunlight filtering through trees\, the shimmer of water across a lake or the dancing highlights of flower petals – form the heart of her work.  Her inspiration is drawn from the landscapes that surround her; the forest trails of the Gatineau Hills or the peaceful\, rugged beauty that surrounds Wakefield. \nThrough vivid colour and loose\, expressive brushstrokes\, Marianne translates her emotional response to the landscape onto canvas.  Each painting seeks to capture the awe\, joy and serenity found in those moments – the stillness of reflection\, the brilliance of passing light\, the quiet energy of the natural world. \nHer works invite the viewer to pause and be immersed in the harmony and vitality of the scene – to breathe\, to feel the exuberance\, and to be transported to a place of peace and familiarity.
URL:https://artinottawa.org/event/sunlit-moments-by-marianne-feaver/
LOCATION:Galerie Old Chelsea\, 783 Route 105\, Chelsea\, QC\, J9B 1P1\, Canada
CATEGORIES:Art Show
ATTACH;FMTTYPE=image/jpeg:https://artinottawa.org/wp-content/uploads/2025/11/Sunlit-Moments.jpg
END:VEVENT
BEGIN:VEVENT
DTSTART;VALUE=DATE:20251106
DTEND;VALUE=DATE:20251126
DTSTAMP:20260424T020733
CREATED:20251103T002318Z
LAST-MODIFIED:20251103T002318Z
UID:4103-1762387200-1764115199@artinottawa.org
SUMMARY:Isabelle Gauvreau - TIME
DESCRIPTION:Isabelle Gauvreau’s work has always focused on the human condition and\, more specifically\, on the interpretation of the female body through the development of a highly personal visual language. Her practice is inspired by a long lineage of women artists influenced by feminism\, from the 1970s to the present day. \nThis series is an emotional and visual response to existential questions in the face of today’s global crises. From these impressions of rupture\, what emerges\, if not\, as Leonard Cohen suggested\, light? Gauvreau seeks to bring together what unites us: light as well as darkness\, for one cannot exist without the other. \nThis duality manifests in the series through contrasts of splashes\, golden orbs\, and white flashes on dark backgrounds\, all striving toward harmony. In response to a growing need to reconnect with nature\, Gauvreau also explores more elaborate techniques\, adding colour with stick paint\, which brings an even more earthy quality to her work than usual. \nCollage on Japanese paper remains central to the artist’s approach. The use of gold leaf and pigments serves as an anchor and symbolizes a connection to nature. Writing and drawing intertwine in layered compositions over collage and ink drips\, encounters that evoke complex impressions.
URL:https://artinottawa.org/event/isabelle-gauvreau-time/
LOCATION:Galerie St-Laurent + Hill\, 293 Dalhousie St\, Ottawa\, ON\, K1N 7E5\, Canada
CATEGORIES:Art Show
ATTACH;FMTTYPE=image/jpeg:https://artinottawa.org/wp-content/uploads/2025/11/Isabelle-Gauvreau.jpg
ORGANIZER;CN="Galerie St-Laurent + Hill":MAILTO:info@galeriestlaurentplushill.com
END:VEVENT
BEGIN:VEVENT
DTSTART;VALUE=DATE:20251106
DTEND;VALUE=DATE:20260120
DTSTAMP:20260424T020733
CREATED:20251030T015211Z
LAST-MODIFIED:20251030T015211Z
UID:4073-1762387200-1768867199@artinottawa.org
SUMMARY:An Nguyen\, "Fortune" Solo Exhibition
DESCRIPTION:Artist Statement\n\n\n\n\nAs immigrants entering a foreign land\, we all share the common desire to make our new country a place we can freely call home. We make efforts\, from bringing our culinary traditions\, to running enterprises that shape a nation’s economic future. As newcomers we do so with innovation\, grit and determination. Our journeys to freedom are often fought with challenges\, sacrifice\, and difficult decisions. \nApril 30th\, 2025 marks the 50th anniversary since the fall of Saigon. The Canadian government recognizes this day as a national day to commemorate the large exodus of Vietnamese refugees and their acceptance into Canada. Through art\, I bear witness to this historical event by creating a series of paintings\,  which illustrates the story of my refugee beginnings and celebrates how far I’ve come. My vivid paintings chronicle the perilous journey of leaving Vietnam to stories of life as an Canadian immigrant. \nDuring the Vietnam war\, my parents lived through the trauma of hearing constant gunshots while watching the skies engulfed in flames. They heard cries of those lost at sea and witnessed children die in the arms of their parents. They saw the desperate who tossed their offspring onto precarious vessels in  the hopes that their child might find potential refuge. These memories are etched in their hearts and forever changed their view on life and parenting. \nMy brother and I grew up in a home grounded in traditional values situated within a typical Canadian milieu. Growing up\, most of what we learned about the Vietnam War was through our parents. My parents taught us how to cook old family recipes so that we remember where we came from\, while watching Wheel of Fortune. They planted flowers to beautify our home\, while cultivating basil and chili plants for aromatic dishes. As stoic survivors of war\, they cried when I graduated from university. They decorated the house in “lucky” red to affirm their happiness during my tea ceremony\, and shared laughter and joy when I danced at my wedding. They are changemakers who bravely risked everything so that we could live in safety to pursue our hopes and dreams. As a child of these war heroes\, I honour their valour and courage in the face of such seemingly insurmountable adversity. \nThis exhibition showcases\, how my road to a bright future\, was  founded on decades of personal sacrifices and hardship. For many Vietnamese Boat People\, crossing the tumultuous South China Sea was a huge risk. Like many immigrant families our origins were humble\, but overtime we have made substantial contributions to our communities\, while preserving our heritage and customs. It is my hope that this exposition celebrates the half-century of achievements of the Vietnamese diaspora and the triumphs we have made in the face of adversity. Let this show be a beacon of light that shines luck on those who today make similar perilous journeys. May their “hopes adrift” in the water\, to light a path towards safety and a better future. \nAn Nguyen \n\n\nGrand Opening : \nNOV 6\, 2025\, 5:30pm to 7:30pm\, \nAtrium Art Gallery\, Ben Franklin Place\, 101 Centre Point Drive\, Ottawa\, ON \nFree Family Friendly Event \n 
URL:https://artinottawa.org/event/an-nguyen-fortune-solo-exhibition/
LOCATION:Atrium Gallery – Ben Franklin Place\, 101 Centrepointe Dr\, Ottawa\, K2G 0B5\, Canada
CATEGORIES:Art Show
ATTACH;FMTTYPE=image/jpeg:https://artinottawa.org/wp-content/uploads/2025/10/An-nguyen.jpg
END:VEVENT
END:VCALENDAR