BEGIN:VCALENDAR
VERSION:2.0
PRODID:-//Art In Ottawa - ECPv6.15.20//NONSGML v1.0//EN
CALSCALE:GREGORIAN
METHOD:PUBLISH
X-ORIGINAL-URL:https://artinottawa.org
X-WR-CALDESC:Events for Art In Ottawa
REFRESH-INTERVAL;VALUE=DURATION:PT1H
X-Robots-Tag:noindex
X-PUBLISHED-TTL:PT1H
BEGIN:VTIMEZONE
TZID:America/Toronto
BEGIN:DAYLIGHT
TZOFFSETFROM:-0500
TZOFFSETTO:-0400
TZNAME:EDT
DTSTART:20240310T070000
END:DAYLIGHT
BEGIN:STANDARD
TZOFFSETFROM:-0400
TZOFFSETTO:-0500
TZNAME:EST
DTSTART:20241103T060000
END:STANDARD
BEGIN:DAYLIGHT
TZOFFSETFROM:-0500
TZOFFSETTO:-0400
TZNAME:EDT
DTSTART:20250309T070000
END:DAYLIGHT
BEGIN:STANDARD
TZOFFSETFROM:-0400
TZOFFSETTO:-0500
TZNAME:EST
DTSTART:20251102T060000
END:STANDARD
BEGIN:DAYLIGHT
TZOFFSETFROM:-0500
TZOFFSETTO:-0400
TZNAME:EDT
DTSTART:20260308T070000
END:DAYLIGHT
BEGIN:STANDARD
TZOFFSETFROM:-0400
TZOFFSETTO:-0500
TZNAME:EST
DTSTART:20261101T060000
END:STANDARD
END:VTIMEZONE
BEGIN:VEVENT
DTSTART;VALUE=DATE:20250118
DTEND;VALUE=DATE:20250119
DTSTAMP:20260425T074127
CREATED:20250114T033800Z
LAST-MODIFIED:20250114T033800Z
UID:3156-1737158400-1737244799@artinottawa.org
SUMMARY:Asian Community Arts Market
DESCRIPTION:Experience a vibrant and exciting celebration of Asian arts and culture in Ottawa! This unique multicultural event with an Asian flair brings together local artists\, artisans\, performers\, and vendors from a diversity of communities and across the Asian diaspora to share their work\, talents and traditions with the wider Ottawa community. \nShop for a wide variety of arts and crafts created by talented local artisans and businesses\, participate in hands-on arts workshops and activities\, and enjoy some live performances. \nBring your friends and family and join us for a fun\, interactive\, and inspiring day where diverse cultures and communities come together to celebrate Asian arts and culture in the heart of Ottawa! \nWith Participation From\nAn Nguyen – Fine Arts\nCeci Art Studio\nChina Doll\nClover Crochet\nCute Tiny Ting\nDupil Collective\nEliane Oba Ceramica\nIMO CLAY JEWELRY\nKaraCa Orange\nKokoro Bakeshop\nLinh VH Nguyen\nLuma Blue Glass\nMakwa Artists\nManahil Bandukwala\nMarie Jou Comilang-Costales\nMaya Hum\nMelanie Yugo\nNice Handmade House\nPerfect Books\nRasm Print Creations\nSuccess Lion Dance Troupe\nTommy Lee Arts\nWayne Ng\nWeiwei Xu\nWith Nini\nYou See Visions\nYukari Snyder
URL:https://artinottawa.org/event/asian-community-arts-market/
LOCATION:National Arts Centre\, 1 Elgin St\, Ottawa\, ON\, K1P 5W1\, Canada
CATEGORIES:Art Fair or Market
ATTACH;FMTTYPE=image/jpeg:https://artinottawa.org/wp-content/uploads/2025/01/Asian-Community-Arts-Market.jpg
END:VEVENT
END:VCALENDAR