BEGIN:VCALENDAR
VERSION:2.0
PRODID:-//Art In Ottawa - ECPv6.15.20//NONSGML v1.0//EN
CALSCALE:GREGORIAN
METHOD:PUBLISH
X-WR-CALNAME:Art In Ottawa
X-ORIGINAL-URL:https://artinottawa.org
X-WR-CALDESC:Events for Art In Ottawa
REFRESH-INTERVAL;VALUE=DURATION:PT1H
X-Robots-Tag:noindex
X-PUBLISHED-TTL:PT1H
BEGIN:VTIMEZONE
TZID:America/Toronto
BEGIN:DAYLIGHT
TZOFFSETFROM:-0500
TZOFFSETTO:-0400
TZNAME:EDT
DTSTART:20240310T070000
END:DAYLIGHT
BEGIN:STANDARD
TZOFFSETFROM:-0400
TZOFFSETTO:-0500
TZNAME:EST
DTSTART:20241103T060000
END:STANDARD
BEGIN:DAYLIGHT
TZOFFSETFROM:-0500
TZOFFSETTO:-0400
TZNAME:EDT
DTSTART:20250309T070000
END:DAYLIGHT
BEGIN:STANDARD
TZOFFSETFROM:-0400
TZOFFSETTO:-0500
TZNAME:EST
DTSTART:20251102T060000
END:STANDARD
BEGIN:DAYLIGHT
TZOFFSETFROM:-0500
TZOFFSETTO:-0400
TZNAME:EDT
DTSTART:20260308T070000
END:DAYLIGHT
BEGIN:STANDARD
TZOFFSETFROM:-0400
TZOFFSETTO:-0500
TZNAME:EST
DTSTART:20261101T060000
END:STANDARD
END:VTIMEZONE
BEGIN:VEVENT
DTSTART;VALUE=DATE:20250906
DTEND;VALUE=DATE:20250908
DTSTAMP:20260424T120518
CREATED:20250619T040922Z
LAST-MODIFIED:20250619T040922Z
UID:3809-1757116800-1757289599@artinottawa.org
SUMMARY:Expressions of Art - 2025
DESCRIPTION:Fine artwork from more than 30 artists from around the region. \nSaturday\, September 6: 8 am to 4 pm\nSunday\, September 7: 10 am to 4 pm\nLocation: Carp Fairgrounds\, Agricultural Hall\, 3790 Carp Rd.\, Carp ON Show
URL:https://artinottawa.org/event/expressions-of-art-2025/
LOCATION:Carp Fairgrounds\, Agricultural Hall\, 3790 Carp Rd.\, Carp\, ON\, K0A 1L0\, Canada
CATEGORIES:Art Fair or Market,Art Show
ATTACH;FMTTYPE=image/jpeg:https://artinottawa.org/wp-content/uploads/2025/06/Expressions-of-Art-2025.jpg
END:VEVENT
END:VCALENDAR