BEGIN:VCALENDAR
VERSION:2.0
PRODID:-//Art In Ottawa - ECPv6.15.20//NONSGML v1.0//EN
CALSCALE:GREGORIAN
METHOD:PUBLISH
X-ORIGINAL-URL:https://artinottawa.org
X-WR-CALDESC:Events for Art In Ottawa
REFRESH-INTERVAL;VALUE=DURATION:PT1H
X-Robots-Tag:noindex
X-PUBLISHED-TTL:PT1H
BEGIN:VTIMEZONE
TZID:America/Toronto
BEGIN:DAYLIGHT
TZOFFSETFROM:-0500
TZOFFSETTO:-0400
TZNAME:EDT
DTSTART:20240310T070000
END:DAYLIGHT
BEGIN:STANDARD
TZOFFSETFROM:-0400
TZOFFSETTO:-0500
TZNAME:EST
DTSTART:20241103T060000
END:STANDARD
BEGIN:DAYLIGHT
TZOFFSETFROM:-0500
TZOFFSETTO:-0400
TZNAME:EDT
DTSTART:20250309T070000
END:DAYLIGHT
BEGIN:STANDARD
TZOFFSETFROM:-0400
TZOFFSETTO:-0500
TZNAME:EST
DTSTART:20251102T060000
END:STANDARD
BEGIN:DAYLIGHT
TZOFFSETFROM:-0500
TZOFFSETTO:-0400
TZNAME:EDT
DTSTART:20260308T070000
END:DAYLIGHT
BEGIN:STANDARD
TZOFFSETFROM:-0400
TZOFFSETTO:-0500
TZNAME:EST
DTSTART:20261101T060000
END:STANDARD
BEGIN:DAYLIGHT
TZOFFSETFROM:-0500
TZOFFSETTO:-0400
TZNAME:EDT
DTSTART:20270314T070000
END:DAYLIGHT
BEGIN:STANDARD
TZOFFSETFROM:-0400
TZOFFSETTO:-0500
TZNAME:EST
DTSTART:20271107T060000
END:STANDARD
END:VTIMEZONE
BEGIN:VEVENT
DTSTART;VALUE=DATE:20250617
DTEND;VALUE=DATE:20260520
DTSTAMP:20260423T172842
CREATED:20250611T213214Z
LAST-MODIFIED:20250611T213214Z
UID:3791-1750118400-1779235199@artinottawa.org
SUMMARY:Resistant Fibres
DESCRIPTION:Resistant Fibres\, curated by Julie Graff\, presents 18 textile and fibre works of art from the Canada Council Art Bank collection by artists who use this medium as a powerful tool for protest\, resistance\, celebration\, joy and healing.
URL:https://artinottawa.org/event/resistant-fibres/
LOCATION:Âjagemô art space\, 150 Elgin St.\, Ottawa\, ON\, K2P 2P8\, Canada
CATEGORIES:Art Show
ATTACH;FMTTYPE=image/jpeg:https://artinottawa.org/wp-content/uploads/2025/06/Resistant-Fibres.jpg
END:VEVENT
BEGIN:VEVENT
DTSTART;VALUE=DATE:20260107
DTEND;VALUE=DATE:20260302
DTSTAMP:20260423T172842
CREATED:20260108T025049Z
LAST-MODIFIED:20260108T025114Z
UID:4224-1767744000-1772409599@artinottawa.org
SUMMARY:Opening Lines
DESCRIPTION:The Kanata Civic Art Gallery is pleased to welcome the new year with Opening Lines\, our first exhibition of 2026. \nThis large group show introduces seven new members to the gallery alongside works by existing members. Together\, they present over 80 artworks in a wide range of mediums\, including painting\, sculpture\, photography\, and textiles. All artwork in the exhibition is available for purchase. \n 
URL:https://artinottawa.org/event/opening-lines/
LOCATION:Kanata Civic Art Gallery\, 2500 Campeau Drive\, Kanata\, ON\, K2K 2W3\, Canada
CATEGORIES:Art Show
ATTACH;FMTTYPE=image/jpeg:https://artinottawa.org/wp-content/uploads/2026/01/Opening-Lines.jpg
END:VEVENT
BEGIN:VEVENT
DTSTART;VALUE=DATE:20260120
DTEND;VALUE=DATE:20260330
DTSTAMP:20260423T172842
CREATED:20260114T042031Z
LAST-MODIFIED:20260114T042406Z
UID:4230-1768867200-1774828799@artinottawa.org
SUMMARY:Imaginarium - Don Monet\, Beth Shepherd & Sarah Wayne
DESCRIPTION:Welcome to Imaginarium — a space where memory\, myth\, and whimsy collide. Each work in this exhibition offers a doorway into a world just slightly askew from our own\, where the familiar transforms into the fantastical. Imagination reshapes the everyday\, inviting curiosity\, reflection\, and a quiet sense of wonder. \nDon Monet(link is external) focuses his practice on landscape\, photo-collage\, and acrylic painting on birch plywood. Through photo-collage and acrylic paint\, he creates sequences of fractured photos which are then unified through paint and traditional landscape techniques. Co-Founder and director of Cube Gallery\, Ottawa (2005-present)\, Don has organized dozens of thematic group exhibitions and solo shows and provided a venue for hundreds of artists. \nBeth Shepherd(link opens email application) is an Ottawa-based artist working in printmaking\, photography\, video\, and text. Situated at the intersection of ecology\, animal advocacy\, and ecocritical art history\, her multi-year art-research projects explore the non-human world and humanity’s impacts on it. In this exhibition\, the artist imagines a garden far beyond. \nSarah Wayne is an acrylic painter and mixed media artist creating works focused on abstracted figures and landscapes. An accountant by profession\, Wayne brings a structured and disciplined approach to her art. Her bold colour palette and emphasis on shape combine to create stimulating pieces that invite the eye to linger. \nASP Gallery\, Stafford Studios\nNepean Creative Arts Centre\, Unit 1\n35 Stafford Road\, Bells Corners\nFree admission \nThe gallery is open to the public by appointment only: cgc@ottawa.ca
URL:https://artinottawa.org/event/imaginarium-don-monet-beth-shepherd-sarah-wayne/
LOCATION:ASP Gallery\, 35 Stafford Road\, Ottawa\, ON\, K2H 8V8\, Canada
CATEGORIES:Art Show
ATTACH;FMTTYPE=image/jpeg:https://artinottawa.org/wp-content/uploads/2026/01/Imaginarium.jpg
END:VEVENT
BEGIN:VEVENT
DTSTART;VALUE=DATE:20260129
DTEND;VALUE=DATE:20260311
DTSTAMP:20260423T172842
CREATED:20260203T230031Z
LAST-MODIFIED:20260203T230031Z
UID:4243-1769644800-1773187199@artinottawa.org
SUMMARY:Alexandra Tataru. Faces of Passage: A Gilded Tapestry of Hybrid Ethnicities
DESCRIPTION:Opening: Thursday\, February 5\, 5:30 to 7:30 pm \nFaces of Passage: A Gilded Tapestry of Hybrid Ethnicities is a portrait-based multimedia exhibition exploring unique identities shaped by movement and cultural exchange. Inspired by Canada\, travel\, and Eastern European heritage\, hand-crafted gilded portraits merge global patterns and contemporary forms\, reimagining ethnicity as fluid\, relational\, and continually becoming. \nAlexandra Tataru\, MA\, is a European-born artist residing in Canada. Trained in art and design from childhood\, she studied in Eastern Europe and was awarded a scholarship in Spain. Working in oil\, acrylic\, pastel\, and gold leaf\, she creates vibrant cityscapes and portraits\, capturing the energy of culture\, travel\, and human expression. \nATRIUM ART GALLERY\nBen Franklin Place\n101 Centrepointe Drive\nFree admission. Wheelchair accessible.
URL:https://artinottawa.org/event/alexandra-tataru-faces-of-passage-a-gilded-tapestry-of-hybrid-ethnicities/
LOCATION:Atrium Gallery – Ben Franklin Place\, 101 Centrepointe Dr\, Ottawa\, K2G 0B5\, Canada
CATEGORIES:Art Show
ATTACH;FMTTYPE=image/jpeg:https://artinottawa.org/wp-content/uploads/2026/02/Alexandra-Tataru-.jpg
END:VEVENT
BEGIN:VEVENT
DTSTART;VALUE=DATE:20260130
DTEND;VALUE=DATE:20260330
DTSTAMP:20260423T172842
CREATED:20260203T232450Z
LAST-MODIFIED:20260203T232450Z
UID:4254-1769731200-1774828799@artinottawa.org
SUMMARY:Voir bleu
DESCRIPTION:Gatineau présente cet hiver Voir bleu\, une exposition issue de la Collection Loto-Québec\, à la Galerie Montcalm. Commissariée par Manon Pouliot\, responsable de la Collection Loto-Québec\, Voir bleu réunit une trentaine d’oeuvres d’artistes québécois et célèbre plus de 45 ans d’engagement envers l’art d’ici. \nL’exposition s’articule autour de quatre univers :\n– Bleu abstrait : oeuvres liées aux grands courants modernistes québécois;\n– Bleu nature : paysage\, environnement et rapport au territoire;\n– Bleu optique : perception\, lumière et photographie;\n– Bleu engagé : oeuvres portées par un propos social ou politique. \nParmi les artistes présentés\, on retrouve Serge Lemoyne\, Fernand Leduc\, Françoise Sullivan\, Guido Molinari\, ainsi que trois artistes de la région de l’Outaouais (Pierrette Lambert\, Dominique Plastre et Denise Tremblay). \nCitations \n« Accueillir l’exposition Voir bleu\, c’est offrir à la population de Gatineau un voyage au coeur d’une des plus importantes collections d’entreprises au Québec. C’est une occasion unique de voir se côtoyer les grands courants modernistes et la vision d’artistes de chez nous\, dans une exploration poétique et engagée qui saura toucher tout le monde »\, a déclaré madame Isabelle N. Miron en tant que présidente de la Commission des arts\, de la culture\, des lettres et du patrimoine (CACLP). \n« Voir bleu propose une exploration au coeur des quelque 4 800 oeuvres de la Collection Loto Québec\, un patrimoine culturel inestimable. Les pièces retenues pour cette exposition mettent en lumière la diversité des styles qui traversent l’art québécois tout en faisant écho à l’histoire de la couleur bleu\, chère à la Société. Nous invitons le public à découvrir ce parcours et à porter un regard renouvelé sur la place du bleu dans leur entourage »\, a souligné la responsable de la Collection Loto-Québec\, madame Manon Pouliot.
URL:https://artinottawa.org/event/voir-bleu/
LOCATION:Galerie Montcalm\, 25 Laurier St\, Gatineau\, Quebec\, J8X 3Y9\, Canada
CATEGORIES:Art Show
ATTACH;FMTTYPE=image/jpeg:https://artinottawa.org/wp-content/uploads/2026/02/Voir-Bleu.jpg
END:VEVENT
BEGIN:VEVENT
DTSTART;VALUE=DATE:20260215
DTEND;VALUE=DATE:20260414
DTSTAMP:20260423T172842
CREATED:20260216T031921Z
LAST-MODIFIED:20260216T032154Z
UID:4313-1771113600-1776124799@artinottawa.org
SUMMARY:Elaf Selim at Constitution Square
DESCRIPTION: Elaf Selim is a fine artist known for luminous\, romantic paintings that explore femininity\, stillness\, and emotional refuge. A Canadian-Egyptian artist raised in Kuwait\, her work is shaped by a life lived across cultures\, landscapes\, and visual traditions. From an early age\, she was encouraged toward imagination and creative expression\, laying the foundation for a lifelong devotion to art.  \nHer painting practice is informed by training in classical oil painting and modern mixed-media techniques\, resulting in dreamlike works that balance structure with intuition. Rooted in Contemporary Romanticism\, Selim creates contemplative paintings of feminine figures\, gardens\, and delicate symbols. Her work offers a counterpoint to a culture of speed and anxiety by privileging slowness\, intimacy\, and light.  \nSelim’s imagery is immediately recognizable: feminine figures\, gardens\, and symbolic elements inhabiting a gentle\, luminous world just beyond waking. Working intuitively\, she draws from dreams\, memory\, meditation\, and nature. Her process includes layered oils\, fluid mark-making\, and hand-printed collage papers created from botanical materials gathered in her garden\, resulting in works that glow with depth and subtle texture.  \nShe creates in her home studio surrounded by gardens\, with the intention that her paintings become sanctuaries; offering collectors moments of rest\, intimacy\, and calm within a fast-paced world. Her work is represented by galleries\, exhibited in juried and curated shows\, and held in private collections\, resonating with collectors drawn to quiet beauty\, emotional presence\, and romantic stillness. 
URL:https://artinottawa.org/event/elaf-selim-at-constitution-square/
LOCATION:Constitution Square\, 350 Albert St\, Ottawa\, ON\, K1R 1A4\, Canada
CATEGORIES:Art Show
ATTACH;FMTTYPE=image/jpeg:https://artinottawa.org/wp-content/uploads/2026/02/Elaf-Selim-CS.jpg
END:VEVENT
BEGIN:VEVENT
DTSTART;VALUE=DATE:20260216
DTEND;VALUE=DATE:20260330
DTSTAMP:20260423T172842
CREATED:20260216T025650Z
LAST-MODIFIED:20260216T025650Z
UID:4301-1771200000-1774828799@artinottawa.org
SUMMARY:Intersections
DESCRIPTION:Stop in between  February 15 and March 29\, 2026 to see the show\, Intersections.The Art Hub cooperative gallery is staffed by the artists themselves and you can stop in any time to meet them and get to know their work!Open 10-5 daily\, 7 days a week\, at 127 Bridge St.\, Carleton Place\, ON
URL:https://artinottawa.org/event/intersections/
LOCATION:Art Hub (127 Bridge St.)\, 127 Bridge Street\, Carleton Place\, ON\, K7C 2V6\, Canada
CATEGORIES:Art Show
ATTACH;FMTTYPE=image/jpeg:https://artinottawa.org/wp-content/uploads/2026/02/Intersections.jpg
END:VEVENT
BEGIN:VEVENT
DTSTART;VALUE=DATE:20260226
DTEND;VALUE=DATE:20260316
DTSTAMP:20260423T172842
CREATED:20260222T034814Z
LAST-MODIFIED:20260222T034814Z
UID:4366-1772064000-1773619199@artinottawa.org
SUMMARY:“Rostros: Faces And Voices Of Women Artists In The Outaouais Region” by Taimi Tovar
DESCRIPTION:February 26 to March 15\, 2026 – Wednesday to Sunday\, noon to 5 pm \nVernissage: Saturday\, February 28\, 2 to 4 pm \nFor International Women’s Day\, Galerie Old Chelsea is proud to present a photographic and documentary exhibition by Taimi Tovar. This initiative celebrates the presence of women in the arts\, whether they are painters\, musicians\, architects\, researchers\, or cultural builders. \nBorn out of a shared desire to highlight the female creators who shape our cultural landscape\, this exhibition is much more than a series of portraits. It is an intimate encounter with fourteen committed female artists from diverse backgrounds who share a passion for creation and expression. Through their perspectives\, their stories\, and their varied disciplines\, these artists embody resilience\, audacity\, and feminine creative power. \nThis exhibition goes beyond simply taking portraits. It is also a series of interviews highlighting women artists from the Outaouais region. Through a series of portraits\, Tovar explored the strength and growth of these exceptional women artists\, each contributing in a unique way to the cultural richness of our community. It is a project that highlights women who embody inspiration through their role as artists.
URL:https://artinottawa.org/event/rostros-faces-and-voices-of-women-artists-in-the-outaouais-region-by-taimi-tovar/
LOCATION:Galerie Old Chelsea\, 783 Route 105\, Chelsea\, QC\, J9B 1P1\, Canada
CATEGORIES:Art Show
ATTACH;FMTTYPE=image/jpeg:https://artinottawa.org/wp-content/uploads/2026/02/Rostros.jpg
END:VEVENT
BEGIN:VEVENT
DTSTART;VALUE=DATE:20260226
DTEND;VALUE=DATE:20260318
DTSTAMP:20260423T172842
CREATED:20260224T031538Z
LAST-MODIFIED:20260224T031538Z
UID:4372-1772064000-1773791999@artinottawa.org
SUMMARY:Florence Victor Fairy Tales and Other Stories
DESCRIPTION:Everyone’s life is worth telling. We all have a story whose chapters address various subjects: fears\, doubts\, moral dilemmas\, obstacles\, but also encounters\, friendship and love. In fairy tales\, the perilous forest journey allows the main character to mature\, enriched by trials and life lessons\, and by the friendships forged along the way (see B. Bettelheim\, The Use of Enchantment: The Meaning and Importance of Fairy Tales\, 1976). In my personal narrative\, the cities of New York and Berlin become\, in turn\, this forest\, a place of passage and learning. \nThis is the premise of this exhibition.
URL:https://artinottawa.org/event/florence-victor-fairy-tales-and-other-stories/
LOCATION:Galerie St-Laurent + Hill\, 293 Dalhousie St\, Ottawa\, ON\, K1N 7E5\, Canada
CATEGORIES:Art Show
ATTACH;FMTTYPE=image/jpeg:https://artinottawa.org/wp-content/uploads/2026/02/Florence-Victor.jpg
ORGANIZER;CN="Galerie St-Laurent + Hill":MAILTO:info@galeriestlaurentplushill.com
END:VEVENT
BEGIN:VEVENT
DTSTART;VALUE=DATE:20260226
DTEND;VALUE=DATE:20260406
DTSTAMP:20260423T172842
CREATED:20260225T023730Z
LAST-MODIFIED:20260225T024506Z
UID:4393-1772064000-1775433599@artinottawa.org
SUMMARY:Where Water Meets Land: Mary Gourlay
DESCRIPTION:Mary Gourlay’s work emerges from an emotional and physical immersion in the natural world\, responding to the power\, fragility\, and temporality of landscape. Exploring remote environments by canoe\, kayak\, and on foot\, Gourlay creates sketches\, small paintings\, and photographs that capture fleeting moments of encounter. These fragmentary records form the basis for larger studio works that distill her lived experience of nature into richly expressive paintings. Since settling in Canada in 1992\, her work has been shaped by the landscapes of the Canadian Shield\, the south shore of the St. Lawrence near Rimouski\, and the Pacific coastline of Vancouver Island.
URL:https://artinottawa.org/event/where-water-meets-land-mary-gourlay/
LOCATION:Arbor Gallery\, 103 High St.\, Vankleek Hill\, ON\, K0B 1R0\, Canada
CATEGORIES:Art Show
ATTACH;FMTTYPE=image/jpeg:https://artinottawa.org/wp-content/uploads/2026/02/Where-Water-Meets-Land.jpg
END:VEVENT
BEGIN:VEVENT
DTSTART;VALUE=DATE:20260226
DTEND;VALUE=DATE:20260406
DTSTAMP:20260423T172842
CREATED:20260225T024115Z
LAST-MODIFIED:20260225T024426Z
UID:4398-1772064000-1775433599@artinottawa.org
SUMMARY:Rise: Sinclair A. Maloney
DESCRIPTION:Sinclair A. Maloney presents: Rise – a focused selection of landscape and seascape paintings. With a professional background in photography spanning 15 years\, his work is informed by a strong sense of composition and a keen observational eye.\nInfluenced by 19th-century painters such as Corot and Courbet\, and often compared to Turner for his atmospheric sensibility\, Maloney’s paintings balance precision and mood\, offering carefully observed scenes infused with subtle light\, depth\, and movement.
URL:https://artinottawa.org/event/rise-sinclair-a-maloney/
LOCATION:Arbor Gallery\, 103 High St.\, Vankleek Hill\, ON\, K0B 1R0\, Canada
CATEGORIES:Art Show
ATTACH;FMTTYPE=image/jpeg:https://artinottawa.org/wp-content/uploads/2026/02/Sinclair-A.-Maloney.jpg
END:VEVENT
BEGIN:VEVENT
DTSTART;VALUE=DATE:20260307
DTEND;VALUE=DATE:20260322
DTSTAMP:20260423T172842
CREATED:20260306T193049Z
LAST-MODIFIED:20260306T193049Z
UID:4432-1772841600-1774137599@artinottawa.org
SUMMARY:Joy Kardish | Simplicity in a Turbulent World
DESCRIPTION:Exhibition Dates: March 7 – 21\nVernissage: Saturday\, March 7 from 3 – 5 pm \nWall Space Gallery is proud to present Simplicity in a Turbulent World\, a solo exhibition by Ottawa-based photographer Joy Kardish\, in celebration of International Women’s Month. The exhibition considers the quiet\, sustaining moments often overlooked in the midst of unrest. In this body of work\, Kardish turns toward the textures of stillness\, the subtle play of light and surface\, and the small spaces where presence settles into form. Working through historic analog processes\, she creates images that favor deliberation over immediacy and material depth over spectacle. \nAcross the exhibition\, Kardish’s use of cyanotype\, gelatin silver\, and lith printing reflects a commitment to process as a form of discipline. They are structured\, measured\, and materially grounded. In a time marked by volatility and distraction\, Simplicity in a Turbulent World proposes a steadier visual language\, one rooted in light\, shadow\, and the enduring physicality of the photographic print. \n 
URL:https://artinottawa.org/event/joy-kardish-simplicity-in-a-turbulent-world/
LOCATION:Wall Space Gallery\, 1090 Bank St\, Ottawa\, ON\, K1S 3X5\, Canada
CATEGORIES:Art Show
ATTACH;FMTTYPE=image/jpeg:https://artinottawa.org/wp-content/uploads/2026/03/Joy-Kardish.jpg
END:VEVENT
BEGIN:VEVENT
DTSTART;VALUE=DATE:20260307
DTEND;VALUE=DATE:20260322
DTSTAMP:20260423T172842
CREATED:20260306T193330Z
LAST-MODIFIED:20260306T193330Z
UID:4435-1772841600-1774137599@artinottawa.org
SUMMARY:Iryna Merkulova | Peripheral Surfaces
DESCRIPTION:Exhibition Dates: March 7 – 21\nVernissage: Saturday\, March 7 from 3 – 5 pm\, artist talk @ 3:45 pm \nWall Space Gallery is excited to present Peripheral Surfaces\, a solo exhibition by Montreal-based artist Iryna Merkulova\, in celebration of International Women’s Month. In this series\, Merkulova treats the storefront window not as a transparent boundary but as a charged surface where desire\, access\, and distance collide. Her paintings do not present the city as coherent or navigable. Instead\, they concentrate on glass\, signage\, glare\, and artificial light\, the very elements that structure how we look and what we are permitted to see. \nBorn in Kyiv and based in Montreal\, Merkulova approaches urban space from a position shaped by movement and relocation. Reflection becomes more than a visual device. It becomes a condition of inhabiting the city without fully claiming it. Commercial surfaces dominate the field of vision\, flattening architecture into image and transforming interiors into spectacle.\nAcross Peripheral Surfaces\, the city emerges as layered\, seductive\, and unstable. Glass does not clarify but multiplies\, and signage does not simply advertise but structures perception. Merkulova’s brushwork reinforces this instability\, allowing forms to flicker between solidity and dissolution. These paintings locate urban life at the edge of visibility\, where belonging is provisional and space is experienced through surface.
URL:https://artinottawa.org/event/iryna-merkulova-peripheral-surfaces/
LOCATION:Wall Space Gallery\, 1090 Bank St\, Ottawa\, ON\, K1S 3X5\, Canada
CATEGORIES:Art Show
ATTACH;FMTTYPE=image/jpeg:https://artinottawa.org/wp-content/uploads/2026/03/Merkulova.jpg
END:VEVENT
BEGIN:VEVENT
DTSTART;TZID=America/Toronto:20260307T100000
DTEND;TZID=America/Toronto:20260307T160000
DTSTAMP:20260423T172842
CREATED:20260216T033147Z
LAST-MODIFIED:20260216T033147Z
UID:4318-1772877600-1772899200@artinottawa.org
SUMMARY:Art Lending of Ottawa Art Show
DESCRIPTION:Saturday\, March 7\, 2026\, from 10 am to 4 pm at the Jim Durrell Recreation Centre\,1265 Walkley Road\, Ottawa\, Ontario\n\n\nArt Show Free Admission \n\n\nFree Parking & Wheelchair Access \n\n\nGift certificates are available at each art show for future art purchases or rentals. \n\n\nNo sales tax \n\n\nDoor prizes available to be won \nArt by over forty local juried artists includes affordable oils\, acrylics\, watercolours\, mixed media\, encaustics\, ink\, pastels\, photography\, printmaking\, and mosaics.
URL:https://artinottawa.org/event/art-lending-of-ottawa-art-show/
LOCATION:Jim Durrell Recreation Centre\, 1265 Walkley Rd\, Ottawa\, ON\, K1V 6P9\, Canada
CATEGORIES:Art Show
ATTACH;FMTTYPE=image/jpeg:https://artinottawa.org/wp-content/uploads/2026/02/Art-Lending-of-Ottawa.jpg
END:VEVENT
BEGIN:VEVENT
DTSTART;VALUE=DATE:20260312
DTEND;VALUE=DATE:20260422
DTSTAMP:20260423T172843
CREATED:20260225T025452Z
LAST-MODIFIED:20260225T025452Z
UID:4403-1773273600-1776815999@artinottawa.org
SUMMARY:Dinho Bento: Another Cycle
DESCRIPTION:Another Cycle presents paintings and mixed-media works exploring the intersection of the human body and nature through surreal atmospheres and organic textures. Dinho Bento reflects on belonging\, shelter and transformation\, inviting viewers into a poetic dialogue about identity\, emotional connection and the cyclical essence of existence. \nAs a Brazilian artist based in Canada\, Dinho Bento merges Minas Gerais Baroque heritage with precise organic observation. He’s an internationally recognized muralist who maintains a research‑driven studio practice. His work examines tensions and harmonies between humanity and nature\, creating a dialogue between public art and exhibition space.
URL:https://artinottawa.org/event/dinho-bento-another-cycle/
LOCATION:Atrium Gallery – Ben Franklin Place\, 101 Centrepointe Dr\, Ottawa\, K2G 0B5\, Canada
CATEGORIES:Art Show
ATTACH;FMTTYPE=image/jpeg:https://artinottawa.org/wp-content/uploads/2026/02/Dinho-Bento-.jpg
END:VEVENT
BEGIN:VEVENT
DTSTART;VALUE=DATE:20260318
DTEND;VALUE=DATE:20260427
DTSTAMP:20260423T172843
CREATED:20260319T171019Z
LAST-MODIFIED:20260319T171019Z
UID:4498-1773792000-1777247999@artinottawa.org
SUMMARY:Levelling Up
DESCRIPTION:The Kanata Civic Art Gallery is pleased to present “Levelling Up\,” a new exhibition featuring the work of 26 gallery artists. \nThis vibrant show brings together a wide range of styles\, subjects\, and mediums\, offering visitors an engaging look at the depth and diversity of our artistic community. From painting and photography to mixed media and more\, each piece reflects the continued growth and creative evolution of our members. \nAll artwork is available for purchase\, making this a wonderful opportunity to add original\, local art to your collection. \nWe invite you to visit and experience the exhibition in person. \nExhibition Dates \nMarch 18 to April 26\, 2026 \nLocation \nKanata Civic Art Gallery \nMlacak Community Centre \n2500 Campeau Drive \nKanata\, Ontario
URL:https://artinottawa.org/event/levelling-up/
LOCATION:Kanata Civic Art Gallery\, 2500 Campeau Drive\, Kanata\, ON\, K2K 2W3\, Canada
CATEGORIES:Art Show
ATTACH;FMTTYPE=image/jpeg:https://artinottawa.org/wp-content/uploads/2026/03/Levelling-Up.jpg
END:VEVENT
BEGIN:VEVENT
DTSTART;VALUE=DATE:20260319
DTEND;VALUE=DATE:20260406
DTSTAMP:20260423T172843
CREATED:20260303T211440Z
LAST-MODIFIED:20260303T211440Z
UID:4420-1773878400-1775433599@artinottawa.org
SUMMARY:Naturally Canada
DESCRIPTION:“Naturally Canada / Naturellement le Canada” is a dynamic exhibition of mixed media artwork inspired by the vast and diverse nature of Canada. \nThe collection features works that range from abstract interpretations to detailed representational pieces. Each artwork demonstrates a visible integration of mixed media and/or mixed techniques—combining materials such as paint\, collage\, texture\, found objects\, and layered processes to create depth and dimension. Through this diversity of styles and methods\, the exhibition reflects not only the richness of Canada’s environment but also the varied artistic voices inspired by it. \n“Naturally Canada / Naturellement le Canada” celebrates the beauty\, complexity\, and spirit of the natural world\, inviting viewers to experience Canada’s landscapes through innovative and expressive artistic perspectives.
URL:https://artinottawa.org/event/naturally-canada/
LOCATION:Galerie Old Chelsea\, 783 Route 105\, Chelsea\, QC\, J9B 1P1\, Canada
CATEGORIES:Art Show
ATTACH;FMTTYPE=image/jpeg:https://artinottawa.org/wp-content/uploads/2026/03/Naturally-Canadian.jpg
END:VEVENT
BEGIN:VEVENT
DTSTART;VALUE=DATE:20260330
DTEND;VALUE=DATE:20260518
DTSTAMP:20260423T172843
CREATED:20260405T152508Z
LAST-MODIFIED:20260405T152508Z
UID:4546-1774828800-1779062399@artinottawa.org
SUMMARY:Whispers of Change
DESCRIPTION:A new Art Show at Art Hub Gallery this spring.
URL:https://artinottawa.org/event/whispers-of-change/
LOCATION:Art Hub Gallery\, 50 Bennett St\, Carleton Place\, ON\, K7C 4J9\, Canada
CATEGORIES:Art Show
ATTACH;FMTTYPE=image/jpeg:https://artinottawa.org/wp-content/uploads/2026/04/Whispers-of-Change-.jpg
END:VEVENT
END:VCALENDAR