BEGIN:VCALENDAR
VERSION:2.0
PRODID:-//Art In Ottawa - ECPv6.15.20//NONSGML v1.0//EN
CALSCALE:GREGORIAN
METHOD:PUBLISH
X-ORIGINAL-URL:https://artinottawa.org
X-WR-CALDESC:Events for Art In Ottawa
REFRESH-INTERVAL;VALUE=DURATION:PT1H
X-Robots-Tag:noindex
X-PUBLISHED-TTL:PT1H
BEGIN:VTIMEZONE
TZID:America/Toronto
BEGIN:DAYLIGHT
TZOFFSETFROM:-0500
TZOFFSETTO:-0400
TZNAME:EDT
DTSTART:20240310T070000
END:DAYLIGHT
BEGIN:STANDARD
TZOFFSETFROM:-0400
TZOFFSETTO:-0500
TZNAME:EST
DTSTART:20241103T060000
END:STANDARD
BEGIN:DAYLIGHT
TZOFFSETFROM:-0500
TZOFFSETTO:-0400
TZNAME:EDT
DTSTART:20250309T070000
END:DAYLIGHT
BEGIN:STANDARD
TZOFFSETFROM:-0400
TZOFFSETTO:-0500
TZNAME:EST
DTSTART:20251102T060000
END:STANDARD
BEGIN:DAYLIGHT
TZOFFSETFROM:-0500
TZOFFSETTO:-0400
TZNAME:EDT
DTSTART:20260308T070000
END:DAYLIGHT
BEGIN:STANDARD
TZOFFSETFROM:-0400
TZOFFSETTO:-0500
TZNAME:EST
DTSTART:20261101T060000
END:STANDARD
BEGIN:DAYLIGHT
TZOFFSETFROM:-0500
TZOFFSETTO:-0400
TZNAME:EDT
DTSTART:20270314T070000
END:DAYLIGHT
BEGIN:STANDARD
TZOFFSETFROM:-0400
TZOFFSETTO:-0500
TZNAME:EST
DTSTART:20271107T060000
END:STANDARD
END:VTIMEZONE
BEGIN:VEVENT
DTSTART;VALUE=DATE:20250617
DTEND;VALUE=DATE:20260520
DTSTAMP:20260423T190616
CREATED:20250611T213214Z
LAST-MODIFIED:20250611T213214Z
UID:3791-1750118400-1779235199@artinottawa.org
SUMMARY:Resistant Fibres
DESCRIPTION:Resistant Fibres\, curated by Julie Graff\, presents 18 textile and fibre works of art from the Canada Council Art Bank collection by artists who use this medium as a powerful tool for protest\, resistance\, celebration\, joy and healing.
URL:https://artinottawa.org/event/resistant-fibres/
LOCATION:Âjagemô art space\, 150 Elgin St.\, Ottawa\, ON\, K2P 2P8\, Canada
CATEGORIES:Art Show
ATTACH;FMTTYPE=image/jpeg:https://artinottawa.org/wp-content/uploads/2025/06/Resistant-Fibres.jpg
END:VEVENT
BEGIN:VEVENT
DTSTART;VALUE=DATE:20260330
DTEND;VALUE=DATE:20260518
DTSTAMP:20260423T190616
CREATED:20260405T152508Z
LAST-MODIFIED:20260405T152508Z
UID:4546-1774828800-1779062399@artinottawa.org
SUMMARY:Whispers of Change
DESCRIPTION:A new Art Show at Art Hub Gallery this spring.
URL:https://artinottawa.org/event/whispers-of-change/
LOCATION:Art Hub Gallery\, 50 Bennett St\, Carleton Place\, ON\, K7C 4J9\, Canada
CATEGORIES:Art Show
ATTACH;FMTTYPE=image/jpeg:https://artinottawa.org/wp-content/uploads/2026/04/Whispers-of-Change-.jpg
END:VEVENT
BEGIN:VEVENT
DTSTART;VALUE=DATE:20260409
DTEND;VALUE=DATE:20260518
DTSTAMP:20260423T190616
CREATED:20260413T222353Z
LAST-MODIFIED:20260413T222353Z
UID:4582-1775692800-1779062399@artinottawa.org
SUMMARY:Trailer Trash - Randall Anderson
DESCRIPTION:Step into the world of Randall Anderson in Trailer Trash\, a provocative exploration of high and low culture through personal and social lenses. Drawing on his upbringing in trailer parks\, early work as a diesel mechanic\, and extensive studies in critical theory and formalist painting\, Anderson creates work that challenges conventional ideas of art and cultural value. His pieces blend everyday experience with formal experimentation\, offering intimate and thought-provoking reflections on the spaces we inhabit and the ways we interpret them.
URL:https://artinottawa.org/event/trailer-trash-randall-anderson/
LOCATION:Arbor Gallery\, 103 High St.\, Vankleek Hill\, ON\, K0B 1R0\, Canada
CATEGORIES:Art Show
ATTACH;FMTTYPE=image/jpeg:https://artinottawa.org/wp-content/uploads/2026/04/Arbour-1.jpg
END:VEVENT
BEGIN:VEVENT
DTSTART;VALUE=DATE:20260409
DTEND;VALUE=DATE:20260518
DTSTAMP:20260423T190616
CREATED:20260413T222529Z
LAST-MODIFIED:20260413T222529Z
UID:4585-1775692800-1779062399@artinottawa.org
SUMMARY:Dimensions - Annie-France Bowker
DESCRIPTION:In Dimensions\, Annie-France Bowker explores form\, perception\, and imagined landscapes through handwoven wall hangings. Her work navigates the space between the tangible and the abstract\, where geometry meets intuition and structure gives way to otherworldly possibility. Weaving is a deeply meditative process for Bowker\, and in its rhythm\, she often finds herself transported into unfamiliar inner spaces. Each piece begins as a sketch and evolves on the loom into a kind of puzzle\, guided by both logic and instinct. Though the process is not always exact\, there is a moment when material\, gesture\, and intention align\, and each work finds its form.
URL:https://artinottawa.org/event/dimensions-annie-france-bowker/
LOCATION:Arbor Gallery\, 103 High St.\, Vankleek Hill\, ON\, K0B 1R0\, Canada
CATEGORIES:Art Show
ATTACH;FMTTYPE=image/jpeg:https://artinottawa.org/wp-content/uploads/2026/04/Dimensions.jpg
END:VEVENT
BEGIN:VEVENT
DTSTART;VALUE=DATE:20260425
DTEND;VALUE=DATE:20260516
DTSTAMP:20260423T190616
CREATED:20260421T150417Z
LAST-MODIFIED:20260421T150944Z
UID:4589-1777075200-1778889599@artinottawa.org
SUMMARY:Farther Afield
DESCRIPTION:The Kanata Civic Art Gallery is pleased to invite you to a special off-site exhibition\, “Farther Afield”\, opening this Saturday\, April 25th\, at the Carleton Place Gallery.\nThis time\, we’re taking things a little farther afield. For this exhibition\, 29 artists are stepping outside our usual Kanata home and bringing their work to the Carleton Place Gallery. This is a chance to discover a wide range of local art in a fresh setting. \nThe exhibition features a diverse range of work\, including painting\, fibre art\, sculpture\, photography\, and mixed media\, reflecting the breadth of our artists’ practices.\n\nMake an afternoon of it: visit the gallery\, meet the artists\, and enjoy the charm of Carleton Place along the way.\n\nExhibition Dates: April 25 – May 15\, 2026\n\nJoin us for the Vernissage: Saturday\, April 25\, 2026\, 1:00 – 4:00 PM \n\nMeet the artists\, enjoy light refreshments\, and be part of the energy of opening day.\n\nCarleton Place Gallery\n210 Bridge St\nCarleton Place\, ON\nhttps://www.cpgallery.ca/ \nGallery Hours: \nWednesday – Sunday 10:00 AM – 5:00 PM\n(Closed Monday and Tuesday) \nParticipating Artists: \n\nSusan Allan\nRichard Austin\nPosy Bennett\nTamara H. Campbell\nIya Carson\nStephany Castilla\nSharon Collins\nKimberley Di Penta\nErika Farkas\nJanis Hall\nS. Gordon Harwood\nLauren Henry\nMonique Huneault\nPatrick Imai\nShelley Irving\nIsabelle Jérôme\nMargrit Jorgensen\nJackie Kavanagh\nVeronika McKerrell\nJudi Miller\nElizabeth Potvin\nJacqueline RattoAllard\nAnne Remmer Thompson\nWendy Russell\nKathryn Sauvé\nMonika Seidenbusch\nMark Stephenson\nDulce Tapp\nHeather Lovat-Fraser
URL:https://artinottawa.org/event/farther-afield/
LOCATION:Carleton Place Gallery\, 210 Bridge St\, Carleton Place\, ON\, K7C 3G9\, Canada
CATEGORIES:Art Exhibition,Art Show
ATTACH;FMTTYPE=image/jpeg:https://artinottawa.org/wp-content/uploads/2026/04/Kanata-CAG.jpg
END:VEVENT
BEGIN:VEVENT
DTSTART;VALUE=DATE:20260428
DTEND;VALUE=DATE:20260511
DTSTAMP:20260423T190616
CREATED:20260413T220924Z
LAST-MODIFIED:20260413T220924Z
UID:4570-1777334400-1778457599@artinottawa.org
SUMMARY:The Fourth Annual West End Sculpture Show
DESCRIPTION:The Fourth Annual West End Sculpture Show runs from April 28 through to May 10 at the Kanata Civic Art Gallery (John G. Mlacak Centre\, 2500 Campeau Dr\, Kanata). This is a juried exhibition showcasing contemporary sculpture in stone\, metal\, wood\, and mixed media made by sculptors from across the National Capital Region. Free and open to the public. \nThe public is also invited to meet all of the exhibiting artists at Vernissage on Sunday\, May 3rd (12:30-3:30 pm) \nAbout NCNS: The National Capital Network of Sculptors is a non-profit dedicated to increasing awareness and appreciation for the sculptural arts in the National Capital region. Members include both professional and talented emerging artists.
URL:https://artinottawa.org/event/the-fourth-annual-west-end-sculpture-show/
LOCATION:Kanata Civic Art Gallery\, 2500 Campeau Drive\, Kanata\, ON\, K2K 2W3\, Canada
CATEGORIES:Art Show
ATTACH;FMTTYPE=image/jpeg:https://artinottawa.org/wp-content/uploads/2026/04/West-End-Sculpture-Art-Show.jpg
END:VEVENT
BEGIN:VEVENT
DTSTART;VALUE=DATE:20260509
DTEND;VALUE=DATE:20260525
DTSTAMP:20260423T190616
CREATED:20260325T234912Z
LAST-MODIFIED:20260325T234912Z
UID:4502-1778284800-1779667199@artinottawa.org
SUMMARY:Art Credo 2026
DESCRIPTION:ArtCredo is an art exhibit in which parishoners and visitors enjoy\, and may purchase\, artworks from over 40 local artists. The artworks are intended to be of a spiritual\, contemplative or devotional nature. This popular Ottawa Art show brings more than 700 people into our beautiful sacred space each year.
URL:https://artinottawa.org/event/art-credo-2026/
LOCATION:St. John’s Anglican Church\, 154 Somerset West\, Ottawa\, ON\, K2P0H8\, Canada
CATEGORIES:Art Show
ATTACH;FMTTYPE=image/jpeg:https://artinottawa.org/wp-content/uploads/2026/03/Art-Credo.jpg
END:VEVENT
END:VCALENDAR