BEGIN:VCALENDAR
VERSION:2.0
PRODID:-//Art In Ottawa - ECPv6.15.20//NONSGML v1.0//EN
CALSCALE:GREGORIAN
METHOD:PUBLISH
X-ORIGINAL-URL:https://artinottawa.org
X-WR-CALDESC:Events for Art In Ottawa
REFRESH-INTERVAL;VALUE=DURATION:PT1H
X-Robots-Tag:noindex
X-PUBLISHED-TTL:PT1H
BEGIN:VTIMEZONE
TZID:America/Toronto
BEGIN:DAYLIGHT
TZOFFSETFROM:-0500
TZOFFSETTO:-0400
TZNAME:EDT
DTSTART:20240310T070000
END:DAYLIGHT
BEGIN:STANDARD
TZOFFSETFROM:-0400
TZOFFSETTO:-0500
TZNAME:EST
DTSTART:20241103T060000
END:STANDARD
BEGIN:DAYLIGHT
TZOFFSETFROM:-0500
TZOFFSETTO:-0400
TZNAME:EDT
DTSTART:20250309T070000
END:DAYLIGHT
BEGIN:STANDARD
TZOFFSETFROM:-0400
TZOFFSETTO:-0500
TZNAME:EST
DTSTART:20251102T060000
END:STANDARD
BEGIN:DAYLIGHT
TZOFFSETFROM:-0500
TZOFFSETTO:-0400
TZNAME:EDT
DTSTART:20260308T070000
END:DAYLIGHT
BEGIN:STANDARD
TZOFFSETFROM:-0400
TZOFFSETTO:-0500
TZNAME:EST
DTSTART:20261101T060000
END:STANDARD
END:VTIMEZONE
BEGIN:VEVENT
DTSTART;TZID=America/Toronto:20250411T190000
DTEND;TZID=America/Toronto:20250411T220000
DTSTAMP:20260424T204523
CREATED:20250407T033647Z
LAST-MODIFIED:20250407T033647Z
UID:3692-1744398000-1744408800@artinottawa.org
SUMMARY:Art Battle - April 11\, 2025
DESCRIPTION:Witness Binita Thapa transforming her journey of healing into stunning abstract paintings\, brimming with vibrant colors\, floral beauty\, and spiritual themes of love and renewal. Nicole Bonilla ignites the stage with her Venezuelan-inspired murals and fantastical creations\, blending acrylics\, watercolors\, and spray paints into surreal landscapes that tell mesmerizing stories. \nFeel the energy of Emilie Scott’s boundary-pushing art\, where bold color palettes and intriguing textures merge the mythical with reality\, inviting deep reflection and wonder. Watch Mel Laflamme bring magic to life\, from quirky creatures painted with gouache to digital VTuber models crafted with precision\, all while embracing her playful and creative spirit. \nMelanie McDonald will captivate you with her imaginative creations\, from sketching charismatic D&D characters to building jaw-dropping cosplay and props that bring fantasy to life. Sophia Payman paints with passion\, blending realism and emotion in her stunning portraits and landscapes that explore identity\, nature\, and the depth of human experience. \nLoganWow takes you on a journey through chaos and beauty\, channeling his emotional experiences into expressive and abstract masterpieces\, primarily painted with oils on canvas. Pravee invites art lovers to witness his brilliance as he showcases his vibrant work\, while Brennan Bova brings maximalism and cartoon-inspired energy to the scene\, ready to make his debut with electrifying creativity.
URL:https://artinottawa.org/event/art-battle-april-11-2025/
LOCATION:Overflow Brewing Company\, 2477 Kaladar Ave\, Ottawa\, ON\, K1V 8B9\, Canada
CATEGORIES:Entertainment
ATTACH;FMTTYPE=image/jpeg:https://artinottawa.org/wp-content/uploads/2025/04/Art-Battle-Apr-11.jpg
END:VEVENT
END:VCALENDAR