BEGIN:VCALENDAR
VERSION:2.0
PRODID:-//Art In Ottawa - ECPv6.15.20//NONSGML v1.0//EN
CALSCALE:GREGORIAN
METHOD:PUBLISH
X-ORIGINAL-URL:https://artinottawa.org
X-WR-CALDESC:Events for Art In Ottawa
REFRESH-INTERVAL;VALUE=DURATION:PT1H
X-Robots-Tag:noindex
X-PUBLISHED-TTL:PT1H
BEGIN:VTIMEZONE
TZID:America/Toronto
BEGIN:DAYLIGHT
TZOFFSETFROM:-0500
TZOFFSETTO:-0400
TZNAME:EDT
DTSTART:20240310T070000
END:DAYLIGHT
BEGIN:STANDARD
TZOFFSETFROM:-0400
TZOFFSETTO:-0500
TZNAME:EST
DTSTART:20241103T060000
END:STANDARD
BEGIN:DAYLIGHT
TZOFFSETFROM:-0500
TZOFFSETTO:-0400
TZNAME:EDT
DTSTART:20250309T070000
END:DAYLIGHT
BEGIN:STANDARD
TZOFFSETFROM:-0400
TZOFFSETTO:-0500
TZNAME:EST
DTSTART:20251102T060000
END:STANDARD
BEGIN:DAYLIGHT
TZOFFSETFROM:-0500
TZOFFSETTO:-0400
TZNAME:EDT
DTSTART:20260308T070000
END:DAYLIGHT
BEGIN:STANDARD
TZOFFSETFROM:-0400
TZOFFSETTO:-0500
TZNAME:EST
DTSTART:20261101T060000
END:STANDARD
END:VTIMEZONE
BEGIN:VEVENT
DTSTART;TZID=America/Toronto:20251211T190000
DTEND;TZID=America/Toronto:20251211T220000
DTSTAMP:20260424T032103
CREATED:20251205T174652Z
LAST-MODIFIED:20251205T174652Z
UID:4161-1765479600-1765490400@artinottawa.org
SUMMARY:Art Battle Ottawa\, Dec 11\, 2025
DESCRIPTION:🕊 Daniel Martelock – The urban alchemist\, transforming discarded materials into vibrant murals alive with birds\, wildlife\, and color. His work reinvents the cityscape\, turning forgotten objects into meaningful visions of renewal.\n🎨 Heather CarGio – The whimsical surrealist\, painting playful icons and mischievous characters with bold palettes and expressive eyes. Her art dances between sweetness and strangeness\, nostalgia and uncanny delight.\n⏳ Jennifer Ford – The seasoned storyteller\, weaving decades of multimedia craft into the immediacy of Art Battle. With every brushstroke she distills vision to its essence—personal\, relatable\, and alive in the moment.\n✨ Sarah O’Neill – The emotive narrator\, channeling portraiture into raw storytelling. A designer by day\, she embraces spontaneity and imperfection at the easel\, creating works that pulse with human connection.\n🔥 Suzannah Robertson – The expressive contender\, painting fast and loose with fearless energy. From cerebral to emotional\, literal to abstract\, her art captures the fleeting intensity of each moment under pressure
URL:https://artinottawa.org/event/art-battle-ottawa-dec-11-2025/
LOCATION:Overflow Brewing Company\, 2477 Kaladar Ave\, Ottawa\, ON\, K1V 8B9\, Canada
CATEGORIES:Entertainment
ATTACH;FMTTYPE=image/jpeg:https://artinottawa.org/wp-content/uploads/2025/12/Art-Battle-Dec-11.jpg
END:VEVENT
END:VCALENDAR