BEGIN:VCALENDAR
VERSION:2.0
PRODID:-//Art In Ottawa - ECPv6.15.20//NONSGML v1.0//EN
CALSCALE:GREGORIAN
METHOD:PUBLISH
X-WR-CALNAME:Art In Ottawa
X-ORIGINAL-URL:https://artinottawa.org
X-WR-CALDESC:Events for Art In Ottawa
REFRESH-INTERVAL;VALUE=DURATION:PT1H
X-Robots-Tag:noindex
X-PUBLISHED-TTL:PT1H
BEGIN:VTIMEZONE
TZID:America/Toronto
BEGIN:DAYLIGHT
TZOFFSETFROM:-0500
TZOFFSETTO:-0400
TZNAME:EDT
DTSTART:20230312T070000
END:DAYLIGHT
BEGIN:STANDARD
TZOFFSETFROM:-0400
TZOFFSETTO:-0500
TZNAME:EST
DTSTART:20231105T060000
END:STANDARD
BEGIN:DAYLIGHT
TZOFFSETFROM:-0500
TZOFFSETTO:-0400
TZNAME:EDT
DTSTART:20240310T070000
END:DAYLIGHT
BEGIN:STANDARD
TZOFFSETFROM:-0400
TZOFFSETTO:-0500
TZNAME:EST
DTSTART:20241103T060000
END:STANDARD
BEGIN:DAYLIGHT
TZOFFSETFROM:-0500
TZOFFSETTO:-0400
TZNAME:EDT
DTSTART:20250309T070000
END:DAYLIGHT
BEGIN:STANDARD
TZOFFSETFROM:-0400
TZOFFSETTO:-0500
TZNAME:EST
DTSTART:20251102T060000
END:STANDARD
BEGIN:DAYLIGHT
TZOFFSETFROM:-0500
TZOFFSETTO:-0400
TZNAME:EDT
DTSTART:20260308T070000
END:DAYLIGHT
BEGIN:STANDARD
TZOFFSETFROM:-0400
TZOFFSETTO:-0500
TZNAME:EST
DTSTART:20261101T060000
END:STANDARD
END:VTIMEZONE
BEGIN:VEVENT
DTSTART;VALUE=DATE:20241230
DTEND;VALUE=DATE:20250331
DTSTAMP:20260424T234443
CREATED:20250307T231834Z
LAST-MODIFIED:20250307T231834Z
UID:3572-1735516800-1743379199@artinottawa.org
SUMMARY:Spaghetti Chorus
DESCRIPTION:Visitors are invited to speak into one of two microphones suspended at the ends of a long\, glowing thread. As voices travel through shafts of color\, they transform into a fusion of music and light\, creating unique melodic moments. \nDesigned specifically for the National Gallery of Canada’s iconic Scotiabank Great Hall\, Spaghetti Chorus is a new installment in Daily tous les jours’ Hello series. This series explores the music and harmonics of human speech through poetic messaging systems. In a world increasingly dominated by screens\, Spaghetti Chorus uses the human voice to forge musical connections\, inviting a deeper bond beyond words.
URL:https://artinottawa.org/event/spaghetti-chorus/
LOCATION:National Gallery of Canada\, 380 Sussex Drive\, Ottawa\, ON\, K1N 9N4\, Canada
CATEGORIES:Entertainment
ATTACH;FMTTYPE=image/jpeg:https://artinottawa.org/wp-content/uploads/2025/03/Spaghetti.jpg
ORGANIZER;CN="National Gallery of Canada":MAILTO:info@gallery.ca
END:VEVENT
BEGIN:VEVENT
DTSTART;TZID=America/Toronto:20250313T190000
DTEND;TZID=America/Toronto:20250313T220000
DTSTAMP:20260424T234443
CREATED:20250222T031140Z
LAST-MODIFIED:20250222T031140Z
UID:3524-1741892400-1741903200@artinottawa.org
SUMMARY:Art Battle Ottawa\, March 13
DESCRIPTION:Ottawa artists step to their easels for three rounds of live art action. \nJoin us again for an electrifying evening in the Art Battle in Ottawa! Watch in awe as talented artists transform blank canvases into breathtaking masterpieces within just 20 minutes\, competing across three adrenaline-pumping rounds. Your vote will decide the winner! \nWhy attend and bring a friend? \n✨ Live Artistic Showdown – Witness the thrill as artists race against the clock to create stunning artworks.\n✨ Interactive Voting – Be part of the action; your vote crowns the champion.\n✨ Art Auction – Bid on your favorite pieces created during the event.\n✨ Community Spirit – Immerse yourself in the vibrancy of San Francisco art scene. \nArt Battle Ottawa is an All Ages event.
URL:https://artinottawa.org/event/art-battle-ottawa-march-13/
LOCATION:Overflow Brewing Company\, 2477 Kaladar Ave\, Ottawa\, ON\, K1V 8B9\, Canada
CATEGORIES:Entertainment
ATTACH;FMTTYPE=image/jpeg:https://artinottawa.org/wp-content/uploads/2025/02/Art-Battle-13-Mar.jpg
END:VEVENT
END:VCALENDAR