BEGIN:VCALENDAR
VERSION:2.0
PRODID:-//Art In Ottawa - ECPv6.15.20//NONSGML v1.0//EN
CALSCALE:GREGORIAN
METHOD:PUBLISH
X-WR-CALNAME:Art In Ottawa
X-ORIGINAL-URL:https://artinottawa.org
X-WR-CALDESC:Events for Art In Ottawa
REFRESH-INTERVAL;VALUE=DURATION:PT1H
X-Robots-Tag:noindex
X-PUBLISHED-TTL:PT1H
BEGIN:VTIMEZONE
TZID:America/Toronto
BEGIN:DAYLIGHT
TZOFFSETFROM:-0500
TZOFFSETTO:-0400
TZNAME:EDT
DTSTART:20240310T070000
END:DAYLIGHT
BEGIN:STANDARD
TZOFFSETFROM:-0400
TZOFFSETTO:-0500
TZNAME:EST
DTSTART:20241103T060000
END:STANDARD
BEGIN:DAYLIGHT
TZOFFSETFROM:-0500
TZOFFSETTO:-0400
TZNAME:EDT
DTSTART:20250309T070000
END:DAYLIGHT
BEGIN:STANDARD
TZOFFSETFROM:-0400
TZOFFSETTO:-0500
TZNAME:EST
DTSTART:20251102T060000
END:STANDARD
BEGIN:DAYLIGHT
TZOFFSETFROM:-0500
TZOFFSETTO:-0400
TZNAME:EDT
DTSTART:20260308T070000
END:DAYLIGHT
BEGIN:STANDARD
TZOFFSETFROM:-0400
TZOFFSETTO:-0500
TZNAME:EST
DTSTART:20261101T060000
END:STANDARD
END:VTIMEZONE
BEGIN:VEVENT
DTSTART;TZID=America/Toronto:20250704T190000
DTEND;TZID=America/Toronto:20250704T220000
DTSTAMP:20260424T174216
CREATED:20250619T035004Z
LAST-MODIFIED:20250619T035004Z
UID:3800-1751655600-1751666400@artinottawa.org
SUMMARY:Art Battle\, July 4
DESCRIPTION:Regular season event winners and All-Stars from Ottawa return for their chance to become the 2025 Ottawa City Champion and head to the Canadian National Championships in Toronto on July 24th! \nBe part of the decision-making process and vote for the ultimate winner. And don’t miss your chance to own a piece of the action with the silent auction of all original works! \nWhy attend and bring a friend? \n✨ Live Artistic Showdown – Witness the thrill as artists race against the clock to create stunning artworks.\n✨ Interactive Voting – Be part of the action; your vote crowns the champion.\n✨ Art Auction – Bid on your favourite pieces created during the event.\n✨ Community Spirit – Immerse yourself in the vibrancy of Ottawa art scene. \nThis is an All Ages event.
URL:https://artinottawa.org/event/art-battle-july-4/
LOCATION:Overflow Brewing Company\, 2477 Kaladar Ave\, Ottawa\, ON\, K1V 8B9\, Canada
CATEGORIES:Entertainment
ATTACH;FMTTYPE=image/jpeg:https://artinottawa.org/wp-content/uploads/2025/06/Art-Battle-Jul-4.jpg
END:VEVENT
END:VCALENDAR