BEGIN:VCALENDAR
VERSION:2.0
PRODID:-//Art In Ottawa - ECPv6.15.20//NONSGML v1.0//EN
CALSCALE:GREGORIAN
METHOD:PUBLISH
X-WR-CALNAME:Art In Ottawa
X-ORIGINAL-URL:https://artinottawa.org
X-WR-CALDESC:Events for Art In Ottawa
REFRESH-INTERVAL;VALUE=DURATION:PT1H
X-Robots-Tag:noindex
X-PUBLISHED-TTL:PT1H
BEGIN:VTIMEZONE
TZID:America/Toronto
BEGIN:DAYLIGHT
TZOFFSETFROM:-0500
TZOFFSETTO:-0400
TZNAME:EDT
DTSTART:20250309T070000
END:DAYLIGHT
BEGIN:STANDARD
TZOFFSETFROM:-0400
TZOFFSETTO:-0500
TZNAME:EST
DTSTART:20251102T060000
END:STANDARD
BEGIN:DAYLIGHT
TZOFFSETFROM:-0500
TZOFFSETTO:-0400
TZNAME:EDT
DTSTART:20260308T070000
END:DAYLIGHT
BEGIN:STANDARD
TZOFFSETFROM:-0400
TZOFFSETTO:-0500
TZNAME:EST
DTSTART:20261101T060000
END:STANDARD
BEGIN:DAYLIGHT
TZOFFSETFROM:-0500
TZOFFSETTO:-0400
TZNAME:EDT
DTSTART:20270314T070000
END:DAYLIGHT
BEGIN:STANDARD
TZOFFSETFROM:-0400
TZOFFSETTO:-0500
TZNAME:EST
DTSTART:20271107T060000
END:STANDARD
END:VTIMEZONE
BEGIN:VEVENT
DTSTART;TZID=America/Toronto:20260305T190000
DTEND;TZID=America/Toronto:20260305T233000
DTSTAMP:20260424T032205
CREATED:20260217T032134Z
LAST-MODIFIED:20260217T032134Z
UID:4342-1772737200-1772753400@artinottawa.org
SUMMARY:Art Battle\, March 5 2026
DESCRIPTION:3 rounds of action \n📅 March 5 @ 7:00 PM\n📍 Overflow Brewing – 2477 Kaladar Ave\, Ottawa\n🎟️ GET TICKETS \n  \nWhy attend and bring a friend? \n✨ Live Artistic Showdown – Witness the thrill as artists race against the clock to create stunning artworks.\n✨ Interactive Voting – Be part of the action; your vote crowns the champion.\n✨ Art Auction – Bid on your favourite pieces created during the event.\n✨ Community Spirit – Immerse yourself in the vibrancy of the Ottawa art scene. \nArt Battle Ottawa is an all-ages event.
URL:https://artinottawa.org/event/art-battle-march-5-2026/
LOCATION:Overflow Brewing Company\, 2477 Kaladar Ave\, Ottawa\, ON\, K1V 8B9\, Canada
CATEGORIES:Entertainment
ATTACH;FMTTYPE=image/jpeg:https://artinottawa.org/wp-content/uploads/2026/02/Art-Battle-Mar-5.jpg
END:VEVENT
END:VCALENDAR