BEGIN:VCALENDAR
VERSION:2.0
PRODID:-//Art In Ottawa - ECPv6.15.20//NONSGML v1.0//EN
CALSCALE:GREGORIAN
METHOD:PUBLISH
X-ORIGINAL-URL:https://artinottawa.org
X-WR-CALDESC:Events for Art In Ottawa
REFRESH-INTERVAL;VALUE=DURATION:PT1H
X-Robots-Tag:noindex
X-PUBLISHED-TTL:PT1H
BEGIN:VTIMEZONE
TZID:America/Toronto
BEGIN:DAYLIGHT
TZOFFSETFROM:-0500
TZOFFSETTO:-0400
TZNAME:EDT
DTSTART:20250309T070000
END:DAYLIGHT
BEGIN:STANDARD
TZOFFSETFROM:-0400
TZOFFSETTO:-0500
TZNAME:EST
DTSTART:20251102T060000
END:STANDARD
BEGIN:DAYLIGHT
TZOFFSETFROM:-0500
TZOFFSETTO:-0400
TZNAME:EDT
DTSTART:20260308T070000
END:DAYLIGHT
BEGIN:STANDARD
TZOFFSETFROM:-0400
TZOFFSETTO:-0500
TZNAME:EST
DTSTART:20261101T060000
END:STANDARD
BEGIN:DAYLIGHT
TZOFFSETFROM:-0500
TZOFFSETTO:-0400
TZNAME:EDT
DTSTART:20270314T070000
END:DAYLIGHT
BEGIN:STANDARD
TZOFFSETFROM:-0400
TZOFFSETTO:-0500
TZNAME:EST
DTSTART:20271107T060000
END:STANDARD
END:VTIMEZONE
BEGIN:VEVENT
DTSTART;TZID=America/Toronto:20260214T190000
DTEND;TZID=America/Toronto:20260214T230000
DTSTAMP:20260425T072535
CREATED:20260203T234156Z
LAST-MODIFIED:20260203T234156Z
UID:4268-1771095600-1771110000@artinottawa.org
SUMMARY:Art Battle\, Feb 14\, 2026
DESCRIPTION:Paint Flies & Creativity Soars \n3 rounds of action \nWhy attend and bring a friend? \n✨ Live Artistic Showdown – Witness the thrill as artists race against the clock to create stunning artworks.\n✨ Interactive Voting – Be part of the action; your vote crowns the champion.\n✨ Art Auction – Bid on your favourite pieces created during the event.\n✨ Community Spirit – Immerse yourself in the vibrancy of the Ottawa art scene. \nArt Battle Ottawa is an all-ages event.
URL:https://artinottawa.org/event/art-battle-feb-14-2026/
LOCATION:Overflow Brewing Company\, 2477 Kaladar Ave\, Ottawa\, ON\, K1V 8B9\, Canada
CATEGORIES:Entertainment
ATTACH;FMTTYPE=image/jpeg:https://artinottawa.org/wp-content/uploads/2026/02/Art-Battle-Feb-14.jpg
END:VEVENT
BEGIN:VEVENT
DTSTART;TZID=America/Toronto:20260220T190000
DTEND;TZID=America/Toronto:20260220T233000
DTSTAMP:20260425T072535
CREATED:20260203T233309Z
LAST-MODIFIED:20260203T233408Z
UID:4262-1771614000-1771630200@artinottawa.org
SUMMARY:OBSIDIAN
DESCRIPTION:OBSIDIAN is a FORM event — a curated art experience by Public Display Agency that blends design\, dialogue\, and discovery. This one-night showcase unites visual artists\, designers\, and makers in an immersive\, gallery-style setting at The Urban Centre. OBSIDIAN invites guests to slow down\, engage\, and experience art in a new way. Admission is RSVP-based and pay-what-you-want\, making it accessible while supporting artists directly. We believe art helps people find meaning\, belonging\, and community. Through events like OBSIDIAN\, Public Display Agency brings artists and audiences together to feel seen\, supported\, and part of something bigger.
URL:https://artinottawa.org/event/obsidian/
LOCATION:The Urban Centre\, 70 Bongard Ave\, Nepean\, ON\, K2E 7Z9\, Canada
CATEGORIES:Art Show,Entertainment
ATTACH;FMTTYPE=image/jpeg:https://artinottawa.org/wp-content/uploads/2026/02/Obsidian.jpg
END:VEVENT
BEGIN:VEVENT
DTSTART;TZID=America/Toronto:20260305T190000
DTEND;TZID=America/Toronto:20260305T233000
DTSTAMP:20260425T072535
CREATED:20260217T032134Z
LAST-MODIFIED:20260217T032134Z
UID:4342-1772737200-1772753400@artinottawa.org
SUMMARY:Art Battle\, March 5 2026
DESCRIPTION:3 rounds of action \n📅 March 5 @ 7:00 PM\n📍 Overflow Brewing – 2477 Kaladar Ave\, Ottawa\n🎟️ GET TICKETS \n  \nWhy attend and bring a friend? \n✨ Live Artistic Showdown – Witness the thrill as artists race against the clock to create stunning artworks.\n✨ Interactive Voting – Be part of the action; your vote crowns the champion.\n✨ Art Auction – Bid on your favourite pieces created during the event.\n✨ Community Spirit – Immerse yourself in the vibrancy of the Ottawa art scene. \nArt Battle Ottawa is an all-ages event.
URL:https://artinottawa.org/event/art-battle-march-5-2026/
LOCATION:Overflow Brewing Company\, 2477 Kaladar Ave\, Ottawa\, ON\, K1V 8B9\, Canada
CATEGORIES:Entertainment
ATTACH;FMTTYPE=image/jpeg:https://artinottawa.org/wp-content/uploads/2026/02/Art-Battle-Mar-5.jpg
END:VEVENT
BEGIN:VEVENT
DTSTART;VALUE=DATE:20260312
DTEND;VALUE=DATE:20260313
DTSTAMP:20260425T072535
CREATED:20260222T012738Z
LAST-MODIFIED:20260222T012738Z
UID:4355-1773273600-1773359999@artinottawa.org
SUMMARY:The 6th Annual International Art and Found Day
DESCRIPTION:The concept of Art and Found was created 7 years ago by Toronto artist Courtney Senior. Before she found her footing in the world of selling art\, Courtney decided to find loving homes for her work by giving it away for free. She would package up her original artworks and leave them around different neighbourhoods in Toronto for people to find. Each artwork came with a note on the outside that read “Hello\, I’m an original abstract painting in need of a loving home. FREE ART #ArtandFound.” \nWith the hashtag and personalized note on the inside\, dozens of residents have contacted Courtney over the years sharing their excitement and gratitude for their new piece of artwork. Realizing the impact this had on the community and the keen interest of fellow artists to join in this initiative\, Art and Found Day was born. \nWant to participate? More info here: https://artandfoundday.com/  \n\n\nHow It Works\n\n\n\n\n\nArtists choose one or more artworks – it could be a painting\, photograph\, drawing\, handmade item\, music album etc.\nEach piece is packaged up safely and clearly marked with the hashtag #ArtandFoundDay2026.\nAn additional note is on the inside with information about the piece and the artist\nArtworks will be dropped off within the artists’ communities on March 12th\, 2026.\nTo share your art drop or your art find use the hashtag #ArtandFoundDay and be sure to tag @ArtandFoundDay
URL:https://artinottawa.org/event/the-6th-annual-international-art-and-found-day/
LOCATION:ON
CATEGORIES:Entertainment
ATTACH;FMTTYPE=image/jpeg:https://artinottawa.org/wp-content/uploads/2026/02/AF-Day.jpg
END:VEVENT
BEGIN:VEVENT
DTSTART;TZID=America/Toronto:20260402T190000
DTEND;TZID=America/Toronto:20260402T230000
DTSTAMP:20260425T072535
CREATED:20260319T164934Z
LAST-MODIFIED:20260319T164934Z
UID:4495-1775156400-1775170800@artinottawa.org
SUMMARY:Art Battle\, April 2\, 2026
DESCRIPTION:Step into a world where imagination comes to life! Watch as talented artists transform blank canvases into breathtaking masterpieces in just 20 electrifying minutes per round. \nFeel the energy in the air as creativity flows and the crowd cheers them on. \nVote to crown the ultimate champion and take home a piece of the night with the silent auction of all original works. \nArt Battle Ottawa is an all-ages event. \nEvent Details: \n\nDate: April 2\nTime: 7:00PM\nLocation: Ottawa
URL:https://artinottawa.org/event/art-battle-april-2-2026/
LOCATION:Overflow Brewing Company\, 2477 Kaladar Ave\, Ottawa\, ON\, K1V 8B9\, Canada
CATEGORIES:Entertainment
ATTACH;FMTTYPE=image/jpeg:https://artinottawa.org/wp-content/uploads/2026/03/Art-Battle-Apr-2.jpg
END:VEVENT
END:VCALENDAR