BEGIN:VCALENDAR
VERSION:2.0
PRODID:-//Art In Ottawa - ECPv6.15.20//NONSGML v1.0//EN
CALSCALE:GREGORIAN
METHOD:PUBLISH
X-ORIGINAL-URL:https://artinottawa.org
X-WR-CALDESC:Events for Art In Ottawa
REFRESH-INTERVAL;VALUE=DURATION:PT1H
X-Robots-Tag:noindex
X-PUBLISHED-TTL:PT1H
BEGIN:VTIMEZONE
TZID:America/Toronto
BEGIN:DAYLIGHT
TZOFFSETFROM:-0500
TZOFFSETTO:-0400
TZNAME:EDT
DTSTART:20240310T070000
END:DAYLIGHT
BEGIN:STANDARD
TZOFFSETFROM:-0400
TZOFFSETTO:-0500
TZNAME:EST
DTSTART:20241103T060000
END:STANDARD
BEGIN:DAYLIGHT
TZOFFSETFROM:-0500
TZOFFSETTO:-0400
TZNAME:EDT
DTSTART:20250309T070000
END:DAYLIGHT
BEGIN:STANDARD
TZOFFSETFROM:-0400
TZOFFSETTO:-0500
TZNAME:EST
DTSTART:20251102T060000
END:STANDARD
BEGIN:DAYLIGHT
TZOFFSETFROM:-0500
TZOFFSETTO:-0400
TZNAME:EDT
DTSTART:20260308T070000
END:DAYLIGHT
BEGIN:STANDARD
TZOFFSETFROM:-0400
TZOFFSETTO:-0500
TZNAME:EST
DTSTART:20261101T060000
END:STANDARD
END:VTIMEZONE
BEGIN:VEVENT
DTSTART;TZID=America/Toronto:20251025T100000
DTEND;TZID=America/Toronto:20251025T160000
DTSTAMP:20260424T180500
CREATED:20250829T150342Z
LAST-MODIFIED:20250829T150342Z
UID:3888-1761386400-1761408000@artinottawa.org
SUMMARY:Vankleek Hill Fibre Frolic - Festival
DESCRIPTION:An annual fibre arts festival with over 20 vendors offering hand-dyed yarn\, notions\, fabric and quilting supplies\, craft materials and unique gifts! \nSomething New This Year! \nCraft Swap Table : Bring yarn\, fabric\, needles\, hooks\, patterns\, beads\, etc. — clean and in good condition! Clear out your stash and make another crafter’s day. \nYou can bring your craft supplies donations to Arbor Gallery!
URL:https://artinottawa.org/event/vankleek-hill-fibre-frolic-festival/
LOCATION:Vankleek Hill Community Centre\, 36 Mill St E\, Vankleek Hill\, ON\, K0B 1R0\, Canada
CATEGORIES:Festival
ATTACH;FMTTYPE=image/jpeg:https://artinottawa.org/wp-content/uploads/2025/08/Vankleek-Hill-Fibre-Frolic.jpg
END:VEVENT
END:VCALENDAR