BEGIN:VCALENDAR
VERSION:2.0
PRODID:-//Art In Ottawa - ECPv6.15.20//NONSGML v1.0//EN
CALSCALE:GREGORIAN
METHOD:PUBLISH
X-WR-CALNAME:Art In Ottawa
X-ORIGINAL-URL:https://artinottawa.org
X-WR-CALDESC:Events for Art In Ottawa
REFRESH-INTERVAL;VALUE=DURATION:PT1H
X-Robots-Tag:noindex
X-PUBLISHED-TTL:PT1H
BEGIN:VTIMEZONE
TZID:America/Toronto
BEGIN:DAYLIGHT
TZOFFSETFROM:-0500
TZOFFSETTO:-0400
TZNAME:EDT
DTSTART:20240310T070000
END:DAYLIGHT
BEGIN:STANDARD
TZOFFSETFROM:-0400
TZOFFSETTO:-0500
TZNAME:EST
DTSTART:20241103T060000
END:STANDARD
BEGIN:DAYLIGHT
TZOFFSETFROM:-0500
TZOFFSETTO:-0400
TZNAME:EDT
DTSTART:20250309T070000
END:DAYLIGHT
BEGIN:STANDARD
TZOFFSETFROM:-0400
TZOFFSETTO:-0500
TZNAME:EST
DTSTART:20251102T060000
END:STANDARD
BEGIN:DAYLIGHT
TZOFFSETFROM:-0500
TZOFFSETTO:-0400
TZNAME:EDT
DTSTART:20260308T070000
END:DAYLIGHT
BEGIN:STANDARD
TZOFFSETFROM:-0400
TZOFFSETTO:-0500
TZNAME:EST
DTSTART:20261101T060000
END:STANDARD
END:VTIMEZONE
BEGIN:VEVENT
DTSTART;TZID=America/Toronto:20250511T030000
DTEND;TZID=America/Toronto:20250511T180000
DTSTAMP:20260425T103622
CREATED:20250222T025654Z
LAST-MODIFIED:20250222T025654Z
UID:3515-1746932400-1746986400@artinottawa.org
SUMMARY:Tulip Papercraft With Rola Blake (Tulip Festival)
DESCRIPTION:Tulip paper craft workshop with Rola. Learn how to make beautiful\, handcrafted tulip flowers using colourful paper! This hands-on session is perfect for all skill levels and is a great way to celebrate spring and nature\, or simply enjoy an afternoon of crafting. Materials provided by Rola.
URL:https://artinottawa.org/event/tulip-papercraft-with-rola-blake-tulip-festival-2/
LOCATION:Queen Elizabeth Driveway\, Queen Elizabeth Driveway\, Ottawa\, ON\, K1S 4N7\, Canada
CATEGORIES:Entertainment,Festival
ATTACH;FMTTYPE=image/jpeg:https://artinottawa.org/wp-content/uploads/2025/02/Paper-Craft-Tulip.jpg
ORGANIZER;CN="Arteast Ottawa":MAILTO:contactus@arteastottawa.com
END:VEVENT
BEGIN:VEVENT
DTSTART;TZID=America/Toronto:20250511T100000
DTEND;TZID=America/Toronto:20250511T160000
DTSTAMP:20260425T103622
CREATED:20250222T024610Z
LAST-MODIFIED:20250222T024610Z
UID:3505-1746957600-1746979200@artinottawa.org
SUMMARY:Plein Air Painting with Arteast and OPAP (Tulip Festival)
DESCRIPTION:In partnership with Arteast\, the Ottawa Plein Air Painters group bring their easels and various mediums to paint the tulips “en plein air”. Come and be dazzled by the process artists use to be able to paint on location. Artists welcome art-related questions. The public have the opportunity to vote on their favorite painting. Voting takes place on Sunday\, May 18th between 11 am to 2 pm at the Arteast Ottawa boutique while the finished artworks are on display.
URL:https://artinottawa.org/event/plein-air-painting-with-arteast-and-opap-tulip-festival-2/
LOCATION:Queen Elizabeth Driveway\, Queen Elizabeth Driveway\, Ottawa\, ON\, K1S 4N7\, Canada
CATEGORIES:Entertainment,Festival
ATTACH;FMTTYPE=image/jpeg:https://artinottawa.org/wp-content/uploads/2025/02/Tulip-Festival-With-Arteast.jpg
ORGANIZER;CN="Arteast Ottawa":MAILTO:contactus@arteastottawa.com
END:VEVENT
BEGIN:VEVENT
DTSTART;TZID=America/Toronto:20250511T120000
DTEND;TZID=America/Toronto:20250511T140000
DTSTAMP:20260425T103622
CREATED:20250222T011902Z
LAST-MODIFIED:20250222T015056Z
UID:3484-1746964800-1746972000@artinottawa.org
SUMMARY:Tulip Tile Painting With Arteast (Tulip Festival)
DESCRIPTION:Carole invites adults and children to purchase small blank relief tulip tiles\, originally sculpted in clay and cast in plaster. Participants can paint their tiles on-site\, bringing them to life with their favorite tulip colors. Paint and brushes provided by Carole.
URL:https://artinottawa.org/event/tulip-tile-painting-with-arteast-tulip-festival-2/
LOCATION:Queen Elizabeth Driveway\, Queen Elizabeth Driveway\, Ottawa\, ON\, K1S 4N7\, Canada
CATEGORIES:Entertainment,Festival
ATTACH;FMTTYPE=image/jpeg:https://artinottawa.org/wp-content/uploads/2025/02/Carole-Ince-Tulip.jpg
ORGANIZER;CN="Arteast Ottawa":MAILTO:contactus@arteastottawa.com
END:VEVENT
END:VCALENDAR