BEGIN:VCALENDAR
VERSION:2.0
PRODID:-//Art In Ottawa - ECPv6.15.20//NONSGML v1.0//EN
CALSCALE:GREGORIAN
METHOD:PUBLISH
X-ORIGINAL-URL:https://artinottawa.org
X-WR-CALDESC:Events for Art In Ottawa
REFRESH-INTERVAL;VALUE=DURATION:PT1H
X-Robots-Tag:noindex
X-PUBLISHED-TTL:PT1H
BEGIN:VTIMEZONE
TZID:America/Toronto
BEGIN:DAYLIGHT
TZOFFSETFROM:-0500
TZOFFSETTO:-0400
TZNAME:EDT
DTSTART:20240310T070000
END:DAYLIGHT
BEGIN:STANDARD
TZOFFSETFROM:-0400
TZOFFSETTO:-0500
TZNAME:EST
DTSTART:20241103T060000
END:STANDARD
BEGIN:DAYLIGHT
TZOFFSETFROM:-0500
TZOFFSETTO:-0400
TZNAME:EDT
DTSTART:20250309T070000
END:DAYLIGHT
BEGIN:STANDARD
TZOFFSETFROM:-0400
TZOFFSETTO:-0500
TZNAME:EST
DTSTART:20251102T060000
END:STANDARD
BEGIN:DAYLIGHT
TZOFFSETFROM:-0500
TZOFFSETTO:-0400
TZNAME:EDT
DTSTART:20260308T070000
END:DAYLIGHT
BEGIN:STANDARD
TZOFFSETFROM:-0400
TZOFFSETTO:-0500
TZNAME:EST
DTSTART:20261101T060000
END:STANDARD
END:VTIMEZONE
BEGIN:VEVENT
DTSTART;TZID=America/Toronto:20250516T100000
DTEND;TZID=America/Toronto:20250516T180000
DTSTAMP:20260425T073948
CREATED:20250222T030546Z
LAST-MODIFIED:20250222T030546Z
UID:3522-1747389600-1747418400@artinottawa.org
SUMMARY:Painting with the Ottawa Independent Living Resource Center group (Tulip Festival)
DESCRIPTION:Allyson Ludtke leads the Ottawa Independent Living Resource Center (OILRC) group where several artists from the center bring a painting to life using bright colors and their talents.
URL:https://artinottawa.org/event/painting-with-the-ottawa-independent-living-resource-center-group-tulip-festival/
LOCATION:Queen Elizabeth Driveway\, Queen Elizabeth Driveway\, Ottawa\, ON\, K1S 4N7\, Canada
CATEGORIES:Entertainment,Festival
ATTACH;FMTTYPE=image/jpeg:https://artinottawa.org/wp-content/uploads/2025/02/Tulip-Festival-With-Arteast.jpg
ORGANIZER;CN="Arteast Ottawa":MAILTO:contactus@arteastottawa.com
END:VEVENT
END:VCALENDAR