BEGIN:VCALENDAR
VERSION:2.0
PRODID:-//Art In Ottawa - ECPv6.15.20//NONSGML v1.0//EN
CALSCALE:GREGORIAN
METHOD:PUBLISH
X-ORIGINAL-URL:https://artinottawa.org
X-WR-CALDESC:Events for Art In Ottawa
REFRESH-INTERVAL;VALUE=DURATION:PT1H
X-Robots-Tag:noindex
X-PUBLISHED-TTL:PT1H
BEGIN:VTIMEZONE
TZID:America/Toronto
BEGIN:DAYLIGHT
TZOFFSETFROM:-0500
TZOFFSETTO:-0400
TZNAME:EDT
DTSTART:20240310T070000
END:DAYLIGHT
BEGIN:STANDARD
TZOFFSETFROM:-0400
TZOFFSETTO:-0500
TZNAME:EST
DTSTART:20241103T060000
END:STANDARD
BEGIN:DAYLIGHT
TZOFFSETFROM:-0500
TZOFFSETTO:-0400
TZNAME:EDT
DTSTART:20250309T070000
END:DAYLIGHT
BEGIN:STANDARD
TZOFFSETFROM:-0400
TZOFFSETTO:-0500
TZNAME:EST
DTSTART:20251102T060000
END:STANDARD
BEGIN:DAYLIGHT
TZOFFSETFROM:-0500
TZOFFSETTO:-0400
TZNAME:EDT
DTSTART:20260308T070000
END:DAYLIGHT
BEGIN:STANDARD
TZOFFSETFROM:-0400
TZOFFSETTO:-0500
TZNAME:EST
DTSTART:20261101T060000
END:STANDARD
END:VTIMEZONE
BEGIN:VEVENT
DTSTART;TZID=America/Toronto:20250517T100000
DTEND;TZID=America/Toronto:20250517T160000
DTSTAMP:20260425T091054
CREATED:20250222T024727Z
LAST-MODIFIED:20250222T024727Z
UID:3507-1747476000-1747497600@artinottawa.org
SUMMARY:Plein Air Painting with Arteast and OPAP (Tulip Festival)
DESCRIPTION:In partnership with Arteast\, the Ottawa Plein Air Painters group bring their easels and various mediums to paint the tulips “en plein air”. Come and be dazzled by the process artists use to be able to paint on location. Artists welcome art-related questions. The public have the opportunity to vote on their favorite painting. Voting takes place on Sunday\, May 18th between 11 am to 2 pm at the Arteast Ottawa boutique while the finished artworks are on display.
URL:https://artinottawa.org/event/plein-air-painting-with-arteast-and-opap-tulip-festival-3/
LOCATION:Queen Elizabeth Driveway\, Queen Elizabeth Driveway\, Ottawa\, ON\, K1S 4N7\, Canada
CATEGORIES:Entertainment,Festival
ATTACH;FMTTYPE=image/jpeg:https://artinottawa.org/wp-content/uploads/2025/02/Tulip-Festival-With-Arteast.jpg
ORGANIZER;CN="Arteast Ottawa":MAILTO:contactus@arteastottawa.com
END:VEVENT
BEGIN:VEVENT
DTSTART;TZID=America/Toronto:20250517T100000
DTEND;TZID=America/Toronto:20250517T180000
DTSTAMP:20260425T091054
CREATED:20250222T030346Z
LAST-MODIFIED:20250222T030346Z
UID:3520-1747476000-1747504800@artinottawa.org
SUMMARY:Tulips in Watercolor With Arteast (Tulip Festival)
DESCRIPTION:Josie and Clarisse invite adults and children to create tulip mini-paintings. Discover and have fun with watercolour\, inspired by the beautiful tulips of the festival. Materials provided by Josie and Clarisse.
URL:https://artinottawa.org/event/tulips-in-watercolor-with-arteast-tulip-festival/
LOCATION:Queen Elizabeth Driveway\, Queen Elizabeth Driveway\, Ottawa\, ON\, K1S 4N7\, Canada
CATEGORIES:Entertainment,Festival
ATTACH;FMTTYPE=image/jpeg:https://artinottawa.org/wp-content/uploads/2025/02/Tulip-Festival-With-Arteast.jpg
ORGANIZER;CN="Arteast Ottawa":MAILTO:contactus@arteastottawa.com
END:VEVENT
BEGIN:VEVENT
DTSTART;TZID=America/Toronto:20250517T120000
DTEND;TZID=America/Toronto:20250517T140000
DTSTAMP:20260425T091054
CREATED:20250222T020357Z
LAST-MODIFIED:20250222T020706Z
UID:3491-1747483200-1747490400@artinottawa.org
SUMMARY:Tulip Tile Painting With Arteast (Tulip Festival)
DESCRIPTION:Carole invites adults and children to purchase small blank relief tulip tiles\, originally sculpted in clay and cast in plaster. Participants can paint their tiles on-site\, bringing them to life with their favorite tulip colors. Paint and brushes provided by Carole.
URL:https://artinottawa.org/event/tulip-tile-painting-with-arteast-tulip-festival-4/
LOCATION:Queen Elizabeth Driveway\, Queen Elizabeth Driveway\, Ottawa\, ON\, K1S 4N7\, Canada
CATEGORIES:Entertainment,Festival
ATTACH;FMTTYPE=image/jpeg:https://artinottawa.org/wp-content/uploads/2025/02/Carole-Ince-Tulip.jpg
ORGANIZER;CN="Arteast Ottawa":MAILTO:contactus@arteastottawa.com
END:VEVENT
BEGIN:VEVENT
DTSTART;TZID=America/Toronto:20250517T120000
DTEND;TZID=America/Toronto:20250517T140000
DTSTAMP:20260425T091054
CREATED:20250222T021235Z
LAST-MODIFIED:20250222T024958Z
UID:3493-1747483200-1747490400@artinottawa.org
SUMMARY:Tulip Tile Painting With Arteast (Tulip Festival)
DESCRIPTION:Carole invites adults and children to purchase small blank relief tulip tiles\, originally sculpted in clay and cast in plaster. Participants can paint their tiles on-site\, bringing them to life with their favorite tulip colors. Paint and brushes provided by Carole.
URL:https://artinottawa.org/event/tulip-tile-painting-with-arteast-tulip-festival-5/
LOCATION:Queen Elizabeth Driveway\, Queen Elizabeth Driveway\, Ottawa\, ON\, K1S 4N7\, Canada
CATEGORIES:Entertainment,Festival
ATTACH;FMTTYPE=image/jpeg:https://artinottawa.org/wp-content/uploads/2025/02/Carole-Ince-Tulip.jpg
ORGANIZER;CN="Arteast Ottawa":MAILTO:contactus@arteastottawa.com
END:VEVENT
END:VCALENDAR