BEGIN:VCALENDAR
VERSION:2.0
PRODID:-//Art In Ottawa - ECPv6.15.20//NONSGML v1.0//EN
CALSCALE:GREGORIAN
METHOD:PUBLISH
X-WR-CALNAME:Art In Ottawa
X-ORIGINAL-URL:https://artinottawa.org
X-WR-CALDESC:Events for Art In Ottawa
REFRESH-INTERVAL;VALUE=DURATION:PT1H
X-Robots-Tag:noindex
X-PUBLISHED-TTL:PT1H
BEGIN:VTIMEZONE
TZID:America/Toronto
BEGIN:DAYLIGHT
TZOFFSETFROM:-0500
TZOFFSETTO:-0400
TZNAME:EDT
DTSTART:20240310T070000
END:DAYLIGHT
BEGIN:STANDARD
TZOFFSETFROM:-0400
TZOFFSETTO:-0500
TZNAME:EST
DTSTART:20241103T060000
END:STANDARD
BEGIN:DAYLIGHT
TZOFFSETFROM:-0500
TZOFFSETTO:-0400
TZNAME:EDT
DTSTART:20250309T070000
END:DAYLIGHT
BEGIN:STANDARD
TZOFFSETFROM:-0400
TZOFFSETTO:-0500
TZNAME:EST
DTSTART:20251102T060000
END:STANDARD
BEGIN:DAYLIGHT
TZOFFSETFROM:-0500
TZOFFSETTO:-0400
TZNAME:EDT
DTSTART:20260308T070000
END:DAYLIGHT
BEGIN:STANDARD
TZOFFSETFROM:-0400
TZOFFSETTO:-0500
TZNAME:EST
DTSTART:20261101T060000
END:STANDARD
END:VTIMEZONE
BEGIN:VEVENT
DTSTART;VALUE=DATE:20250607
DTEND;VALUE=DATE:20250609
DTSTAMP:20260425T073713
CREATED:20250109T040733Z
LAST-MODIFIED:20250109T040733Z
UID:3065-1749254400-1749427199@artinottawa.org
SUMMARY:Art In The Park
DESCRIPTION:The Art in the Park Festival\, held in Ottawa’s vibrant Glebe neighborhood\, caters to all collectors. Whether you’re seeking paintings\, sculptures\, crafts\, or unique items for your home or garden\, there’s something special for every taste. As you stroll through the park under the summer sky\, you’ll be amazed by the diverse selection on display. Enjoy food vendors\, picnic areas\, and best of all\, free admission!
URL:https://artinottawa.org/event/art-in-the-park/
LOCATION:Central Park\, 19 Clemow Ave\, Ottawa\, ON\, K1S 2B1\, Canada
CATEGORIES:Festival
ATTACH;FMTTYPE=image/jpeg:https://artinottawa.org/wp-content/uploads/2025/01/Art-In-the-park.jpg
ORGANIZER;CN="Art in the Park":MAILTO:tnafreg@gmail.com
END:VEVENT
END:VCALENDAR