BEGIN:VCALENDAR
VERSION:2.0
PRODID:-//Art In Ottawa - ECPv6.15.20//NONSGML v1.0//EN
CALSCALE:GREGORIAN
METHOD:PUBLISH
X-ORIGINAL-URL:https://artinottawa.org
X-WR-CALDESC:Events for Art In Ottawa
REFRESH-INTERVAL;VALUE=DURATION:PT1H
X-Robots-Tag:noindex
X-PUBLISHED-TTL:PT1H
BEGIN:VTIMEZONE
TZID:America/Toronto
BEGIN:DAYLIGHT
TZOFFSETFROM:-0500
TZOFFSETTO:-0400
TZNAME:EDT
DTSTART:20240310T070000
END:DAYLIGHT
BEGIN:STANDARD
TZOFFSETFROM:-0400
TZOFFSETTO:-0500
TZNAME:EST
DTSTART:20241103T060000
END:STANDARD
BEGIN:DAYLIGHT
TZOFFSETFROM:-0500
TZOFFSETTO:-0400
TZNAME:EDT
DTSTART:20250309T070000
END:DAYLIGHT
BEGIN:STANDARD
TZOFFSETFROM:-0400
TZOFFSETTO:-0500
TZNAME:EST
DTSTART:20251102T060000
END:STANDARD
BEGIN:DAYLIGHT
TZOFFSETFROM:-0500
TZOFFSETTO:-0400
TZNAME:EDT
DTSTART:20260308T070000
END:DAYLIGHT
BEGIN:STANDARD
TZOFFSETFROM:-0400
TZOFFSETTO:-0500
TZNAME:EST
DTSTART:20261101T060000
END:STANDARD
END:VTIMEZONE
BEGIN:VEVENT
DTSTART;TZID=America/Toronto:20250920T100000
DTEND;TZID=America/Toronto:20250920T150000
DTSTAMP:20260424T145015
CREATED:20250809T224351Z
LAST-MODIFIED:20250809T224351Z
UID:3859-1758362400-1758380400@artinottawa.org
SUMMARY:Old Ottawa East Walk of Art 2025
DESCRIPTION:Through A Walk of Art\, an annual outdoor exhibition showcasing local talent\, and the widely appreciated community calendar Artists of Old Ottawa East\, the Mainstreeter actively promotes the work of the area’s many skilled artists and artisans. It also supports youth development by mentoring aspiring young journalists and providing hands-on\, work-like experiences to younger members of its volunteer distribution team.
URL:https://artinottawa.org/event/old-ottawa-east-walk-of-art-2025/
LOCATION:Old Ottawa East\, Main Street\, Ottawa\, ON\, K1S 1C2\, Canada
CATEGORIES:Tour
ATTACH;FMTTYPE=image/jpeg:https://artinottawa.org/wp-content/uploads/2025/08/Old-Ottawa-East-Walk-of-Art-2025.jpg
END:VEVENT
BEGIN:VEVENT
DTSTART;VALUE=DATE:20250927
DTEND;VALUE=DATE:20250929
DTSTAMP:20260424T145015
CREATED:20250905T222751Z
LAST-MODIFIED:20250905T222751Z
UID:3931-1758931200-1759103999@artinottawa.org
SUMMARY:New Edinburgh Studio Tour
DESCRIPTION:NEST: New Edinburgh Studio Tour. The self-guided tour will takes place annually on the fourth weekend in September. Approximately 10 – 12 studios located within New Edinburgh\, Ottawa\, will be opening their studio doors to the public. NEST features resident and guest artists\, crafting works in ceramics\, glass\, painting\, textiles\, photography and more. Locations of the studios will be scattered throughout New Edinburgh and are within walking or biking distance. \nNEST offers the public a unique opportunity to encounter professional and emerging local artists in the studios where they work. The aim of the tour is to: \n\n\nhelp build a vibrant arts community in New Edinburgh by connecting participating artists \n\n\nengage with the public through a unique behind the scenes look into the artists’ studio space and creative processes \n\n\nsupport participating artists by creating an opportunity to personally discuss and promote their work while selling directly to the public. \n\n\nAdmission to the studio tour is free and everyone is welcome. Artwork will be exhibited and available for sale\, and live demonstrations will occur throughout the day. \nBy visiting each studio you will have the opportunity to win a door prize from each artist on the tour.
URL:https://artinottawa.org/event/new-edinburgh-studio-tour/
LOCATION:ON
CATEGORIES:Tour
ATTACH;FMTTYPE=image/jpeg:https://artinottawa.org/wp-content/uploads/2025/09/NEST.jpg
END:VEVENT
BEGIN:VEVENT
DTSTART;TZID=America/Toronto:20250927T140000
DTEND;TZID=America/Toronto:20250927T180000
DTSTAMP:20260424T145015
CREATED:20250917T143051Z
LAST-MODIFIED:20250917T143051Z
UID:3959-1758981600-1758996000@artinottawa.org
SUMMARY:Artwalk Ottawa
DESCRIPTION:Saturday\, September 27\, 2025\n\n\n\n\n\n\n2:00 p.m. to 6:00 p.m. EDT\n\n\n\n\n\n\n\n\n\n\nNational Gallery of CanadaAmphitheatre\n\n\n\n\n\n\n\n380 Sussex Drive\n\nOttawa\, ON K1N 9N4\nCanada \n\n\n\n\n\n\n\n\n\nKick off Artwalk Ottawa’s 2025 season with Sobey Art Award short-lister Tania Willard. \nThe afternoon begins with a conversation in the Gallery’s outdoor amphitheatre – the perfect setting to begin a tour of the ByWard Market’s rich and vibrant art scene. \nArtwalk Ottawa features the National Gallery of Canada\, the Ottawa Art Gallery\, and private galleries where participants will meet some of the galleries’ artists. The self-guided walk ends with a Spot Talks & Curator Conversations at the at the Ottawa Art Gallery\, a visit to the exhibition Endless Becomings: Explorations in Contemporary Art\, plus the chance to connect directly with OAG curators. \n\n\n\n\nConversation with Tania Willard \n\n\n\n\n2:00–2:45 p.m. (NGC Amphitheatre) \n\n\n\n\n\n\nSelf-guided Walk \n\n\n\n\n2:45–4:00 p.m. (ByWard Market) \n\n\n\n\n\n\nSpot Talks & Curator Conversations \n\n\n\n\n4:00–6:00 p.m. (Ottawa Art Gallery) \n\n\n\n\nTicketing: All proceeds will be donated to the Lowertown Community Resource Centre. \nIn English\, followed by a bilingual question period. \nAmerican Sign Language (ASL) interpretation is available for the 2:00 – 2:45 p.m. conversation portion of the program\, when requested a minimum of 10 business days in advance of the event. Email info@gallery.ca with the event name\, date and time. \nArtwalk is organized by the National Gallery of Canada\, the Ottawa Art Gallery\, and the ByWard Market District Authority.\nProceeds raised will be shared with local organizations supporting people who are homeless.
URL:https://artinottawa.org/event/artwalk-ottawa/
LOCATION:National Gallery of Canada\, 380 Sussex Drive\, Ottawa\, ON\, K1N 9N4\, Canada
CATEGORIES:Tour
ATTACH;FMTTYPE=image/jpeg:https://artinottawa.org/wp-content/uploads/2025/09/Art-walk.jpg
ORGANIZER;CN="National Gallery of Canada":MAILTO:info@gallery.ca
END:VEVENT
END:VCALENDAR