BEGIN:VCALENDAR
VERSION:2.0
PRODID:-//Art In Ottawa - ECPv6.15.20//NONSGML v1.0//EN
CALSCALE:GREGORIAN
METHOD:PUBLISH
X-WR-CALNAME:Art In Ottawa
X-ORIGINAL-URL:https://artinottawa.org
X-WR-CALDESC:Events for Art In Ottawa
REFRESH-INTERVAL;VALUE=DURATION:PT1H
X-Robots-Tag:noindex
X-PUBLISHED-TTL:PT1H
BEGIN:VTIMEZONE
TZID:America/Toronto
BEGIN:DAYLIGHT
TZOFFSETFROM:-0500
TZOFFSETTO:-0400
TZNAME:EDT
DTSTART:20250309T070000
END:DAYLIGHT
BEGIN:STANDARD
TZOFFSETFROM:-0400
TZOFFSETTO:-0500
TZNAME:EST
DTSTART:20251102T060000
END:STANDARD
BEGIN:DAYLIGHT
TZOFFSETFROM:-0500
TZOFFSETTO:-0400
TZNAME:EDT
DTSTART:20260308T070000
END:DAYLIGHT
BEGIN:STANDARD
TZOFFSETFROM:-0400
TZOFFSETTO:-0500
TZNAME:EST
DTSTART:20261101T060000
END:STANDARD
BEGIN:DAYLIGHT
TZOFFSETFROM:-0500
TZOFFSETTO:-0400
TZNAME:EDT
DTSTART:20270314T070000
END:DAYLIGHT
BEGIN:STANDARD
TZOFFSETFROM:-0400
TZOFFSETTO:-0500
TZNAME:EST
DTSTART:20271107T060000
END:STANDARD
END:VTIMEZONE
BEGIN:VEVENT
DTSTART;VALUE=DATE:20260404
DTEND;VALUE=DATE:20260406
DTSTAMP:20260423T233537
CREATED:20260314T234210Z
LAST-MODIFIED:20260314T234210Z
UID:4465-1775260800-1775433599@artinottawa.org
SUMMARY:Pakenham Maple Run Tour
DESCRIPTION:April 4 and 5 2026 from 10am to 4pm daily.\nDiscover the art and fine craft of local artists and artisans at 7 fascinating tour stops located in and around the charming heritage village of Pakenham \nSpring is just around the corner and the sap will soon be running – which means it’s almost time for the annual Pakenham Maple Run Tour of art\, fine craft\, local food\, and heritage. On April 4 and 5th\, the 22nd year of this tour returns with exceptional artists and artisans in 7 fascinating tour stops in and around the beautiful village of Pakenham. Experience a huge variety of carefully curated creative expressions\, including painting\, pottery\, pewter\, glass\, jewellery\, photography\, weaving\, soap-making\, blacksmithing\, paper arts\, woodworking\, artisanal food\, and so much more. New artists join the Tour each year! Take a drive of discovery along the Tour route\, where you can take in spectacular spring scenery en route to experiencing the Tour’s unique locations: heritage buildings\, a craft brewery\, a cidery\, a one-room schoolhouse\, and a sugar bush. New this year\, a new stop at the Cedarhill Tree Farm has been added.
URL:https://artinottawa.org/event/pakenham-maple-run-tour/
LOCATION:Pakenham and surrounding area\, Pakenham\, ON\, Canada
CATEGORIES:Tour
ATTACH;FMTTYPE=image/jpeg:https://artinottawa.org/wp-content/uploads/2026/03/PAKENHAM-MAPLE-RUN-TOUR.jpg
END:VEVENT
END:VCALENDAR