BEGIN:VCALENDAR
VERSION:2.0
PRODID:-//Art In Ottawa - ECPv6.15.20//NONSGML v1.0//EN
CALSCALE:GREGORIAN
METHOD:PUBLISH
X-WR-CALNAME:Art In Ottawa
X-ORIGINAL-URL:https://artinottawa.org
X-WR-CALDESC:Events for Art In Ottawa
REFRESH-INTERVAL;VALUE=DURATION:PT1H
X-Robots-Tag:noindex
X-PUBLISHED-TTL:PT1H
BEGIN:VTIMEZONE
TZID:America/Toronto
BEGIN:DAYLIGHT
TZOFFSETFROM:-0500
TZOFFSETTO:-0400
TZNAME:EDT
DTSTART:20240310T070000
END:DAYLIGHT
BEGIN:STANDARD
TZOFFSETFROM:-0400
TZOFFSETTO:-0500
TZNAME:EST
DTSTART:20241103T060000
END:STANDARD
BEGIN:DAYLIGHT
TZOFFSETFROM:-0500
TZOFFSETTO:-0400
TZNAME:EDT
DTSTART:20250309T070000
END:DAYLIGHT
BEGIN:STANDARD
TZOFFSETFROM:-0400
TZOFFSETTO:-0500
TZNAME:EST
DTSTART:20251102T060000
END:STANDARD
BEGIN:DAYLIGHT
TZOFFSETFROM:-0500
TZOFFSETTO:-0400
TZNAME:EDT
DTSTART:20260308T070000
END:DAYLIGHT
BEGIN:STANDARD
TZOFFSETFROM:-0400
TZOFFSETTO:-0500
TZNAME:EST
DTSTART:20261101T060000
END:STANDARD
END:VTIMEZONE
BEGIN:VEVENT
DTSTART;TZID=America/Toronto:20251211T170000
DTEND;TZID=America/Toronto:20251211T200000
DTSTAMP:20260423T232025
CREATED:20251205T181122Z
LAST-MODIFIED:20251205T181122Z
UID:4173-1765472400-1765483200@artinottawa.org
SUMMARY:Camera and the City and Sylvia Safdie: TERRA - OPENING
DESCRIPTION:Drawing on the rich collection of the National Gallery of Canada\, Camera and the City brings together the work of a wide range of photographers who have captured the spirit of city streets. \nSylvia Safdie: TERRA examines the decades-long career of Montreal-based artist Sylvia Safdie through a selection of her paintings\, sculptures and videos. \nThursday\, 11 December\n5 to 8 p.m. – Exhibition opening\n6 p.m. – Opening remarks \nNational Gallery of Canada\nScotiabank Great Hall\n380 Sussex Drive\nOttawa\, ON K1N 9N4\nCanada \nFood and refreshments available for purchase. Free admission. Bilingual event.
URL:https://artinottawa.org/event/camera-and-the-city-and-sylvia-safdie-terra-opening/
LOCATION:National Gallery of Canada\, 380 Sussex Drive\, Ottawa\, ON\, K1N 9N4\, Canada
CATEGORIES:Vernissage
ATTACH;FMTTYPE=image/jpeg:https://artinottawa.org/wp-content/uploads/2025/12/NAC-Opening.jpg
ORGANIZER;CN="National Gallery of Canada":MAILTO:info@gallery.ca
END:VEVENT
END:VCALENDAR