BEGIN:VCALENDAR
VERSION:2.0
PRODID:-//Art In Ottawa - ECPv6.15.20//NONSGML v1.0//EN
CALSCALE:GREGORIAN
METHOD:PUBLISH
X-ORIGINAL-URL:https://artinottawa.org
X-WR-CALDESC:Events for Art In Ottawa
REFRESH-INTERVAL;VALUE=DURATION:PT1H
X-Robots-Tag:noindex
X-PUBLISHED-TTL:PT1H
BEGIN:VTIMEZONE
TZID:America/Toronto
BEGIN:DAYLIGHT
TZOFFSETFROM:-0500
TZOFFSETTO:-0400
TZNAME:EDT
DTSTART:20240310T070000
END:DAYLIGHT
BEGIN:STANDARD
TZOFFSETFROM:-0400
TZOFFSETTO:-0500
TZNAME:EST
DTSTART:20241103T060000
END:STANDARD
BEGIN:DAYLIGHT
TZOFFSETFROM:-0500
TZOFFSETTO:-0400
TZNAME:EDT
DTSTART:20250309T070000
END:DAYLIGHT
BEGIN:STANDARD
TZOFFSETFROM:-0400
TZOFFSETTO:-0500
TZNAME:EST
DTSTART:20251102T060000
END:STANDARD
BEGIN:DAYLIGHT
TZOFFSETFROM:-0500
TZOFFSETTO:-0400
TZNAME:EDT
DTSTART:20260308T070000
END:DAYLIGHT
BEGIN:STANDARD
TZOFFSETFROM:-0400
TZOFFSETTO:-0500
TZNAME:EST
DTSTART:20261101T060000
END:STANDARD
END:VTIMEZONE
BEGIN:VEVENT
DTSTART;TZID=America/Toronto:20250403T170000
DTEND;TZID=America/Toronto:20250403T190000
DTSTAMP:20260424T223124
CREATED:20250314T165308Z
LAST-MODIFIED:20250314T165308Z
UID:3604-1743699600-1743706800@artinottawa.org
SUMMARY:Nicole Allen | INTO NATURE'S KNOWING - Vernissage
DESCRIPTION:INTO NATURE’S KNOWING brings forward Allen’s interest in the innate intelligence of plants. For Allen\, botanical intelligence is present in the mathematical logic behind stem and petal developments\, their intrinsic healing qualities\, and their interrelations with other forms of natural life.
URL:https://artinottawa.org/event/nicole-allen-into-natures-knowing-vernissage/
LOCATION:Wall Space Gallery\, 1090 Bank St\, Ottawa\, ON\, K1S 3X5\, Canada
CATEGORIES:Vernissage
ATTACH;FMTTYPE=image/jpeg:https://artinottawa.org/wp-content/uploads/2025/03/Nicole-Allen-INTO-NATURES-KNOWING.jpg
END:VEVENT
BEGIN:VEVENT
DTSTART;TZID=America/Toronto:20250403T170000
DTEND;TZID=America/Toronto:20250403T190000
DTSTAMP:20260424T223124
CREATED:20250314T170025Z
LAST-MODIFIED:20250314T170025Z
UID:3609-1743699600-1743706800@artinottawa.org
SUMMARY:Jian Zhang Ft. - Vernissage
DESCRIPTION:Wall Space Gallery is proud to introduce the artwork of Jian Zhang with a curated presentation of his realism still-life paintings. \nZhang’s vibrantly coloured oil paintings capture still-life’s of bottles\, toys\, flowers\, and books\, arranged in meticulous compositions that are dynamic yet serene. Drawing on his classical training\, Zhang’s approach to still life balances gravitas with playful and witty undertones.
URL:https://artinottawa.org/event/jian-zhang-ft-vernissage/
LOCATION:Wall Space Gallery\, 1090 Bank St\, Ottawa\, ON\, K1S 3X5\, Canada
CATEGORIES:Vernissage
ATTACH;FMTTYPE=image/jpeg:https://artinottawa.org/wp-content/uploads/2025/03/Gang.jpg
END:VEVENT
BEGIN:VEVENT
DTSTART;TZID=America/Toronto:20250403T190000
DTEND;TZID=America/Toronto:20250403T210000
DTSTAMP:20260424T223124
CREATED:20250327T163746Z
LAST-MODIFIED:20250327T163746Z
UID:3658-1743706800-1743714000@artinottawa.org
SUMMARY:Paysager\, Émilie Rondeau - Vernissage
DESCRIPTION:« Paysager » évoque la traversée d’un vaste territoire. Modulée par une variété de matériaux et de technologies\, cette promenade à laquelle nous convie l’artiste à travers les différentes stations de l’exposition\, retrace les étapes de son processus créatif.\nDes assemblages multiples se construisent de manière organique par l’accumulation des textures et des couleurs\, des jeux d’échelle et d’effets d’ombre et de lumière. Issus d’un langage hybride\, ces dispositifs s’animent et se transforment mutuellement\, créant de nouvelles associations qui nous amènent à mi-chemin entre le monde des objets et celui de l’abstraction. \nNous vous invitons en grand nombre au vernissage de l’exposition qui aura lieu le jeudi 3 avril 2025\, de 19 h à 21 h\, à la Galerie Montcalm\, située au 1er étage de la Maison du Citoyen au 25\, rue Laurier à Gatineau. \nL’entrée est libre et gratuite.
URL:https://artinottawa.org/event/paysager-emilie-rondeau-vernissage/
LOCATION:Galerie Montcalm\, 25 Laurier St\, Gatineau\, Quebec\, J8X 3Y9\, Canada
CATEGORIES:Vernissage
ATTACH;FMTTYPE=image/jpeg:https://artinottawa.org/wp-content/uploads/2025/03/Paysager.jpg
END:VEVENT
END:VCALENDAR