BEGIN:VCALENDAR
VERSION:2.0
PRODID:-//Art In Ottawa - ECPv6.15.20//NONSGML v1.0//EN
CALSCALE:GREGORIAN
METHOD:PUBLISH
X-WR-CALNAME:Art In Ottawa
X-ORIGINAL-URL:https://artinottawa.org
X-WR-CALDESC:Events for Art In Ottawa
REFRESH-INTERVAL;VALUE=DURATION:PT1H
X-Robots-Tag:noindex
X-PUBLISHED-TTL:PT1H
BEGIN:VTIMEZONE
TZID:America/Toronto
BEGIN:DAYLIGHT
TZOFFSETFROM:-0500
TZOFFSETTO:-0400
TZNAME:EDT
DTSTART:20240310T070000
END:DAYLIGHT
BEGIN:STANDARD
TZOFFSETFROM:-0400
TZOFFSETTO:-0500
TZNAME:EST
DTSTART:20241103T060000
END:STANDARD
BEGIN:DAYLIGHT
TZOFFSETFROM:-0500
TZOFFSETTO:-0400
TZNAME:EDT
DTSTART:20250309T070000
END:DAYLIGHT
BEGIN:STANDARD
TZOFFSETFROM:-0400
TZOFFSETTO:-0500
TZNAME:EST
DTSTART:20251102T060000
END:STANDARD
BEGIN:DAYLIGHT
TZOFFSETFROM:-0500
TZOFFSETTO:-0400
TZNAME:EDT
DTSTART:20260308T070000
END:DAYLIGHT
BEGIN:STANDARD
TZOFFSETFROM:-0400
TZOFFSETTO:-0500
TZNAME:EST
DTSTART:20261101T060000
END:STANDARD
END:VTIMEZONE
BEGIN:VEVENT
DTSTART;TZID=America/Toronto:20250409T180000
DTEND;TZID=America/Toronto:20250409T200000
DTSTAMP:20260424T205404
CREATED:20250327T164348Z
LAST-MODIFIED:20250327T164348Z
UID:3663-1744221600-1744228800@artinottawa.org
SUMMARY:Les secrets du vent\, Anne-Yvonne Jouan - Vernissage
DESCRIPTION:L’exposition « Les secrets du vent » de l’artiste Anne-Yvonne Jouan sera présentée à l’Espace Pierre-Debain\, du 9 avril au 1 juin 2025. \nAnne-Yvonne Jouan crée des jardins à partir de papier et de végétaux séchés\, récoltés dans son environnement à l’île d’Orléans. Ses œuvres fascinantes témoignent des mouvements de la nature\, des variations de la lumière et du cycle perpétuel des saisons. \nL’exposition permet de découvrir la technique unique et minutieuse de l’artiste qui transcende des matériaux dits « pauvres » du rien au précieux. \nAnne-Yvonne Jouan est une artiste franco-canadienne qui partage sa vie entre la Bretagne en France et l’île d’Orléans au Québec. Depuis plusieurs années\, la fibre constitue son médium de prédilection. Ses oeuvres en trois dimensions sont principalement composées de papier découpé\, de matières organiques et végétales. Son travail avec ce matériau simple\, souvent considéré « pauvre »\, propose l’exploration de micro-paysages qui nous ramènent à l’essentiel\, à la nature\, à la vie. \nDiplômée d’une maîtrise en droit des affaires et de l’École du Louvre en histoire de l’art\, elle a exercé le métier de commissaire-priseur en France durant une dizaine d’années avant d’immigrer au Canada en 2006. Elle a appris la technique du dessin à l’Académie d’art réaliste de Toronto (ARA) et a reçu plusieurs bourses du Conseil des arts et des lettres du Québec (CALQ).\nSes oeuvres de papier ont été exposées dans de nombreux musées et centres d’expositions publiques au Canada\, dont le musée Marius-Barbeau en 2021 et le Centre national d’exposition en 2022. En 2023 et 2024\, ses Jardins de papier ont été présentés au Centre d’art de La Sarre\, au Centre national d’exposition à Jonquière\, à la Villa Bagatelle et au Centre Materia à Québec ainsi qu’au Musée des métiers d’art du Québec. En 2025 et 2026\, son travail sera présenté à Paris et en Bretagne. \nNous vous invitons en grand nombre au vernissage de l’exposition qui aura lieu le mercredi 9 avril 2025\, de 18 h à 20 h\, à l’Espace Pierre-Debain\, situé au Centre culturel du Vieux Aylmer\, au 120\, rue Principale à Gatineau. \nL’entrée est libre et gratuite.
URL:https://artinottawa.org/event/les-secrets-du-vent-anne-yvonne-jouan-vernissage/
LOCATION:Espace Pierre-Debain\, 120 Principale St\, Gatineau\, QC\, J9H 3M3\, Canada
CATEGORIES:Vernissage
ATTACH;FMTTYPE=image/jpeg:https://artinottawa.org/wp-content/uploads/2025/03/Les-secrets-du-vent.jpg
END:VEVENT
END:VCALENDAR