BEGIN:VCALENDAR
VERSION:2.0
PRODID:-//Art In Ottawa - ECPv6.15.20//NONSGML v1.0//EN
CALSCALE:GREGORIAN
METHOD:PUBLISH
X-WR-CALNAME:Art In Ottawa
X-ORIGINAL-URL:https://artinottawa.org
X-WR-CALDESC:Events for Art In Ottawa
REFRESH-INTERVAL;VALUE=DURATION:PT1H
X-Robots-Tag:noindex
X-PUBLISHED-TTL:PT1H
BEGIN:VTIMEZONE
TZID:America/Toronto
BEGIN:DAYLIGHT
TZOFFSETFROM:-0500
TZOFFSETTO:-0400
TZNAME:EDT
DTSTART:20240310T070000
END:DAYLIGHT
BEGIN:STANDARD
TZOFFSETFROM:-0400
TZOFFSETTO:-0500
TZNAME:EST
DTSTART:20241103T060000
END:STANDARD
BEGIN:DAYLIGHT
TZOFFSETFROM:-0500
TZOFFSETTO:-0400
TZNAME:EDT
DTSTART:20250309T070000
END:DAYLIGHT
BEGIN:STANDARD
TZOFFSETFROM:-0400
TZOFFSETTO:-0500
TZNAME:EST
DTSTART:20251102T060000
END:STANDARD
BEGIN:DAYLIGHT
TZOFFSETFROM:-0500
TZOFFSETTO:-0400
TZNAME:EDT
DTSTART:20260308T070000
END:DAYLIGHT
BEGIN:STANDARD
TZOFFSETFROM:-0400
TZOFFSETTO:-0500
TZNAME:EST
DTSTART:20261101T060000
END:STANDARD
END:VTIMEZONE
BEGIN:VEVENT
DTSTART;TZID=America/Toronto:20250501T170000
DTEND;TZID=America/Toronto:20250501T190000
DTSTAMP:20260424T205426
CREATED:20250415T022600Z
LAST-MODIFIED:20250415T022600Z
UID:3704-1746118800-1746126000@artinottawa.org
SUMMARY:Behind the Curtain - Vernissage
DESCRIPTION:all Space Gallery is proud to present “Behind the Curtain\,” a group exhibition of paintings by Kelly Grace\, Andrew Beck\, Elle Chae\, and Jay Li. The artists in “Behind the Curtain” construct worlds through the collapse of linear time\, combining past eras or moments from personal archives in snapshots of layered imagery that capture the stretching and tidal current of time in motion. \nBeck\, Chae\, Grace and Li reveal the ways in which we are drawn to creating meaning through visual imagery\, and subsequently\, painting’s ability to question the solidity of the structures underlying that meaning. Each uses the malleable constructs of time\, cultural memory\, and personal experience to grasp the slippery threads of reality\, if only for a moment.
URL:https://artinottawa.org/event/behind-the-curtain-vernissage/
LOCATION:Wall Space Gallery\, 1090 Bank St\, Ottawa\, ON\, K1S 3X5\, Canada
CATEGORIES:Vernissage
ATTACH;FMTTYPE=image/jpeg:https://artinottawa.org/wp-content/uploads/2025/04/Behind-the-Curtain.jpg
END:VEVENT
BEGIN:VEVENT
DTSTART;TZID=America/Toronto:20250501T170000
DTEND;TZID=America/Toronto:20250501T190000
DTSTAMP:20260424T205426
CREATED:20250430T160125Z
LAST-MODIFIED:20250430T160125Z
UID:3742-1746118800-1746126000@artinottawa.org
SUMMARY:Rendezvous Arteast and OSA Vernissage
DESCRIPTION:You’re invited to a social gathering at Rendezvous Arteast on Thursday\, May 1st\, 5 to 7pm\, to coincide with the upcoming Ottawa School of Art Vernissage at the Shenkman Centre located at 245 Centrum Blvd\, in Orleans. Please come and enjoy some delicious treats while encouraging visitors to stop by and view some of our amazing art.
URL:https://artinottawa.org/event/rendezvous-arteast-and-osa-vernissage/
LOCATION:Shenkman Arts Centre\, 245 Centrum Blvd\, Orléans\, ON\, K1E 0A1\, Canada
CATEGORIES:Vernissage
ATTACH;FMTTYPE=image/jpeg:https://artinottawa.org/wp-content/uploads/2025/04/Randez-vous-May-1.jpg
ORGANIZER;CN="Arteast Ottawa":MAILTO:contactus@arteastottawa.com
END:VEVENT
BEGIN:VEVENT
DTSTART;TZID=America/Toronto:20250501T170000
DTEND;TZID=America/Toronto:20250501T200000
DTSTAMP:20260424T205426
CREATED:20250127T050104Z
LAST-MODIFIED:20250430T154714Z
UID:3359-1746118800-1746129600@artinottawa.org
SUMMARY:Jeff Rosen at Galerie St. Laurent Hill - Vernissage
DESCRIPTION:Canadian artist Jeff Rosen’s explosive free-associative style and category-defying paintings capture impressions of dream states and meditations  – revealing faces\, figures\, animals\, totems\, metaphysical landscapes\, and non-existent entities. \nHe is galleried in Toronto\, Ottawa\, and Halifax\, and his works are included in galleries and private collections in Canada\, Germany\, and the USA. \nRecently\, two major works have been acquired by the government of Canada as part of their permanent Global Affairs Visual Arts Collection\, (VAC) one of Canada’s most prestigious national collections. \nWhen not painting\, Jeff creates\, writes\, and produces award-winning children’s television series like Bo on the Go\, Poko\, Animal Mechanicals\, The Mighty Jungle\, Pirates!\, Monster Math Squad\, and Space Ranger Roger. One of our country’s most prolific and syndicated showrunners and creators\, he was the principal writer of the iconic Theodore Tugboat. Jeff was a founding creative partner of DHX Media (now Wildbrain) a global content company\, home to Peanuts\, Teletubbies\, Strawberry Shortcake\, Caillou\, Inspector Gadget\, and Degrassi. \nJeff lives in Halifax\, Nova Scotia
URL:https://artinottawa.org/event/jeff-rosen-at-galerie-st-laurent-hill/
LOCATION:Galerie St-Laurent + Hill\, 293 Dalhousie St\, Ottawa\, ON\, K1N 7E5\, Canada
CATEGORIES:Vernissage
ATTACH;FMTTYPE=image/jpeg:https://artinottawa.org/wp-content/uploads/2025/01/Jeff-Rosen-May-1-–-20-2025.jpg
ORGANIZER;CN="Galerie St-Laurent + Hill":MAILTO:info@galeriestlaurentplushill.com
END:VEVENT
END:VCALENDAR