BEGIN:VCALENDAR
VERSION:2.0
PRODID:-//Art In Ottawa - ECPv6.15.20//NONSGML v1.0//EN
CALSCALE:GREGORIAN
METHOD:PUBLISH
X-ORIGINAL-URL:https://artinottawa.org
X-WR-CALDESC:Events for Art In Ottawa
REFRESH-INTERVAL;VALUE=DURATION:PT1H
X-Robots-Tag:noindex
X-PUBLISHED-TTL:PT1H
BEGIN:VTIMEZONE
TZID:America/Toronto
BEGIN:DAYLIGHT
TZOFFSETFROM:-0500
TZOFFSETTO:-0400
TZNAME:EDT
DTSTART:20240310T070000
END:DAYLIGHT
BEGIN:STANDARD
TZOFFSETFROM:-0400
TZOFFSETTO:-0500
TZNAME:EST
DTSTART:20241103T060000
END:STANDARD
BEGIN:DAYLIGHT
TZOFFSETFROM:-0500
TZOFFSETTO:-0400
TZNAME:EDT
DTSTART:20250309T070000
END:DAYLIGHT
BEGIN:STANDARD
TZOFFSETFROM:-0400
TZOFFSETTO:-0500
TZNAME:EST
DTSTART:20251102T060000
END:STANDARD
BEGIN:DAYLIGHT
TZOFFSETFROM:-0500
TZOFFSETTO:-0400
TZNAME:EDT
DTSTART:20260308T070000
END:DAYLIGHT
BEGIN:STANDARD
TZOFFSETFROM:-0400
TZOFFSETTO:-0500
TZNAME:EST
DTSTART:20261101T060000
END:STANDARD
END:VTIMEZONE
BEGIN:VEVENT
DTSTART;TZID=America/Toronto:20250510T130000
DTEND;TZID=America/Toronto:20250510T160000
DTSTAMP:20260424T205711
CREATED:20250430T155450Z
LAST-MODIFIED:20250430T155450Z
UID:3736-1746882000-1746892800@artinottawa.org
SUMMARY:Terra : The Good Earth by Olga Kay-Grigoriev and Erin Thibault
DESCRIPTION:Galerie Old Chelsea is pleased to present the art by two of ten Galerie Old Chelsea’s owners\, Erin Thibault & Olga Kay-Grigoriev\, who are excited to share their love of the natural world. Whether it’s the light cascading through the trees\, as Erin captures in her paintings\, or the subtle details of a single leaf carved out of wood by Olga\, both artists give homage to the beauty of nature that is all around us in the Gatineau Hills. \nIn addition to the vernissage on Saturday May 10\, Erin et Olga will be present at the gallery on the following days: \nErin: Friday May 2 from noon to 3:00 pm. / Friday May 9 and 16 from 4:00 pm to 6:00 / Saturday May 3 from noon to 3:00 / Saturday May 17 from 1:00 pm to 4:00 pm \nOlga: Sunday May 4\,11 and 18 from 1:00pm to 4:00 pm
URL:https://artinottawa.org/event/terra-the-good-earth-by-olga-kay-grigoriev-and-erin-thibault-2/
LOCATION:Galerie Old Chelsea\, 783 Route 105\, Chelsea\, QC\, J9B 1P1\, Canada
CATEGORIES:Vernissage
ATTACH;FMTTYPE=image/jpeg:https://artinottawa.org/wp-content/uploads/2025/04/Terra-The-Good-Earth-vernissage.jpg
END:VEVENT
BEGIN:VEVENT
DTSTART;TZID=America/Toronto:20250510T133000
DTEND;TZID=America/Toronto:20250510T160000
DTSTAMP:20260424T205711
CREATED:20250503T235553Z
LAST-MODIFIED:20250503T235553Z
UID:3758-1746883800-1746892800@artinottawa.org
SUMMARY:Les Grands Bleus - Vernissage
DESCRIPTION:The gallery is proud to present its new exhibition\, “Les Grands Bleus: Micros and Macrocosms in All Their Magnificence\,” featuring the remarkable works of landscape artist Nathalie Frenière and ceramic artist Lise BL Goulet. This exhibition offers a compelling exploration of the relationship between the natural world and ceramic artistry\, as both artists draw inspiration from the beauty of blue hues found in nature and landscapes. \nNathalie Frenière’s captivating landscapes convey the tranquility and wonder of serene vistas. Through her masterful use of color and light\, each painting invites viewers to immerse themselves in the peacefulness of the outdoors. \nIn contrast\, Lise BL Goulet’s refined ceramic works showcase her deep appreciation for texture and form. Her pieces frequently feature blue tones\, echoing the themes in Frenière’s paintings and establishing a rich visual dialogue between the two art forms. \nThe vernissage will take place on May 10th from 1:30 p.m. to 4:00 p.m. Attendees will have the opportunity to meet the artists\, engage in meaningful conversations about their work\, and gain insight into their creative processes.
URL:https://artinottawa.org/event/les-grands-bleus-vernissage/
LOCATION:Arbor Gallery\, 103 High St.\, Vankleek Hill\, ON\, K0B 1R0\, Canada
CATEGORIES:Vernissage
ATTACH;FMTTYPE=image/jpeg:https://artinottawa.org/wp-content/uploads/2025/05/Les-Grands-Bleus.jpg
END:VEVENT
BEGIN:VEVENT
DTSTART;TZID=America/Toronto:20250510T133000
DTEND;TZID=America/Toronto:20250510T160000
DTSTAMP:20260424T205711
CREATED:20250504T000001Z
LAST-MODIFIED:20250504T000001Z
UID:3763-1746883800-1746892800@artinottawa.org
SUMMARY:Eva Hoedeman and Melanie Villeneuve (Snowbear) - Vernissage
DESCRIPTION:The Arber Room Project proudly presents a compelling exhibition featuring the captivating paintings of Eva Hoedeman alongside the enchanting works of Métis artist Melanie Villeneuve\, also known as Snowbear. This unique showcase offers a dynamic exploration of two distinct artistic voices\, each contributing their own style\, perspective\, and creative vision. \nEva Hoedeman’s vibrant paintings celebrate color and emotion\, drawing deep inspiration from the natural world. Her works invite viewers to experience the beauty and complexity of the landscapes she portrays\, evoking a profound sense of wonder and connection to the environment. \nMelanie Villeneuve (Snowbear)\, a proud Métis artist\, presents a diverse collection of visual art and illustrated books that highlight her imaginative storytelling and expressive artistry. Her work delves into Indigenous themes and narratives\, skillfully weaving cultural stories and traditions into each piece. By blending visual elements with narrative depth\, her art forms a rich tapestry that resonates emotionally and intellectually\, while paying homage to her cultural heritage.
URL:https://artinottawa.org/event/eva-hoedeman-and-melanie-villeneuve-snowbear-vernissage/
LOCATION:Arbor Gallery\, 103 High St.\, Vankleek Hill\, ON\, K0B 1R0\, Canada
CATEGORIES:Vernissage
ATTACH;FMTTYPE=image/jpeg:https://artinottawa.org/wp-content/uploads/2025/05/ARP.jpg
END:VEVENT
END:VCALENDAR