BEGIN:VCALENDAR
VERSION:2.0
PRODID:-//Art In Ottawa - ECPv6.15.20//NONSGML v1.0//EN
CALSCALE:GREGORIAN
METHOD:PUBLISH
X-WR-CALNAME:Art In Ottawa
X-ORIGINAL-URL:https://artinottawa.org
X-WR-CALDESC:Events for Art In Ottawa
REFRESH-INTERVAL;VALUE=DURATION:PT1H
X-Robots-Tag:noindex
X-PUBLISHED-TTL:PT1H
BEGIN:VTIMEZONE
TZID:America/Toronto
BEGIN:DAYLIGHT
TZOFFSETFROM:-0500
TZOFFSETTO:-0400
TZNAME:EDT
DTSTART:20240310T070000
END:DAYLIGHT
BEGIN:STANDARD
TZOFFSETFROM:-0400
TZOFFSETTO:-0500
TZNAME:EST
DTSTART:20241103T060000
END:STANDARD
BEGIN:DAYLIGHT
TZOFFSETFROM:-0500
TZOFFSETTO:-0400
TZNAME:EDT
DTSTART:20250309T070000
END:DAYLIGHT
BEGIN:STANDARD
TZOFFSETFROM:-0400
TZOFFSETTO:-0500
TZNAME:EST
DTSTART:20251102T060000
END:STANDARD
BEGIN:DAYLIGHT
TZOFFSETFROM:-0500
TZOFFSETTO:-0400
TZNAME:EDT
DTSTART:20260308T070000
END:DAYLIGHT
BEGIN:STANDARD
TZOFFSETFROM:-0400
TZOFFSETTO:-0500
TZNAME:EST
DTSTART:20261101T060000
END:STANDARD
END:VTIMEZONE
BEGIN:VEVENT
DTSTART;TZID=America/Toronto:20250518T130000
DTEND;TZID=America/Toronto:20250518T160000
DTSTAMP:20260424T205413
CREATED:20250419T010635Z
LAST-MODIFIED:20250419T010635Z
UID:3720-1747573200-1747584000@artinottawa.org
SUMMARY:Urban Perspectives By Maurice Dionne - Vernissage
DESCRIPTION:In Maurice Dionne’s latest art exhibition\, “Urban Perspectives\,” he invites viewers to explore the intricate interplay between its built environment and the life that pulses within it. Through a series of captivating cityscapes and streetscapes\, Dionne captures not just the architecture and buildings but also the very essence of urban existence—the stories that unfold before us in every corner\, every shadow.
URL:https://artinottawa.org/event/urban-perspectives-by-maurice-dionne-vernissage/
LOCATION:Foyer Gallery\, 1701 Woodroffe Avenue\, Ottawa\, ON\, K2G1W2\, Canada
CATEGORIES:Vernissage
ATTACH;FMTTYPE=image/jpeg:https://artinottawa.org/wp-content/uploads/2025/04/MDV.jpg
ORGANIZER;CN="Foyer Gallery":MAILTO:info@foyergallery.com
END:VEVENT
END:VCALENDAR