BEGIN:VCALENDAR
VERSION:2.0
PRODID:-//Art In Ottawa - ECPv6.15.20//NONSGML v1.0//EN
CALSCALE:GREGORIAN
METHOD:PUBLISH
X-ORIGINAL-URL:https://artinottawa.org
X-WR-CALDESC:Events for Art In Ottawa
REFRESH-INTERVAL;VALUE=DURATION:PT1H
X-Robots-Tag:noindex
X-PUBLISHED-TTL:PT1H
BEGIN:VTIMEZONE
TZID:America/Toronto
BEGIN:DAYLIGHT
TZOFFSETFROM:-0500
TZOFFSETTO:-0400
TZNAME:EDT
DTSTART:20240310T070000
END:DAYLIGHT
BEGIN:STANDARD
TZOFFSETFROM:-0400
TZOFFSETTO:-0500
TZNAME:EST
DTSTART:20241103T060000
END:STANDARD
BEGIN:DAYLIGHT
TZOFFSETFROM:-0500
TZOFFSETTO:-0400
TZNAME:EDT
DTSTART:20250309T070000
END:DAYLIGHT
BEGIN:STANDARD
TZOFFSETFROM:-0400
TZOFFSETTO:-0500
TZNAME:EST
DTSTART:20251102T060000
END:STANDARD
BEGIN:DAYLIGHT
TZOFFSETFROM:-0500
TZOFFSETTO:-0400
TZNAME:EDT
DTSTART:20260308T070000
END:DAYLIGHT
BEGIN:STANDARD
TZOFFSETFROM:-0400
TZOFFSETTO:-0500
TZNAME:EST
DTSTART:20261101T060000
END:STANDARD
END:VTIMEZONE
BEGIN:VEVENT
DTSTART;TZID=America/Toronto:20250614T150000
DTEND;TZID=America/Toronto:20250614T170000
DTSTAMP:20260424T223152
CREATED:20250611T211954Z
LAST-MODIFIED:20250611T211954Z
UID:3784-1749913200-1749920400@artinottawa.org
SUMMARY:Threads of Memory Julie Gladstone & Olivia Mae Sinclair - Vernissage
DESCRIPTION:WALL SPACE GALLERY is pleased to present Threads of Memory\, an exhibition featuring the work of Julie Gladstone and Olivia Mae Sinclair. In this powerful and introspective presentation\, both artists engage in intimate dialogues with themes of trauma\, memory\, and transformation. Through their deeply personal practices\, they navigate the intersection of inner experience and external reality\, examining how time\, spirituality\, and the physical body inform processes of healing and renewal. \nPresented alongside Threads of Memory are new works by Marney McDiarmid\, a ceramic artist based in Katarokwi/Kingston. Known for her functional and sculptural ceramics\, McDiarmid’s latest pieces will be showcased in the gallery’s window display from June 14 to 28\, 2025.
URL:https://artinottawa.org/event/threads-of-memory-julie-gladstone-olivia-mae-sinclair-vernissage/
LOCATION:Wall Space Gallery\, 1090 Bank St\, Ottawa\, ON\, K1S 3X5\, Canada
CATEGORIES:Vernissage
ATTACH;FMTTYPE=image/jpeg:https://artinottawa.org/wp-content/uploads/2025/06/Threads-of-Memory.jpg
END:VEVENT
END:VCALENDAR