BEGIN:VCALENDAR
VERSION:2.0
PRODID:-//Art In Ottawa - ECPv6.15.20//NONSGML v1.0//EN
CALSCALE:GREGORIAN
METHOD:PUBLISH
X-WR-CALNAME:Art In Ottawa
X-ORIGINAL-URL:https://artinottawa.org
X-WR-CALDESC:Events for Art In Ottawa
REFRESH-INTERVAL;VALUE=DURATION:PT1H
X-Robots-Tag:noindex
X-PUBLISHED-TTL:PT1H
BEGIN:VTIMEZONE
TZID:America/Toronto
BEGIN:DAYLIGHT
TZOFFSETFROM:-0500
TZOFFSETTO:-0400
TZNAME:EDT
DTSTART:20240310T070000
END:DAYLIGHT
BEGIN:STANDARD
TZOFFSETFROM:-0400
TZOFFSETTO:-0500
TZNAME:EST
DTSTART:20241103T060000
END:STANDARD
BEGIN:DAYLIGHT
TZOFFSETFROM:-0500
TZOFFSETTO:-0400
TZNAME:EDT
DTSTART:20250309T070000
END:DAYLIGHT
BEGIN:STANDARD
TZOFFSETFROM:-0400
TZOFFSETTO:-0500
TZNAME:EST
DTSTART:20251102T060000
END:STANDARD
BEGIN:DAYLIGHT
TZOFFSETFROM:-0500
TZOFFSETTO:-0400
TZNAME:EDT
DTSTART:20260308T070000
END:DAYLIGHT
BEGIN:STANDARD
TZOFFSETFROM:-0400
TZOFFSETTO:-0500
TZNAME:EST
DTSTART:20261101T060000
END:STANDARD
END:VTIMEZONE
BEGIN:VEVENT
DTSTART;TZID=America/Toronto:20251022T180000
DTEND;TZID=America/Toronto:20251022T200000
DTSTAMP:20260424T060257
CREATED:20251017T202747Z
LAST-MODIFIED:20251017T202808Z
UID:4046-1761156000-1761163200@artinottawa.org
SUMMARY:New Arboreal – Arboricole\, Vernissage
DESCRIPTION:Découvrez le tapis forestier et plongez dans le royaume souterrain qui se trouve juste en dessous. \nDans New Arboreal\, l’artiste explore les phénomènes de la coévolution et de la symbiose. L’exposition présente une installation créée à partir de feutre et de fil de fer. Elle évoque des systèmes racinaires et des champignons micellaires. S’y imbriquent des feuilles de papier créées à la main par l’artiste et des sculptures de papier figurant des branches d’arbre\, du lichen et du fongus. \nJenny McMaster travaille les textures\, les suspensions\, les ombres portées et la multiplication des plans pour créer des environnements immersifs.
URL:https://artinottawa.org/event/new-arboreal-arboricole-2/
LOCATION:Espace Pierre-Debain\, 120 Principale St\, Gatineau\, QC\, J9H 3M3\, Canada
CATEGORIES:Vernissage
ATTACH;FMTTYPE=image/jpeg:https://artinottawa.org/wp-content/uploads/2025/10/New-Arboreal-–-Arboricole.jpg
END:VEVENT
END:VCALENDAR