BEGIN:VCALENDAR
VERSION:2.0
PRODID:-//Art In Ottawa - ECPv6.15.20//NONSGML v1.0//EN
CALSCALE:GREGORIAN
METHOD:PUBLISH
X-WR-CALNAME:Art In Ottawa
X-ORIGINAL-URL:https://artinottawa.org
X-WR-CALDESC:Events for Art In Ottawa
REFRESH-INTERVAL;VALUE=DURATION:PT1H
X-Robots-Tag:noindex
X-PUBLISHED-TTL:PT1H
BEGIN:VTIMEZONE
TZID:America/Toronto
BEGIN:DAYLIGHT
TZOFFSETFROM:-0500
TZOFFSETTO:-0400
TZNAME:EDT
DTSTART:20240310T070000
END:DAYLIGHT
BEGIN:STANDARD
TZOFFSETFROM:-0400
TZOFFSETTO:-0500
TZNAME:EST
DTSTART:20241103T060000
END:STANDARD
BEGIN:DAYLIGHT
TZOFFSETFROM:-0500
TZOFFSETTO:-0400
TZNAME:EDT
DTSTART:20250309T070000
END:DAYLIGHT
BEGIN:STANDARD
TZOFFSETFROM:-0400
TZOFFSETTO:-0500
TZNAME:EST
DTSTART:20251102T060000
END:STANDARD
BEGIN:DAYLIGHT
TZOFFSETFROM:-0500
TZOFFSETTO:-0400
TZNAME:EDT
DTSTART:20260308T070000
END:DAYLIGHT
BEGIN:STANDARD
TZOFFSETFROM:-0400
TZOFFSETTO:-0500
TZNAME:EST
DTSTART:20261101T060000
END:STANDARD
END:VTIMEZONE
BEGIN:VEVENT
DTSTART;TZID=America/Toronto:20251025T140000
DTEND;TZID=America/Toronto:20251025T170000
DTSTAMP:20260424T072806
CREATED:20251011T191503Z
LAST-MODIFIED:20251011T191503Z
UID:4037-1761400800-1761411600@artinottawa.org
SUMMARY:Masino + Vincent MERAKI (μεράκι) - Vernissage
DESCRIPTION:À cet égard\, au hasard des lectures\, le mot d’origine grecque meraki leur semble inspirant et approprié pour exprimer cette force et cet objectif. Bien qu’intraduisible\, on pourrait paraphraser en se referrant à l’ardeur et à l’enthousiasme où nous sommes aspirés dans ce que nous façonnons\, en rejetant la logique habituelle et les intérêts de la vie d’usage. \nLa volonté derrière la présente exposition et l’élan de faire dialoguer les œuvres s’inscrit donc dans la longue durée des échanges et des partages où des conceptions picturales et philosophiques concordantes se retrouvent et se dynamisent. Dans le travail respectif des deux peintres\, on peut ainsi aisément retrouver un espace pictural construit par superpositions et juxtapositions où une pluralité temporelle de points de vue cohabite. \nVernissage: Saturday\, October 25\, 2:00 – 5:00pm
URL:https://artinottawa.org/event/masino-vincent-meraki-%ce%bc%ce%b5%cf%81%ce%ac%ce%ba%ce%b9-vernissage/
LOCATION:Galerie St-Laurent + Hill\, 293 Dalhousie St\, Ottawa\, ON\, K1N 7E5\, Canada
CATEGORIES:Vernissage
ATTACH;FMTTYPE=image/jpeg:https://artinottawa.org/wp-content/uploads/2025/10/Masino-Vincent-2.jpg
ORGANIZER;CN="Galerie St-Laurent + Hill":MAILTO:info@galeriestlaurentplushill.com
END:VEVENT
END:VCALENDAR