BEGIN:VCALENDAR
VERSION:2.0
PRODID:-//Art In Ottawa - ECPv6.15.20//NONSGML v1.0//EN
CALSCALE:GREGORIAN
METHOD:PUBLISH
X-WR-CALNAME:Art In Ottawa
X-ORIGINAL-URL:https://artinottawa.org
X-WR-CALDESC:Events for Art In Ottawa
REFRESH-INTERVAL;VALUE=DURATION:PT1H
X-Robots-Tag:noindex
X-PUBLISHED-TTL:PT1H
BEGIN:VTIMEZONE
TZID:America/Toronto
BEGIN:DAYLIGHT
TZOFFSETFROM:-0500
TZOFFSETTO:-0400
TZNAME:EDT
DTSTART:20240310T070000
END:DAYLIGHT
BEGIN:STANDARD
TZOFFSETFROM:-0400
TZOFFSETTO:-0500
TZNAME:EST
DTSTART:20241103T060000
END:STANDARD
BEGIN:DAYLIGHT
TZOFFSETFROM:-0500
TZOFFSETTO:-0400
TZNAME:EDT
DTSTART:20250309T070000
END:DAYLIGHT
BEGIN:STANDARD
TZOFFSETFROM:-0400
TZOFFSETTO:-0500
TZNAME:EST
DTSTART:20251102T060000
END:STANDARD
BEGIN:DAYLIGHT
TZOFFSETFROM:-0500
TZOFFSETTO:-0400
TZNAME:EDT
DTSTART:20260308T070000
END:DAYLIGHT
BEGIN:STANDARD
TZOFFSETFROM:-0400
TZOFFSETTO:-0500
TZNAME:EST
DTSTART:20261101T060000
END:STANDARD
END:VTIMEZONE
BEGIN:VEVENT
DTSTART;TZID=America/Toronto:20251030T173000
DTEND;TZID=America/Toronto:20251030T193000
DTSTAMP:20260424T021701
CREATED:20251029T022755Z
LAST-MODIFIED:20251029T022755Z
UID:4057-1761845400-1761852600@artinottawa.org
SUMMARY:Mosaic 2025 - Vernissage
DESCRIPTION:We’re excited to announce that Mosaic 2025 is opening soon at the Trinity Art Gallery! From October 30 to January 13\, come see one of Ottawa’s largest juried art shows featuring amazing works in a variety of media by Arteast members. \nOpening Reception:\nJoin us on Thursday\, October 30\, from 5:30 to 7:30 pm to celebrate the artists and award winners. Awards will be announced at 6:15pm. \nIt’s a great chance to meet fellow art lovers\, chat with the artists\, and enjoy an inspiring evening surrounded by creativity. Everyone’s welcome!
URL:https://artinottawa.org/event/mosaic-2025-vernissage/
LOCATION:Shenkman Arts Centre\, 245 Centrum Blvd\, Orléans\, ON\, K1E 0A1\, Canada
CATEGORIES:Vernissage
ATTACH;FMTTYPE=image/jpeg:https://artinottawa.org/wp-content/uploads/2025/10/Mosaic-2025.jpg
ORGANIZER;CN="Arteast Ottawa":MAILTO:contactus@arteastottawa.com
END:VEVENT
END:VCALENDAR