BEGIN:VCALENDAR
VERSION:2.0
PRODID:-//Art In Ottawa - ECPv6.15.20//NONSGML v1.0//EN
CALSCALE:GREGORIAN
METHOD:PUBLISH
X-WR-CALNAME:Art In Ottawa
X-ORIGINAL-URL:https://artinottawa.org
X-WR-CALDESC:Events for Art In Ottawa
REFRESH-INTERVAL;VALUE=DURATION:PT1H
X-Robots-Tag:noindex
X-PUBLISHED-TTL:PT1H
BEGIN:VTIMEZONE
TZID:America/Toronto
BEGIN:DAYLIGHT
TZOFFSETFROM:-0500
TZOFFSETTO:-0400
TZNAME:EDT
DTSTART:20240310T070000
END:DAYLIGHT
BEGIN:STANDARD
TZOFFSETFROM:-0400
TZOFFSETTO:-0500
TZNAME:EST
DTSTART:20241103T060000
END:STANDARD
BEGIN:DAYLIGHT
TZOFFSETFROM:-0500
TZOFFSETTO:-0400
TZNAME:EDT
DTSTART:20250309T070000
END:DAYLIGHT
BEGIN:STANDARD
TZOFFSETFROM:-0400
TZOFFSETTO:-0500
TZNAME:EST
DTSTART:20251102T060000
END:STANDARD
BEGIN:DAYLIGHT
TZOFFSETFROM:-0500
TZOFFSETTO:-0400
TZNAME:EDT
DTSTART:20260308T070000
END:DAYLIGHT
BEGIN:STANDARD
TZOFFSETFROM:-0400
TZOFFSETTO:-0500
TZNAME:EST
DTSTART:20261101T060000
END:STANDARD
END:VTIMEZONE
BEGIN:VEVENT
DTSTART;TZID=America/Toronto:20251101T130000
DTEND;TZID=America/Toronto:20251101T150000
DTSTAMP:20260424T021649
CREATED:20251029T023431Z
LAST-MODIFIED:20251029T023431Z
UID:4062-1762002000-1762009200@artinottawa.org
SUMMARY:The Light We Hold\, The Light We Carry - Vernissage
DESCRIPTION:During a sabbatical year devoted to creative exploration\, Lauren Michelle Levesque immersed herself in the slow\, reflective processes of making. The resulting works\, gathered under the title “the light we hold\, the light we carry”\, illuminate the quiet ways in which art-making brings meaning\, care\, whimsy\, and a touch of magic into everyday life. \nCreated within the intimate spaces of home\, these textile-based pieces give form to stories of connection and transformation. An arts-based researcher and associate professor at Saint Paul University in Ottawa\, Levesque’s work explores how everyday spaces become sites of social\, political\, and personal significance. Through this exhibition\, she invites viewers to reflect on how creativity itself becomes an act of holding light — for ourselves\, and for one another.
URL:https://artinottawa.org/event/the-light-we-hold-the-light-we-carry-vernissage/
LOCATION:Arbor Gallery\, 103 High St.\, Vankleek Hill\, ON\, K0B 1R0\, Canada
CATEGORIES:Vernissage
ATTACH;FMTTYPE=image/jpeg:https://artinottawa.org/wp-content/uploads/2025/10/Lauren-Michelle-Levesque.jpg
END:VEVENT
END:VCALENDAR