BEGIN:VCALENDAR
VERSION:2.0
PRODID:-//Art In Ottawa - ECPv6.15.20//NONSGML v1.0//EN
CALSCALE:GREGORIAN
METHOD:PUBLISH
X-WR-CALNAME:Art In Ottawa
X-ORIGINAL-URL:https://artinottawa.org
X-WR-CALDESC:Events for Art In Ottawa
REFRESH-INTERVAL;VALUE=DURATION:PT1H
X-Robots-Tag:noindex
X-PUBLISHED-TTL:PT1H
BEGIN:VTIMEZONE
TZID:America/Toronto
BEGIN:DAYLIGHT
TZOFFSETFROM:-0500
TZOFFSETTO:-0400
TZNAME:EDT
DTSTART:20240310T070000
END:DAYLIGHT
BEGIN:STANDARD
TZOFFSETFROM:-0400
TZOFFSETTO:-0500
TZNAME:EST
DTSTART:20241103T060000
END:STANDARD
BEGIN:DAYLIGHT
TZOFFSETFROM:-0500
TZOFFSETTO:-0400
TZNAME:EDT
DTSTART:20250309T070000
END:DAYLIGHT
BEGIN:STANDARD
TZOFFSETFROM:-0400
TZOFFSETTO:-0500
TZNAME:EST
DTSTART:20251102T060000
END:STANDARD
BEGIN:DAYLIGHT
TZOFFSETFROM:-0500
TZOFFSETTO:-0400
TZNAME:EDT
DTSTART:20260308T070000
END:DAYLIGHT
BEGIN:STANDARD
TZOFFSETFROM:-0400
TZOFFSETTO:-0500
TZNAME:EST
DTSTART:20261101T060000
END:STANDARD
END:VTIMEZONE
BEGIN:VEVENT
DTSTART;TZID=America/Toronto:20251107T170000
DTEND;TZID=America/Toronto:20251107T200000
DTSTAMP:20260424T021653
CREATED:20251103T002447Z
LAST-MODIFIED:20251103T002447Z
UID:4106-1762534800-1762545600@artinottawa.org
SUMMARY:Isabelle Gauvreau - TIME (Vernissage)
DESCRIPTION:Isabelle Gauvreau’s work has always focused on the human condition and\, more specifically\, on the interpretation of the female body through the development of a highly personal visual language. Her practice is inspired by a long lineage of women artists influenced by feminism\, from the 1970s to the present day. \nThis series is an emotional and visual response to existential questions in the face of today’s global crises. From these impressions of rupture\, what emerges\, if not\, as Leonard Cohen suggested\, light? Gauvreau seeks to bring together what unites us: light as well as darkness\, for one cannot exist without the other. \nThis duality manifests in the series through contrasts of splashes\, golden orbs\, and white flashes on dark backgrounds\, all striving toward harmony. In response to a growing need to reconnect with nature\, Gauvreau also explores more elaborate techniques\, adding colour with stick paint\, which brings an even more earthy quality to her work than usual. \nCollage on Japanese paper remains central to the artist’s approach. The use of gold leaf and pigments serves as an anchor and symbolizes a connection to nature. Writing and drawing intertwine in layered compositions over collage and ink drips\, encounters that evoke complex impressions.
URL:https://artinottawa.org/event/isabelle-gauvreau-time-vernissage/
LOCATION:Galerie St-Laurent + Hill\, 293 Dalhousie St\, Ottawa\, ON\, K1N 7E5\, Canada
CATEGORIES:Vernissage
ATTACH;FMTTYPE=image/jpeg:https://artinottawa.org/wp-content/uploads/2025/11/Isabelle-Gauvreau-1.jpg
ORGANIZER;CN="Galerie St-Laurent + Hill":MAILTO:info@galeriestlaurentplushill.com
END:VEVENT
END:VCALENDAR