BEGIN:VCALENDAR
VERSION:2.0
PRODID:-//Art In Ottawa - ECPv6.15.20//NONSGML v1.0//EN
CALSCALE:GREGORIAN
METHOD:PUBLISH
X-WR-CALNAME:Art In Ottawa
X-ORIGINAL-URL:https://artinottawa.org
X-WR-CALDESC:Events for Art In Ottawa
REFRESH-INTERVAL;VALUE=DURATION:PT1H
X-Robots-Tag:noindex
X-PUBLISHED-TTL:PT1H
BEGIN:VTIMEZONE
TZID:America/Toronto
BEGIN:DAYLIGHT
TZOFFSETFROM:-0500
TZOFFSETTO:-0400
TZNAME:EDT
DTSTART:20240310T070000
END:DAYLIGHT
BEGIN:STANDARD
TZOFFSETFROM:-0400
TZOFFSETTO:-0500
TZNAME:EST
DTSTART:20241103T060000
END:STANDARD
BEGIN:DAYLIGHT
TZOFFSETFROM:-0500
TZOFFSETTO:-0400
TZNAME:EDT
DTSTART:20250309T070000
END:DAYLIGHT
BEGIN:STANDARD
TZOFFSETFROM:-0400
TZOFFSETTO:-0500
TZNAME:EST
DTSTART:20251102T060000
END:STANDARD
BEGIN:DAYLIGHT
TZOFFSETFROM:-0500
TZOFFSETTO:-0400
TZNAME:EDT
DTSTART:20260308T070000
END:DAYLIGHT
BEGIN:STANDARD
TZOFFSETFROM:-0400
TZOFFSETTO:-0500
TZNAME:EST
DTSTART:20261101T060000
END:STANDARD
END:VTIMEZONE
BEGIN:VEVENT
DTSTART;TZID=America/Toronto:20251108T130000
DTEND;TZID=America/Toronto:20251108T160000
DTSTAMP:20260424T021657
CREATED:20251103T002024Z
LAST-MODIFIED:20251103T002024Z
UID:4101-1762606800-1762617600@artinottawa.org
SUMMARY:Sunlit Moments by Marianne Feaver - Vernissage
DESCRIPTION:Marianne Feaver celebrates the natural world through colour and light. Fleeting moments of radiance – sunlight filtering through trees\, the shimmer of water across a lake or the dancing highlights of flower petals – form the heart of her work.  Her inspiration is drawn from the landscapes that surround her; the forest trails of the Gatineau Hills or the peaceful\, rugged beauty that surrounds Wakefield. \nThrough vivid colour and loose\, expressive brushstrokes\, Marianne translates her emotional response to the landscape onto canvas.  Each painting seeks to capture the awe\, joy and serenity found in those moments – the stillness of reflection\, the brilliance of passing light\, the quiet energy of the natural world. \nHer works invite the viewer to pause and be immersed in the harmony and vitality of the scene – to breathe\, to feel the exuberance\, and to be transported to a place of peace and familiarity.
URL:https://artinottawa.org/event/sunlit-moments-by-marianne-feaver-vernissage/
LOCATION:Galerie Old Chelsea\, 783 Route 105\, Chelsea\, QC\, J9B 1P1\, Canada
CATEGORIES:Vernissage
ATTACH;FMTTYPE=image/jpeg:https://artinottawa.org/wp-content/uploads/2025/11/Sunlit-Moments-2.jpg
END:VEVENT
END:VCALENDAR