BEGIN:VCALENDAR
VERSION:2.0
PRODID:-//Art In Ottawa - ECPv6.15.20//NONSGML v1.0//EN
CALSCALE:GREGORIAN
METHOD:PUBLISH
X-WR-CALNAME:Art In Ottawa
X-ORIGINAL-URL:https://artinottawa.org
X-WR-CALDESC:Events for Art In Ottawa
REFRESH-INTERVAL;VALUE=DURATION:PT1H
X-Robots-Tag:noindex
X-PUBLISHED-TTL:PT1H
BEGIN:VTIMEZONE
TZID:America/Toronto
BEGIN:DAYLIGHT
TZOFFSETFROM:-0500
TZOFFSETTO:-0400
TZNAME:EDT
DTSTART:20250309T070000
END:DAYLIGHT
BEGIN:STANDARD
TZOFFSETFROM:-0400
TZOFFSETTO:-0500
TZNAME:EST
DTSTART:20251102T060000
END:STANDARD
BEGIN:DAYLIGHT
TZOFFSETFROM:-0500
TZOFFSETTO:-0400
TZNAME:EDT
DTSTART:20260308T070000
END:DAYLIGHT
BEGIN:STANDARD
TZOFFSETFROM:-0400
TZOFFSETTO:-0500
TZNAME:EST
DTSTART:20261101T060000
END:STANDARD
BEGIN:DAYLIGHT
TZOFFSETFROM:-0500
TZOFFSETTO:-0400
TZNAME:EDT
DTSTART:20270314T070000
END:DAYLIGHT
BEGIN:STANDARD
TZOFFSETFROM:-0400
TZOFFSETTO:-0500
TZNAME:EST
DTSTART:20271107T060000
END:STANDARD
END:VTIMEZONE
BEGIN:VEVENT
DTSTART;TZID=America/Toronto:20260226T170000
DTEND;TZID=America/Toronto:20260226T200000
DTSTAMP:20260423T155742
CREATED:20260224T031655Z
LAST-MODIFIED:20260224T031655Z
UID:4375-1772125200-1772136000@artinottawa.org
SUMMARY:Florence Victor Fairy Tales and Other Stories - Vernissage
DESCRIPTION:Everyone’s life is worth telling. We all have a story whose chapters address various subjects: fears\, doubts\, moral dilemmas\, obstacles\, but also encounters\, friendship and love. In fairy tales\, the perilous forest journey allows the main character to mature\, enriched by trials and life lessons\, and by the friendships forged along the way (see B. Bettelheim\, The Use of Enchantment: The Meaning and Importance of Fairy Tales\, 1976). In my personal narrative\, the cities of New York and Berlin become\, in turn\, this forest\, a place of passage and learning. \nThis is the premise of this exhibition.
URL:https://artinottawa.org/event/florence-victor-fairy-tales-and-other-stories-vernissage/
LOCATION:Galerie St-Laurent + Hill\, 293 Dalhousie St\, Ottawa\, ON\, K1N 7E5\, Canada
CATEGORIES:Vernissage
ATTACH;FMTTYPE=image/jpeg:https://artinottawa.org/wp-content/uploads/2026/02/Florence-Victor.jpg
ORGANIZER;CN="Galerie St-Laurent + Hill":MAILTO:info@galeriestlaurentplushill.com
END:VEVENT
END:VCALENDAR