BEGIN:VCALENDAR
VERSION:2.0
PRODID:-//Art In Ottawa - ECPv6.15.20//NONSGML v1.0//EN
CALSCALE:GREGORIAN
METHOD:PUBLISH
X-ORIGINAL-URL:https://artinottawa.org
X-WR-CALDESC:Events for Art In Ottawa
REFRESH-INTERVAL;VALUE=DURATION:PT1H
X-Robots-Tag:noindex
X-PUBLISHED-TTL:PT1H
BEGIN:VTIMEZONE
TZID:America/Toronto
BEGIN:DAYLIGHT
TZOFFSETFROM:-0500
TZOFFSETTO:-0400
TZNAME:EDT
DTSTART:20250309T070000
END:DAYLIGHT
BEGIN:STANDARD
TZOFFSETFROM:-0400
TZOFFSETTO:-0500
TZNAME:EST
DTSTART:20251102T060000
END:STANDARD
BEGIN:DAYLIGHT
TZOFFSETFROM:-0500
TZOFFSETTO:-0400
TZNAME:EDT
DTSTART:20260308T070000
END:DAYLIGHT
BEGIN:STANDARD
TZOFFSETFROM:-0400
TZOFFSETTO:-0500
TZNAME:EST
DTSTART:20261101T060000
END:STANDARD
BEGIN:DAYLIGHT
TZOFFSETFROM:-0500
TZOFFSETTO:-0400
TZNAME:EDT
DTSTART:20270314T070000
END:DAYLIGHT
BEGIN:STANDARD
TZOFFSETFROM:-0400
TZOFFSETTO:-0500
TZNAME:EST
DTSTART:20271107T060000
END:STANDARD
END:VTIMEZONE
BEGIN:VEVENT
DTSTART;TZID=America/Toronto:20260228T130000
DTEND;TZID=America/Toronto:20260228T150000
DTSTAMP:20260425T073538
CREATED:20260225T023841Z
LAST-MODIFIED:20260225T023841Z
UID:4396-1772283600-1772290800@artinottawa.org
SUMMARY:Where Water Meets Land - Vernissage
DESCRIPTION:Mary Gourlay’s work emerges from an emotional and physical immersion in the natural world\, responding to the power\, fragility\, and temporality of landscape. Exploring remote environments by canoe\, kayak\, and on foot\, Gourlay creates sketches\, small paintings\, and photographs that capture fleeting moments of encounter. These fragmentary records form the basis for larger studio works that distill her lived experience of nature into richly expressive paintings. Since settling in Canada in 1992\, her work has been shaped by the landscapes of the Canadian Shield\, the south shore of the St. Lawrence near Rimouski\, and the Pacific coastline of Vancouver Island.
URL:https://artinottawa.org/event/where-water-meets-land-vernissage/
LOCATION:Arbor Gallery\, 103 High St.\, Vankleek Hill\, ON\, K0B 1R0\, Canada
CATEGORIES:Vernissage
ATTACH;FMTTYPE=image/jpeg:https://artinottawa.org/wp-content/uploads/2026/02/Where-Water-Meets-Land.jpg
END:VEVENT
BEGIN:VEVENT
DTSTART;TZID=America/Toronto:20260228T130000
DTEND;TZID=America/Toronto:20260228T150000
DTSTAMP:20260425T073538
CREATED:20260225T024215Z
LAST-MODIFIED:20260225T024215Z
UID:4401-1772283600-1772290800@artinottawa.org
SUMMARY:Rise: Vernissage
DESCRIPTION:Sinclair A. Maloney presents: Rise – a focused selection of landscape and seascape paintings. With a professional background in photography spanning 15 years\, his work is informed by a strong sense of composition and a keen observational eye.\nInfluenced by 19th-century painters such as Corot and Courbet\, and often compared to Turner for his atmospheric sensibility\, Maloney’s paintings balance precision and mood\, offering carefully observed scenes infused with subtle light\, depth\, and movement.
URL:https://artinottawa.org/event/rise-vernissage/
LOCATION:Arbor Gallery\, 103 High St.\, Vankleek Hill\, ON\, K0B 1R0\, Canada
CATEGORIES:Vernissage
ATTACH;FMTTYPE=image/jpeg:https://artinottawa.org/wp-content/uploads/2026/02/Sinclair-A.-Maloney.jpg
END:VEVENT
BEGIN:VEVENT
DTSTART;TZID=America/Toronto:20260228T140000
DTEND;TZID=America/Toronto:20260228T160000
DTSTAMP:20260425T073538
CREATED:20260222T035035Z
LAST-MODIFIED:20260222T035035Z
UID:4369-1772287200-1772294400@artinottawa.org
SUMMARY:Rostros - Vernissage
DESCRIPTION:Vernissage: Saturday\, February 28\, 2 to 4 pm \nFor International Women’s Day\, Galerie Old Chelsea is proud to present a photographic and documentary exhibition by Taimi Tovar. This initiative celebrates the presence of women in the arts\, whether they are painters\, musicians\, architects\, researchers\, or cultural builders. \nBorn out of a shared desire to highlight the female creators who shape our cultural landscape\, this exhibition is much more than a series of portraits. It is an intimate encounter with fourteen committed female artists from diverse backgrounds who share a passion for creation and expression. Through their perspectives\, their stories\, and their varied disciplines\, these artists embody resilience\, audacity\, and feminine creative power. \nThis exhibition goes beyond simply taking portraits. It is also a series of interviews highlighting women artists from the Outaouais region. Through a series of portraits\, Tovar explored the strength and growth of these exceptional women artists\, each contributing in a unique way to the cultural richness of our community. It is a project that highlights women who embody inspiration through their role as artists.
URL:https://artinottawa.org/event/rostros-vernissage/
LOCATION:Galerie Old Chelsea\, 783 Route 105\, Chelsea\, QC\, J9B 1P1\, Canada
CATEGORIES:Vernissage
ATTACH;FMTTYPE=image/jpeg:https://artinottawa.org/wp-content/uploads/2026/02/Rostros-2.jpg
END:VEVENT
BEGIN:VEVENT
DTSTART;TZID=America/Toronto:20260307T150000
DTEND;TZID=America/Toronto:20260307T170000
DTSTAMP:20260425T073538
CREATED:20260306T193634Z
LAST-MODIFIED:20260306T193634Z
UID:4438-1772895600-1772902800@artinottawa.org
SUMMARY:Joy Kardish | Iryna Merkulova - Vernissage
DESCRIPTION:Artist Joy Kardish explores the essence of stillness –the purest and most irreducible quality of the photo-image. Inspired by the enduring prints of early masters like Alfred Stieglitz\, Kardish blends painstaking historic photography techniques such as cyanotype\, with contemporary media to create works that seem to transcend the flow of time and cut through its ephemeral distractions. \nBorn in Kyiv\, Ukraine\, and currently based in Montreal\, Iryna Merkulova is a visual artist whose creative journey finds inspiration in the intricate social processes of the modern world\, especially within urban environments. Holding a Bachelor of Fine Arts (with Distinction) from Concordia University\, Merkulova’s artistic exploration spans painting\, drawing\, and mixed media. She has participated in numerous exhibitions across Canada\, receiving generous support from the Canada Council for the Arts and various cultural public organizations.
URL:https://artinottawa.org/event/joy-kardish-iryna-merkulova-vernissage/
LOCATION:Wall Space Gallery\, 1090 Bank St\, Ottawa\, ON\, K1S 3X5\, Canada
CATEGORIES:Vernissage
ATTACH;FMTTYPE=image/jpeg:https://artinottawa.org/wp-content/uploads/2026/03/MK.jpg
END:VEVENT
BEGIN:VEVENT
DTSTART;TZID=America/Toronto:20260312T173000
DTEND;TZID=America/Toronto:20260312T193000
DTSTAMP:20260425T073538
CREATED:20260225T025607Z
LAST-MODIFIED:20260225T025607Z
UID:4406-1773336600-1773343800@artinottawa.org
SUMMARY:Another Cycle: Vernissage
DESCRIPTION:Another Cycle presents paintings and mixed-media works exploring the intersection of the human body and nature through surreal atmospheres and organic textures. Dinho Bento reflects on belonging\, shelter and transformation\, inviting viewers into a poetic dialogue about identity\, emotional connection and the cyclical essence of existence. \nAs a Brazilian artist based in Canada\, Dinho Bento merges Minas Gerais Baroque heritage with precise organic observation. He’s an internationally recognized muralist who maintains a research‑driven studio practice. His work examines tensions and harmonies between humanity and nature\, creating a dialogue between public art and exhibition space.
URL:https://artinottawa.org/event/another-cycle-vernissage/
LOCATION:Atrium Gallery – Ben Franklin Place\, 101 Centrepointe Dr\, Ottawa\, K2G 0B5\, Canada
CATEGORIES:Vernissage
ATTACH;FMTTYPE=image/jpeg:https://artinottawa.org/wp-content/uploads/2026/02/Dinho-Bento-.jpg
END:VEVENT
BEGIN:VEVENT
DTSTART;TZID=America/Toronto:20260321T130000
DTEND;TZID=America/Toronto:20260321T160000
DTSTAMP:20260425T073538
CREATED:20260303T211609Z
LAST-MODIFIED:20260303T211609Z
UID:4423-1774098000-1774108800@artinottawa.org
SUMMARY:Naturally Canada - Vernissage
DESCRIPTION:“Naturally Canada / Naturellement le Canada” is a dynamic exhibition of mixed media artwork inspired by the vast and diverse nature of Canada. \nThe collection features works that range from abstract interpretations to detailed representational pieces. Each artwork demonstrates a visible integration of mixed media and/or mixed techniques—combining materials such as paint\, collage\, texture\, found objects\, and layered processes to create depth and dimension. Through this diversity of styles and methods\, the exhibition reflects not only the richness of Canada’s environment but also the varied artistic voices inspired by it. \n“Naturally Canada / Naturellement le Canada” celebrates the beauty\, complexity\, and spirit of the natural world\, inviting viewers to experience Canada’s landscapes through innovative and expressive artistic perspectives.
URL:https://artinottawa.org/event/naturally-canada-vernissage/
LOCATION:Galerie Old Chelsea\, 783 Route 105\, Chelsea\, QC\, J9B 1P1\, Canada
CATEGORIES:Vernissage
ATTACH;FMTTYPE=image/jpeg:https://artinottawa.org/wp-content/uploads/2026/03/Naturally-Canadian.jpg
END:VEVENT
BEGIN:VEVENT
DTSTART;TZID=America/Toronto:20260321T140000
DTEND;TZID=America/Toronto:20260321T170000
DTSTAMP:20260425T073538
CREATED:20260303T212423Z
LAST-MODIFIED:20260303T212423Z
UID:4428-1774101600-1774112400@artinottawa.org
SUMMARY:Stephanie Moscrip
DESCRIPTION:Cheese and Winne vernissage
URL:https://artinottawa.org/event/stephanie-moscrip/
LOCATION:Art Hub (127 Bridge St.)\, 127 Bridge Street\, Carleton Place\, ON\, K7C 2V6\, Canada
CATEGORIES:Vernissage
ATTACH;FMTTYPE=image/jpeg:https://artinottawa.org/wp-content/uploads/2026/03/Stephanie.jpg
END:VEVENT
BEGIN:VEVENT
DTSTART;TZID=America/Toronto:20260321T140000
DTEND;TZID=America/Toronto:20260321T170000
DTSTAMP:20260425T073538
CREATED:20260314T233134Z
LAST-MODIFIED:20260314T233134Z
UID:4461-1774101600-1774112400@artinottawa.org
SUMMARY:Lenni Workman - NEW WORK: Vernissage
DESCRIPTION:Lenni Workman – Artist Statement \nMy work is a Request.\nA request to the viewer to look and look again\, don’t stop at superficial information.\nA request to notice how time and light transform your visual world.  Experience that a still-life or a room acts as a sun-dial.\nA request to see the alignment of the micro and macro worlds: how much a reflecting jar of water resembles the photographs we see of our galaxy.\nA request to see that we humans are part of this complex and fragile natural web of life.\nA request to concentrate and dream at the same time. Just for a moment\, hang your soul up on a bough with apple blossoms.\nA request to marvel at the power of a seed to put out roots and the power of a bud to flower. Allow this observed power to energize your efforts to conserve nature on our planet.\nLet the perfection of a moment of light summon the awe and love that it deserves. \nLenni Workman – Biography\nLenni Workman was born in Belleville\, Ont.\, and grew up on a farm just north of there. She studied Art History at Queen’s University\, graduated from St. Lawrence College\, Kingston\, in 1973\, and has been exhibiting paintings since then. Recipient of many awards and grants\, her works can be found in numerous public\, corporate\, and private collections throughout North America and Europe.
URL:https://artinottawa.org/event/lenni-workman-new-work-vernissage/
LOCATION:Galerie St-Laurent + Hill\, 293 Dalhousie St\, Ottawa\, ON\, K1N 7E5\, Canada
CATEGORIES:Vernissage
ATTACH;FMTTYPE=image/jpeg:https://artinottawa.org/wp-content/uploads/2026/03/Lenni-Workman.jpg
ORGANIZER;CN="Galerie St-Laurent + Hill":MAILTO:info@galeriestlaurentplushill.com
END:VEVENT
BEGIN:VEVENT
DTSTART;TZID=America/Toronto:20260326T173000
DTEND;TZID=America/Toronto:20260326T193000
DTSTAMP:20260425T073538
CREATED:20260306T194537Z
LAST-MODIFIED:20260306T194537Z
UID:4444-1774546200-1774553400@artinottawa.org
SUMMARY:About Womanhood - Vernissage
DESCRIPTION:March 26 to May 5\, 2026 \nOpening: Thursday\, March 26\, 5:30 to 7:30 pm \nBy looking at her role in society as a woman\, wife\, mother\, and artist\, Ada Brzeski has created a series of clay sculptures exploring womanhood\, addressing the everyday realities and frustrations women face. Through these works\, she hopes to foster a deeper understanding among both men and women of these often-overlooked experiences. \nAda Brzeski is a ceramic artist with over twenty years of experience. Largely self‑taught\, she continues to refine her practice through courses and workshops. Drawing inspiration from her Polish heritage\, she works from a shared studio in Ottawa. \nTRINITY ART GALLERY\nShenkman Arts Centre\n245 Centrum Boulevard\, Lower Level\nFree admission. Wheelchair accessible.
URL:https://artinottawa.org/event/about-womanhood-vernissage/
LOCATION:Shenkman Arts Centre\, 245 Centrum Blvd\, Orléans\, ON\, K1E 0A1\, Canada
CATEGORIES:Vernissage
ATTACH;FMTTYPE=image/jpeg:https://artinottawa.org/wp-content/uploads/2026/03/Ada-Brzeski-About-Womanhood-.jpg
END:VEVENT
BEGIN:VEVENT
DTSTART;TZID=America/Toronto:20260410T190000
DTEND;TZID=America/Toronto:20260410T210000
DTSTAMP:20260425T073538
CREATED:20260405T153245Z
LAST-MODIFIED:20260405T153245Z
UID:4552-1775847600-1775854800@artinottawa.org
SUMMARY:Grand Nord\, Valérian Mazataud - Vernissage
DESCRIPTION:Le photographe Valérian Mazataud a recréé\, avec des citoyens de son quartier de Montréal-Nord\, des scènes de la vie quotidienne d’autrefois. Il a fouillé des archives photographiques et des albums de famille pour ensuite\, lors d’ateliers\, reconstituer ces photos en imaginant un univers à la croisée des époques et des cultures. \nPrès d’une centaine de participants – originaires du Québec\, d’Haïti\, du Salvador ou de la Turquie – ont contribué à ce processus de co-création. Il en résulte une série de diptyques où passé et présent se répondent\, révélant autant l’évolution du Québec urbain que le regard des nouveaux arrivants sur leur société d’accueil. \nNous vous invitons en grand nombre au vernissage de l’exposition qui aura lieu le vendredi\, 10 avril 2026\, de 19 h à 21 h. L’entrée est libre et gratuite.
URL:https://artinottawa.org/event/grand-nord-valerian-mazataud-vernissage/
LOCATION:Galerie Montcalm\, 25 Laurier St\, Gatineau\, Quebec\, J8X 3Y9\, Canada
CATEGORIES:Vernissage
ATTACH;FMTTYPE=image/jpeg:https://artinottawa.org/wp-content/uploads/2026/04/Grand-Nord-2.jpg
END:VEVENT
BEGIN:VEVENT
DTSTART;TZID=America/Toronto:20260411T130000
DTEND;TZID=America/Toronto:20260411T160000
DTSTAMP:20260425T073538
CREATED:20260405T150013Z
LAST-MODIFIED:20260405T150013Z
UID:4526-1775912400-1775923200@artinottawa.org
SUMMARY:Slip Terrace by Andrew Rucklidge - Vernissage
DESCRIPTION:Galerie Old Chelsea is thrilled to present a series of new paintings by Andrew Rucklidge\, an internationally recognized artist now living in Chelsea.  The exhibition captures the invisible yet deeply familiar forces that shape the earth over time as Rucklidge draws on processes such as erosion\, sedimentation\, metamorphism\, volcanic eruptions\, exposed faults\, and slipping terraces. \nAndrew Rucklidge’s practice is rooted in an exploration of the planet’s internal gestures—subtle\, powerful movements translated into paint through a deeply material and process-driven approach. Working with ancient and traditional media including egg tempera\, distemper\, watercolour\, handmade inks\, encaustic\, and sun-thickened linseed oil\, he constructs surfaces that echo the layered complexity of geological formations.
URL:https://artinottawa.org/event/slip-terrace-by-andrew-rucklidge-vernissage/
LOCATION:Galerie Old Chelsea\, 783 Route 105\, Chelsea\, QC\, J9B 1P1\, Canada
CATEGORIES:Vernissage
ATTACH;FMTTYPE=image/jpeg:https://artinottawa.org/wp-content/uploads/2026/04/Slip-Terrace.jpg
END:VEVENT
BEGIN:VEVENT
DTSTART;TZID=America/Toronto:20260411T140000
DTEND;TZID=America/Toronto:20260411T170000
DTSTAMP:20260425T073538
CREATED:20260405T152145Z
LAST-MODIFIED:20260405T152145Z
UID:4544-1775916000-1775926800@artinottawa.org
SUMMARY:Terry Brynaert still*life - Vernissage
DESCRIPTION:Still*life is not a meditation on fruit bowls or porcelain vases; it proposes a dialogue between breath and silence\, between the pulse of existence and the hush of its surroundings. These paintings have emerged from the experience of living surrounded by nature—a life steeped in forests\, rivers\, and the quiet choreography of seasons. They are offered as invitations to pause\, to inhabit the stillness that nature offers without demanding\, and to recognize that stillness is never empty; it hums with life. \nFrom a distance\, the works may appear akin to realism\, as if reality itself were gently lifted from the forest floor and pinned to canvas. Yet\, as the viewer approaches\, the illusion fractures. What may have appeared serene reveals a riot of detail—brushstrokes that mimic the chaos of wind‑tossed leaves\, textures that echo the restless industry of bees buzzing about. This duality mirrors the experience of walking in the woods: the grandeur of treetops overhead\, and\, at your feet\, a single ant bearing the improbable weight of a pine needle. Stillness\, here\, is not stasis; it is a layered complexity\, a quiet teeming. \nIt is from this layered\, breathing stillness of the natural world that the studio’s own quiet emerges. In the act of painting\, thought slows to a near‑motionless drift\, settling into a trance‑like\, empty‑headed calm. The studio becomes a kind of interior forest—silent\, attentive\, stripped of urgency—where gesture arises without strain and decisions surface from a place beneath language. This meditative quiet is not separate from nature but echoes it\, becoming another form of listening. \nImmersion in nature is not an escape but a return. Silence is not absence\, but presence amplified. Each painting becomes a vessel for this paradox—where calm and vitality coexist\, where the infinite and the infinitesimal converse in colour and form. \nIn still*life\, the viewer is invited to slow down\, to look twice\, to surrender to the tension between order and disorder. These works are not so much representations; they are translations of experience\, carrying the scent of pine\, the flicker of shadow\, the pulse of unseen lives. They strive to remind that stillness is not the opposite of life—it is its most profound articulation.
URL:https://artinottawa.org/event/terry-brynaert-stilllife-vernissage/
LOCATION:Galerie St-Laurent + Hill\, 293 Dalhousie St\, Ottawa\, ON\, K1N 7E5\, Canada
CATEGORIES:Vernissage
ATTACH;FMTTYPE=image/jpeg:https://artinottawa.org/wp-content/uploads/2026/04/Terry-Brynaert.jpg
ORGANIZER;CN="Galerie St-Laurent + Hill":MAILTO:info@galeriestlaurentplushill.com
END:VEVENT
BEGIN:VEVENT
DTSTART;TZID=America/Toronto:20260411T150000
DTEND;TZID=America/Toronto:20260411T170000
DTSTAMP:20260425T073538
CREATED:20260405T150931Z
LAST-MODIFIED:20260405T150931Z
UID:4538-1775919600-1775926800@artinottawa.org
SUMMARY:WALL SPACE GALLERY - Vernissage
DESCRIPTION:Nicole Allen | From the ground up\nKaitlin Johnson | Falling Back Into Bloom\nCrystal Beshara | WILD HEART Tapestries: Portraits from the Forest & Garden \nExhibition Dates: April 11 – 25\nVernissage: Saturday\, April 11 at 3 – 5 PM
URL:https://artinottawa.org/event/wall-space-gallery-vernissage/
LOCATION:Wall Space Gallery\, 1090 Bank St\, Ottawa\, ON\, K1S 3X5\, Canada
CATEGORIES:Vernissage
ATTACH;FMTTYPE=image/jpeg:https://artinottawa.org/wp-content/uploads/2026/04/WSG-Vernissage.jpg
END:VEVENT
BEGIN:VEVENT
DTSTART;TZID=America/Toronto:20260425T130000
DTEND;TZID=America/Toronto:20260425T160000
DTSTAMP:20260425T073538
CREATED:20260421T150533Z
LAST-MODIFIED:20260421T150533Z
UID:4593-1777122000-1777132800@artinottawa.org
SUMMARY:Farther Afield - Vernissage
DESCRIPTION:The Kanata Civic Art Gallery is pleased to invite you to a special off-site exhibition\, “Farther Afield”\, opening this Saturday\, April 25th\, at the Carleton Place Gallery.\nThis time\, we’re taking things a little farther afield. For this exhibition\, 29 artists are stepping outside our usual Kanata home and bringing their work to the Carleton Place Gallery. This is a chance to discover a wide range of local art in a fresh setting. \nThe exhibition features a diverse range of work\, including painting\, fibre art\, sculpture\, photography\, and mixed media\, reflecting the breadth of our artists’ practices.\n\nMake an afternoon of it: visit the gallery\, meet the artists\, and enjoy the charm of Carleton Place along the way.\n\nExhibition Dates: April 25 – May 15\, 2026\n\nJoin us for the Vernissage: Saturday\, April 25\, 2026\, 1:00 – 4:00 PM \n\nMeet the artists\, enjoy light refreshments\, and be part of the energy of opening day.\n\nCarleton Place Gallery\n210 Bridge St\nCarleton Place\, ON\nhttps://www.cpgallery.ca/ \nGallery Hours: \nWednesday – Sunday 10:00 AM – 5:00 PM\n(Closed Monday and Tuesday)
URL:https://artinottawa.org/event/farther-afield-vernissage/
LOCATION:Carleton Place Gallery\, 210 Bridge St\, Carleton Place\, ON\, K7C 3G9\, Canada
CATEGORIES:Vernissage
ATTACH;FMTTYPE=image/jpeg:https://artinottawa.org/wp-content/uploads/2026/04/Kanata-CAG.jpg
END:VEVENT
BEGIN:VEVENT
DTSTART;TZID=America/Toronto:20260503T123000
DTEND;TZID=America/Toronto:20260503T153000
DTSTAMP:20260425T073538
CREATED:20260413T221042Z
LAST-MODIFIED:20260413T221042Z
UID:4574-1777811400-1777822200@artinottawa.org
SUMMARY:The Fourth Annual West End Sculpture Show - Vernissage
DESCRIPTION:The Fourth Annual West End Sculpture Show runs from April 28 through to May 10 at the Kanata Civic Art Gallery (John G. Mlacak Centre\, 2500 Campeau Dr\, Kanata). This is a juried exhibition showcasing contemporary sculpture in stone\, metal\, wood\, and mixed media made by sculptors from across the National Capital Region. Free and open to the public. \nThe public is also invited to meet all of the exhibiting artists at Vernissage on Sunday\, May 3rd (12:30-3:30 pm) \nAbout NCNS: The National Capital Network of Sculptors is a non-profit dedicated to increasing awareness and appreciation for the sculptural arts in the National Capital region. Members include both professional and talented emerging artists.
URL:https://artinottawa.org/event/the-fourth-annual-west-end-sculpture-show-vernissage/
LOCATION:Kanata Civic Art Gallery\, 2500 Campeau Drive\, Kanata\, ON\, K2K 2W3\, Canada
CATEGORIES:Vernissage
ATTACH;FMTTYPE=image/jpeg:https://artinottawa.org/wp-content/uploads/2026/04/West-End-Sculpture-Art-Show.jpg
END:VEVENT
END:VCALENDAR