BEGIN:VCALENDAR
VERSION:2.0
PRODID:-//Art In Ottawa - ECPv6.15.20//NONSGML v1.0//EN
CALSCALE:GREGORIAN
METHOD:PUBLISH
X-ORIGINAL-URL:https://artinottawa.org
X-WR-CALDESC:Events for Art In Ottawa
REFRESH-INTERVAL;VALUE=DURATION:PT1H
X-Robots-Tag:noindex
X-PUBLISHED-TTL:PT1H
BEGIN:VTIMEZONE
TZID:America/Toronto
BEGIN:DAYLIGHT
TZOFFSETFROM:-0500
TZOFFSETTO:-0400
TZNAME:EDT
DTSTART:20250309T070000
END:DAYLIGHT
BEGIN:STANDARD
TZOFFSETFROM:-0400
TZOFFSETTO:-0500
TZNAME:EST
DTSTART:20251102T060000
END:STANDARD
BEGIN:DAYLIGHT
TZOFFSETFROM:-0500
TZOFFSETTO:-0400
TZNAME:EDT
DTSTART:20260308T070000
END:DAYLIGHT
BEGIN:STANDARD
TZOFFSETFROM:-0400
TZOFFSETTO:-0500
TZNAME:EST
DTSTART:20261101T060000
END:STANDARD
BEGIN:DAYLIGHT
TZOFFSETFROM:-0500
TZOFFSETTO:-0400
TZNAME:EDT
DTSTART:20270314T070000
END:DAYLIGHT
BEGIN:STANDARD
TZOFFSETFROM:-0400
TZOFFSETTO:-0500
TZNAME:EST
DTSTART:20271107T060000
END:STANDARD
END:VTIMEZONE
BEGIN:VEVENT
DTSTART;TZID=America/Toronto:20260410T190000
DTEND;TZID=America/Toronto:20260410T210000
DTSTAMP:20260425T071815
CREATED:20260405T153245Z
LAST-MODIFIED:20260405T153245Z
UID:4552-1775847600-1775854800@artinottawa.org
SUMMARY:Grand Nord\, Valérian Mazataud - Vernissage
DESCRIPTION:Le photographe Valérian Mazataud a recréé\, avec des citoyens de son quartier de Montréal-Nord\, des scènes de la vie quotidienne d’autrefois. Il a fouillé des archives photographiques et des albums de famille pour ensuite\, lors d’ateliers\, reconstituer ces photos en imaginant un univers à la croisée des époques et des cultures. \nPrès d’une centaine de participants – originaires du Québec\, d’Haïti\, du Salvador ou de la Turquie – ont contribué à ce processus de co-création. Il en résulte une série de diptyques où passé et présent se répondent\, révélant autant l’évolution du Québec urbain que le regard des nouveaux arrivants sur leur société d’accueil. \nNous vous invitons en grand nombre au vernissage de l’exposition qui aura lieu le vendredi\, 10 avril 2026\, de 19 h à 21 h. L’entrée est libre et gratuite.
URL:https://artinottawa.org/event/grand-nord-valerian-mazataud-vernissage/
LOCATION:Galerie Montcalm\, 25 Laurier St\, Gatineau\, Quebec\, J8X 3Y9\, Canada
CATEGORIES:Vernissage
ATTACH;FMTTYPE=image/jpeg:https://artinottawa.org/wp-content/uploads/2026/04/Grand-Nord-2.jpg
END:VEVENT
BEGIN:VEVENT
DTSTART;TZID=America/Toronto:20260411T130000
DTEND;TZID=America/Toronto:20260411T160000
DTSTAMP:20260425T071815
CREATED:20260405T150013Z
LAST-MODIFIED:20260405T150013Z
UID:4526-1775912400-1775923200@artinottawa.org
SUMMARY:Slip Terrace by Andrew Rucklidge - Vernissage
DESCRIPTION:Galerie Old Chelsea is thrilled to present a series of new paintings by Andrew Rucklidge\, an internationally recognized artist now living in Chelsea.  The exhibition captures the invisible yet deeply familiar forces that shape the earth over time as Rucklidge draws on processes such as erosion\, sedimentation\, metamorphism\, volcanic eruptions\, exposed faults\, and slipping terraces. \nAndrew Rucklidge’s practice is rooted in an exploration of the planet’s internal gestures—subtle\, powerful movements translated into paint through a deeply material and process-driven approach. Working with ancient and traditional media including egg tempera\, distemper\, watercolour\, handmade inks\, encaustic\, and sun-thickened linseed oil\, he constructs surfaces that echo the layered complexity of geological formations.
URL:https://artinottawa.org/event/slip-terrace-by-andrew-rucklidge-vernissage/
LOCATION:Galerie Old Chelsea\, 783 Route 105\, Chelsea\, QC\, J9B 1P1\, Canada
CATEGORIES:Vernissage
ATTACH;FMTTYPE=image/jpeg:https://artinottawa.org/wp-content/uploads/2026/04/Slip-Terrace.jpg
END:VEVENT
BEGIN:VEVENT
DTSTART;TZID=America/Toronto:20260411T140000
DTEND;TZID=America/Toronto:20260411T170000
DTSTAMP:20260425T071815
CREATED:20260405T152145Z
LAST-MODIFIED:20260405T152145Z
UID:4544-1775916000-1775926800@artinottawa.org
SUMMARY:Terry Brynaert still*life - Vernissage
DESCRIPTION:Still*life is not a meditation on fruit bowls or porcelain vases; it proposes a dialogue between breath and silence\, between the pulse of existence and the hush of its surroundings. These paintings have emerged from the experience of living surrounded by nature—a life steeped in forests\, rivers\, and the quiet choreography of seasons. They are offered as invitations to pause\, to inhabit the stillness that nature offers without demanding\, and to recognize that stillness is never empty; it hums with life. \nFrom a distance\, the works may appear akin to realism\, as if reality itself were gently lifted from the forest floor and pinned to canvas. Yet\, as the viewer approaches\, the illusion fractures. What may have appeared serene reveals a riot of detail—brushstrokes that mimic the chaos of wind‑tossed leaves\, textures that echo the restless industry of bees buzzing about. This duality mirrors the experience of walking in the woods: the grandeur of treetops overhead\, and\, at your feet\, a single ant bearing the improbable weight of a pine needle. Stillness\, here\, is not stasis; it is a layered complexity\, a quiet teeming. \nIt is from this layered\, breathing stillness of the natural world that the studio’s own quiet emerges. In the act of painting\, thought slows to a near‑motionless drift\, settling into a trance‑like\, empty‑headed calm. The studio becomes a kind of interior forest—silent\, attentive\, stripped of urgency—where gesture arises without strain and decisions surface from a place beneath language. This meditative quiet is not separate from nature but echoes it\, becoming another form of listening. \nImmersion in nature is not an escape but a return. Silence is not absence\, but presence amplified. Each painting becomes a vessel for this paradox—where calm and vitality coexist\, where the infinite and the infinitesimal converse in colour and form. \nIn still*life\, the viewer is invited to slow down\, to look twice\, to surrender to the tension between order and disorder. These works are not so much representations; they are translations of experience\, carrying the scent of pine\, the flicker of shadow\, the pulse of unseen lives. They strive to remind that stillness is not the opposite of life—it is its most profound articulation.
URL:https://artinottawa.org/event/terry-brynaert-stilllife-vernissage/
LOCATION:Galerie St-Laurent + Hill\, 293 Dalhousie St\, Ottawa\, ON\, K1N 7E5\, Canada
CATEGORIES:Vernissage
ATTACH;FMTTYPE=image/jpeg:https://artinottawa.org/wp-content/uploads/2026/04/Terry-Brynaert.jpg
ORGANIZER;CN="Galerie St-Laurent + Hill":MAILTO:info@galeriestlaurentplushill.com
END:VEVENT
BEGIN:VEVENT
DTSTART;TZID=America/Toronto:20260411T150000
DTEND;TZID=America/Toronto:20260411T170000
DTSTAMP:20260425T071815
CREATED:20260405T150931Z
LAST-MODIFIED:20260405T150931Z
UID:4538-1775919600-1775926800@artinottawa.org
SUMMARY:WALL SPACE GALLERY - Vernissage
DESCRIPTION:Nicole Allen | From the ground up\nKaitlin Johnson | Falling Back Into Bloom\nCrystal Beshara | WILD HEART Tapestries: Portraits from the Forest & Garden \nExhibition Dates: April 11 – 25\nVernissage: Saturday\, April 11 at 3 – 5 PM
URL:https://artinottawa.org/event/wall-space-gallery-vernissage/
LOCATION:Wall Space Gallery\, 1090 Bank St\, Ottawa\, ON\, K1S 3X5\, Canada
CATEGORIES:Vernissage
ATTACH;FMTTYPE=image/jpeg:https://artinottawa.org/wp-content/uploads/2026/04/WSG-Vernissage.jpg
END:VEVENT
BEGIN:VEVENT
DTSTART;TZID=America/Toronto:20260425T130000
DTEND;TZID=America/Toronto:20260425T160000
DTSTAMP:20260425T071815
CREATED:20260421T150533Z
LAST-MODIFIED:20260421T150533Z
UID:4593-1777122000-1777132800@artinottawa.org
SUMMARY:Farther Afield - Vernissage
DESCRIPTION:The Kanata Civic Art Gallery is pleased to invite you to a special off-site exhibition\, “Farther Afield”\, opening this Saturday\, April 25th\, at the Carleton Place Gallery.\nThis time\, we’re taking things a little farther afield. For this exhibition\, 29 artists are stepping outside our usual Kanata home and bringing their work to the Carleton Place Gallery. This is a chance to discover a wide range of local art in a fresh setting. \nThe exhibition features a diverse range of work\, including painting\, fibre art\, sculpture\, photography\, and mixed media\, reflecting the breadth of our artists’ practices.\n\nMake an afternoon of it: visit the gallery\, meet the artists\, and enjoy the charm of Carleton Place along the way.\n\nExhibition Dates: April 25 – May 15\, 2026\n\nJoin us for the Vernissage: Saturday\, April 25\, 2026\, 1:00 – 4:00 PM \n\nMeet the artists\, enjoy light refreshments\, and be part of the energy of opening day.\n\nCarleton Place Gallery\n210 Bridge St\nCarleton Place\, ON\nhttps://www.cpgallery.ca/ \nGallery Hours: \nWednesday – Sunday 10:00 AM – 5:00 PM\n(Closed Monday and Tuesday)
URL:https://artinottawa.org/event/farther-afield-vernissage/
LOCATION:Carleton Place Gallery\, 210 Bridge St\, Carleton Place\, ON\, K7C 3G9\, Canada
CATEGORIES:Vernissage
ATTACH;FMTTYPE=image/jpeg:https://artinottawa.org/wp-content/uploads/2026/04/Kanata-CAG.jpg
END:VEVENT
BEGIN:VEVENT
DTSTART;TZID=America/Toronto:20260503T123000
DTEND;TZID=America/Toronto:20260503T153000
DTSTAMP:20260425T071815
CREATED:20260413T221042Z
LAST-MODIFIED:20260413T221042Z
UID:4574-1777811400-1777822200@artinottawa.org
SUMMARY:The Fourth Annual West End Sculpture Show - Vernissage
DESCRIPTION:The Fourth Annual West End Sculpture Show runs from April 28 through to May 10 at the Kanata Civic Art Gallery (John G. Mlacak Centre\, 2500 Campeau Dr\, Kanata). This is a juried exhibition showcasing contemporary sculpture in stone\, metal\, wood\, and mixed media made by sculptors from across the National Capital Region. Free and open to the public. \nThe public is also invited to meet all of the exhibiting artists at Vernissage on Sunday\, May 3rd (12:30-3:30 pm) \nAbout NCNS: The National Capital Network of Sculptors is a non-profit dedicated to increasing awareness and appreciation for the sculptural arts in the National Capital region. Members include both professional and talented emerging artists.
URL:https://artinottawa.org/event/the-fourth-annual-west-end-sculpture-show-vernissage/
LOCATION:Kanata Civic Art Gallery\, 2500 Campeau Drive\, Kanata\, ON\, K2K 2W3\, Canada
CATEGORIES:Vernissage
ATTACH;FMTTYPE=image/jpeg:https://artinottawa.org/wp-content/uploads/2026/04/West-End-Sculpture-Art-Show.jpg
END:VEVENT
END:VCALENDAR