BEGIN:VCALENDAR
VERSION:2.0
PRODID:-//Art In Ottawa - ECPv6.15.20//NONSGML v1.0//EN
CALSCALE:GREGORIAN
METHOD:PUBLISH
X-WR-CALNAME:Art In Ottawa
X-ORIGINAL-URL:https://artinottawa.org
X-WR-CALDESC:Events for Art In Ottawa
REFRESH-INTERVAL;VALUE=DURATION:PT1H
X-Robots-Tag:noindex
X-PUBLISHED-TTL:PT1H
BEGIN:VTIMEZONE
TZID:America/Toronto
BEGIN:DAYLIGHT
TZOFFSETFROM:-0500
TZOFFSETTO:-0400
TZNAME:EDT
DTSTART:20250309T070000
END:DAYLIGHT
BEGIN:STANDARD
TZOFFSETFROM:-0400
TZOFFSETTO:-0500
TZNAME:EST
DTSTART:20251102T060000
END:STANDARD
BEGIN:DAYLIGHT
TZOFFSETFROM:-0500
TZOFFSETTO:-0400
TZNAME:EDT
DTSTART:20260308T070000
END:DAYLIGHT
BEGIN:STANDARD
TZOFFSETFROM:-0400
TZOFFSETTO:-0500
TZNAME:EST
DTSTART:20261101T060000
END:STANDARD
BEGIN:DAYLIGHT
TZOFFSETFROM:-0500
TZOFFSETTO:-0400
TZNAME:EDT
DTSTART:20270314T070000
END:DAYLIGHT
BEGIN:STANDARD
TZOFFSETFROM:-0400
TZOFFSETTO:-0500
TZNAME:EST
DTSTART:20271107T060000
END:STANDARD
END:VTIMEZONE
BEGIN:VEVENT
DTSTART;VALUE=DATE:20260410
DTEND;VALUE=DATE:20260608
DTSTAMP:20260423T200856
CREATED:20260405T153052Z
LAST-MODIFIED:20260405T153052Z
UID:4549-1775779200-1780876799@artinottawa.org
SUMMARY:Grand Nord - Valérian Mazataud
DESCRIPTION:Le photographe Valérian Mazataud a recréé\, avec des citoyens de son quartier de Montréal-Nord\, des scènes de la vie quotidienne d’autrefois. Il a fouillé des archives photographiques et des albums de famille pour ensuite\, lors d’ateliers\, reconstituer ces photos en imaginant un univers à la croisée des époques et des cultures. \nPrès d’une centaine de participants – originaires du Québec\, d’Haïti\, du Salvador ou de la Turquie – ont contribué à ce processus de co-création. Il en résulte une série de diptyques où passé et présent se répondent\, révélant autant l’évolution du Québec urbain que le regard des nouveaux arrivants sur leur société d’accueil. \nNous vous invitons en grand nombre au vernissage de l’exposition qui aura lieu le vendredi\, 10 avril 2026\, de 19 h à 21 h. L’entrée est libre et gratuite.
URL:https://artinottawa.org/event/grand-nord-valerian-mazataud/
LOCATION:Galerie Montcalm\, 25 Laurier St\, Gatineau\, Quebec\, J8X 3Y9\, Canada
CATEGORIES:Art Exhibition
ATTACH;FMTTYPE=image/jpeg:https://artinottawa.org/wp-content/uploads/2026/04/Grand-Nord.jpg
END:VEVENT
BEGIN:VEVENT
DTSTART;VALUE=DATE:20260606
DTEND;VALUE=DATE:20260608
DTSTAMP:20260423T200856
CREATED:20260203T233844Z
LAST-MODIFIED:20260203T233844Z
UID:4265-1780704000-1780876799@artinottawa.org
SUMMARY:2026 Spring Red Trillium Studio Tour
DESCRIPTION:The Red Trillium Studio Tour was started by a group of talented local Artists & Fine Craftspeople\, all working alone in their Rural Studios\, who wanted to collectively share and bring awareness to the Art & Fine Craft in their community. \nWhen you visit our Artists in their Studios\, you are welcomed into their private worlds where they create their honest\, authentic and original works.\nThese are very special places where raw materials are transformed into original creations by the use of learned experiences\, specialized tools\, practices & techniques (old & new) of Craft & Art. \nYou will find exceptional Guest Artists at many of the locations too.
URL:https://artinottawa.org/event/2026-spring-red-trillium-studio-tour/
LOCATION:Red Trillium Studio Tour\, Canada
CATEGORIES:Tour
ATTACH;FMTTYPE=image/jpeg:https://artinottawa.org/wp-content/uploads/2026/02/Red-Trillium-Studio-Tour.jpg
END:VEVENT
END:VCALENDAR