BEGIN:VCALENDAR
VERSION:2.0
PRODID:-//Art In Ottawa - ECPv6.15.20//NONSGML v1.0//EN
CALSCALE:GREGORIAN
METHOD:PUBLISH
X-WR-CALNAME:Art In Ottawa
X-ORIGINAL-URL:https://artinottawa.org
X-WR-CALDESC:Events for Art In Ottawa
REFRESH-INTERVAL;VALUE=DURATION:PT1H
X-Robots-Tag:noindex
X-PUBLISHED-TTL:PT1H
BEGIN:VTIMEZONE
TZID:America/Toronto
BEGIN:DAYLIGHT
TZOFFSETFROM:-0500
TZOFFSETTO:-0400
TZNAME:EDT
DTSTART:20250309T070000
END:DAYLIGHT
BEGIN:STANDARD
TZOFFSETFROM:-0400
TZOFFSETTO:-0500
TZNAME:EST
DTSTART:20251102T060000
END:STANDARD
BEGIN:DAYLIGHT
TZOFFSETFROM:-0500
TZOFFSETTO:-0400
TZNAME:EDT
DTSTART:20260308T070000
END:DAYLIGHT
BEGIN:STANDARD
TZOFFSETFROM:-0400
TZOFFSETTO:-0500
TZNAME:EST
DTSTART:20261101T060000
END:STANDARD
BEGIN:DAYLIGHT
TZOFFSETFROM:-0500
TZOFFSETTO:-0400
TZNAME:EDT
DTSTART:20270314T070000
END:DAYLIGHT
BEGIN:STANDARD
TZOFFSETFROM:-0400
TZOFFSETTO:-0500
TZNAME:EST
DTSTART:20271107T060000
END:STANDARD
END:VTIMEZONE
BEGIN:VEVENT
DTSTART;TZID=America/Toronto:20260509T100000
DTEND;TZID=America/Toronto:20260509T160000
DTSTAMP:20260424T102223
CREATED:20260216T021522Z
LAST-MODIFIED:20260216T021522Z
UID:4297-1778320800-1778342400@artinottawa.org
SUMMARY:Fifth Annual Spring Art Festival
DESCRIPTION:Join us for the 5th Annual Spring Art Festival\, a one-day celebration of original art created by Ottawa–Gatineau artists\, and set in a covered open-air venue at the Jim Tubman Chevrolet Rink. \n\n\n\n\n\n\n\n\n\n\n\n\n\n\n\n\n\n\n\n\nBrowse exceptional artwork\, enjoy live music throughout the day\, and grab something delicious from local food trucks. It’s a relaxed\, welcoming atmosphere where creativity meets community. \n\n\n\n\n\n\n\n\n\n\nSaturday\, May 9\, 2026\n\n\n\n\n\n\n\n\n\n\n\n\n\n\n\n\n\n\n\n\n\n10:00 a.m. –  4:00 p.m.\nJim Tubman Chevrolet Rink (JTC Sens Rink)\, Ottawa\, Ontario\nFree admission\nFully accessible\nFree parking\nFamily-friendly
URL:https://artinottawa.org/event/fifth-annual-spring-art-festival/
LOCATION:Canterbury Recreation Complex\, 2185 Arch St\, Ottawa\, ON\, K1G 2H5\, Canada
CATEGORIES:Art Show
ATTACH;FMTTYPE=image/jpeg:https://artinottawa.org/wp-content/uploads/2026/02/Fifth-Spring-Festival.jpg
END:VEVENT
BEGIN:VEVENT
DTSTART;VALUE=DATE:20260524
DTEND;VALUE=DATE:20260525
DTSTAMP:20260424T102223
CREATED:20260413T221440Z
LAST-MODIFIED:20260413T221440Z
UID:4576-1779580800-1779667199@artinottawa.org
SUMMARY:Nature Sous Tension
DESCRIPTION:Nature sous tension explore le fragile équilibre entre la beauté du monde naturel et les pressions silencieuses qu’il subit. À travers une série de gravures au burin – sur plexiglass\, imprimées comme des gravures sur bois\, et sur cuivre en intaglio – se dessinent des paysages d’apparence intacte\, mais subtilement altérés. \nDes virus\, des masques\, des déchets s’y glissent discrètement\, signes d’une intrusion humaine insidieuse. Ces éléments\, presque invisibles au premier regard\, rappellent que même la nature la plus préservée reste vulnérable aux blessures infligées par l’activité humaine.
URL:https://artinottawa.org/event/nature-sous-tension/
LOCATION:Espace Pierre-Debain\, 120 Principale St\, Gatineau\, QC\, J9H 3M3\, Canada
CATEGORIES:Art Exhibition
ATTACH;FMTTYPE=image/jpeg:https://artinottawa.org/wp-content/uploads/2026/04/Nature-sous-tension.jpg
END:VEVENT
BEGIN:VEVENT
DTSTART;VALUE=DATE:20260606
DTEND;VALUE=DATE:20260608
DTSTAMP:20260424T102223
CREATED:20260203T233844Z
LAST-MODIFIED:20260203T233844Z
UID:4265-1780704000-1780876799@artinottawa.org
SUMMARY:2026 Spring Red Trillium Studio Tour
DESCRIPTION:The Red Trillium Studio Tour was started by a group of talented local Artists & Fine Craftspeople\, all working alone in their Rural Studios\, who wanted to collectively share and bring awareness to the Art & Fine Craft in their community. \nWhen you visit our Artists in their Studios\, you are welcomed into their private worlds where they create their honest\, authentic and original works.\nThese are very special places where raw materials are transformed into original creations by the use of learned experiences\, specialized tools\, practices & techniques (old & new) of Craft & Art. \nYou will find exceptional Guest Artists at many of the locations too.
URL:https://artinottawa.org/event/2026-spring-red-trillium-studio-tour/
LOCATION:Red Trillium Studio Tour\, Canada
CATEGORIES:Tour
ATTACH;FMTTYPE=image/jpeg:https://artinottawa.org/wp-content/uploads/2026/02/Red-Trillium-Studio-Tour.jpg
END:VEVENT
END:VCALENDAR